{"text_format":"1","workbook":"xlsx","n_sheets":3,"sheets":["Input","PeeryMethod1","PeeryMethod2"],"not_rendered":{"charts":1,"images":0,"macros":1,"external_links":1,"defined_names":5,"comments":0,"pivot_tables":0},"unopened":[],"bounds":{"document_bytes":16777216,"sheet_cells":100000,"rows_first":2000,"rows_last":500,"rows_between":2000,"halvings":0,"cell_chars":16384,"cell_head_chars":4096},"cells_cut":0,"cells_raw":0,"read":"whole","date_system":"1900"}

{"sheet":"Input","index":0,"n_rows":25,"n_cols":9,"rows_kept":25,"cut":false,"hidden":false,"merged":[]}
[]
[]
[]
[null,null,null,"Cable EcAc =",{"$f":"0.305*20000000","v":6100000},"ton"]
[]
[null,null,null,"Span","Center","Side"]
[null,null,null,"Cable Span =",808,334,"m"]
[null,null,null,"Girder L =",800,320,"m"]
[null,null,null,"Dead Load w =",11.99,{"$f":"+E9","v":11.99},"t/m"]
[null,null,null,"Live Load p =",2.4,2.4,"t/m"]
[null,null,null,"Girder EI =",34650000,27300000,"t-m^2"]
[null,null,null,"f =",73,{"$f":"+(F9*F8^2)/(E9*E8^2)*E12","v":11.68},"m"]
[null,null,null,"n =",{"$f":"+E12/E8","v":9.1249999999999998E-2},{"$f":"+F12/F8","v":3.6499999999999998E-2}]
[null,null,null,"L/f =",{"$f":"1/E13","v":10.95890410958904},{"$f":"1/F13","v":27.397260273972606}]
[null,null,null,"ε =",1.2E-5,"/°C"]
[null,null,null,"t rise =",30,"°C"]
[null,null,null,"t drop =",-30,"°C"]
[]
[null,null,null,"cable top to saddle =",86.124814814814812,"m"]
[]
[null,null,null,null,"Main","Side Top","Side","Side Bot","Anchor"]
[null,null,null,"b or L(m)",{"$f":"+(E7-E8)/2","v":4},{"$f":"+F7-(F8+H22)","v":4},null,10,10]
[null,null,null,"h1(m)",{"$f":"+(E19*F8-4*F22*F12+4*H22*F12)/(F22+F8+H22)","v":83.354074074074077}]
[null,null,null,"tanα",{"$f":"4*E12/E8","v":0.36499999999999999},{"$f":"+(E23+4*F12)/F8","v":0.4064814814814815},{"$f":"+E23/F8","v":0.26048148148148148},{"$f":"+(E23-4*F12)/F8","v":0.11448148148148149}]
[null,null,null,"secα",{"$f":"+SQRT(1+E24^2)","v":1.0645304129051456},{"$f":"+SQRT(1+F24^2)","v":1.0794568980683665},{"$f":"+SQRT(1+G24^2)","v":1.0333685703536697},{"$f":"+SQRT(1+H24^2)","v":1.00653167342225},{"$f":"+SQRT(2)","v":1.4142135623730951}]

{"sheet":"PeeryMethod1","index":1,"n_rows":176,"n_cols":77,"rows_kept":176,"cut":false,"hidden":true,"merged":[[72,2,82,2],[29,3,29,4],[30,3,30,4],[31,3,31,4],[32,3,32,4],[33,3,33,4],[62,2,68,2],[28,3,28,4],[3,14,6,14],[7,14,10,14],[11,14,14,14],[25,3,26,4],[27,3,27,4]]}
[]
[]
[null,null,null,"Cable EcAc =",{"$f":"+Input!E4","v":6100000},"ton",null,null,null,null,null,null,null,null,null,"x/L",0,0.1,{"$f":"+R3+0.1","v":0.2},{"$f":"+S3+0.1","v":0.30000000000000004},{"$f":"+T3+0.1","v":0.4},{"$f":"+U3+0.1","v":0.5},0,{"$f":"+R3","v":0.1},{"$f":"+S3","v":0.2},{"$f":"+T3","v":0.30000000000000004},{"$f":"+U3","v":0.4},{"$f":"+V3","v":0.5}]
[null,null,null,null,null,null,null,null,null,null,null,null,null,null,"Hmin","Mmax",0,{"$f":"+PeeryMethod1!M97","v":2573.0280205926178},{"$f":"+PeeryMethod1!T97","v":3836.012367362101},{"$f":"+PeeryMethod1!AA97","v":4449.3386264097135},{"$f":"+PeeryMethod1!AH97","v":4724.5188476750254},{"$f":"+PeeryMethod1!AO97","v":4802.8410523733155},0,{"$f":"+PeeryMethod1!AV97","v":4342.2032205294499},{"$f":"+PeeryMethod1!BC97","v":4752.9202585203011},{"$f":"+PeeryMethod1!BJ97","v":4293.9746400970962},{"$f":"+PeeryMethod1!BQ97","v":3957.698212506411},{"$f":"+PeeryMethod1!BX97","v":3891.3349495812645}]
[null,null,null,"Span","Center","Side",null,null,null,null,null,null,null,null,null,"H(Mmax)",0,{"$f":"+PeeryMethod1!M101","v":-75.678717690997601},{"$f":"+PeeryMethod1!T101","v":-63.881070327371603},{"$f":"+PeeryMethod1!AA101","v":-63.881070327371603},{"$f":"+PeeryMethod1!AH101","v":-63.881070327371603},{"$f":"+PeeryMethod1!AO101","v":-63.881070327371603},0,{"$f":"+PeeryMethod1!AV101","v":278.53343583355149},{"$f":"+PeeryMethod1!BC101","v":278.53343583355149},{"$f":"+PeeryMethod1!BJ101","v":517.06151618674301},{"$f":"+PeeryMethod1!BQ101","v":436.38015517299129},{"$f":"+PeeryMethod1!BX101","v":463.46788819583765}]
[null,null,null,"Cable Span =",{"$f":"+Input!E7","v":808},{"$f":"+Input!F7","v":334},"m",null,null,null,null,null,null,null,null,"Mmin",0,{"$f":"+PeeryMethod1!M98","v":-2355.4140740183047},{"$f":"+PeeryMethod1!T98","v":-3511.1530787631191},{"$f":"+PeeryMethod1!AA98","v":-4072.5387513078012},{"$f":"+PeeryMethod1!AH98","v":-4324.4148634212825},{"$f":"+PeeryMethod1!AO98","v":-4396.104217840907},0,{"$f":"+PeeryMethod1!AV98","v":-3899.6768218389766},{"$f":"+PeeryMethod1!BC98","v":-4217.2065581359557},{"$f":"+PeeryMethod1!BJ98","v":-3738.6449601574445},{"$f":"+PeeryMethod1!BQ98","v":-3398.2746030356398},{"$f":"+PeeryMethod1!BX98","v":-3331.2243567570235}]
[null,null,null,"Girder L =",{"$f":"+Input!E8","v":800},{"$f":"+Input!F8","v":320},"m",null,null,null,null,null,null,null,null,"H(Mmin)",0,{"$f":"+PeeryMethod1!M102","v":2477.8682724394971},{"$f":"+PeeryMethod1!T102","v":2466.0706250758712},{"$f":"+PeeryMethod1!AA102","v":2466.0706250758712},{"$f":"+PeeryMethod1!AH102","v":2466.0706250758712},{"$f":"+PeeryMethod1!AO102","v":2466.0706250758712},0,{"$f":"+PeeryMethod1!AV102","v":2123.6561189149479},{"$f":"+PeeryMethod1!BC102","v":2123.6561189149479},{"$f":"+PeeryMethod1!BJ102","v":1885.1280385617563},{"$f":"+PeeryMethod1!BQ102","v":1965.8093995755082},{"$f":"+PeeryMethod1!BX102","v":1938.7216665526619}]
[null,null,null,"Dead Load w =",{"$f":"+Input!E9","v":11.99},{"$f":"+Input!F9","v":11.99},"t/m",null,null,null,null,null,null,null,"Hmax","Mmax",0,{"$f":"+PeeryMethod2!M97","v":2318.5770425650821},{"$f":"+PeeryMethod2!T97","v":3380.8699690457156},{"$f":"+PeeryMethod2!AA97","v":3865.4246755300719},{"$f":"+PeeryMethod2!AH97","v":4073.2985066726155},{"$f":"+PeeryMethod2!AO97","v":4130.7315893024088},0,{"$f":"+PeeryMethod2!AV97","v":3867.9647759633895},{"$f":"+PeeryMethod2!BC97","v":4178.334057737482},{"$f":"+PeeryMethod2!BJ97","v":3782.4145096570896},{"$f":"+PeeryMethod2!BQ97","v":3546.7699500432022},{"$f":"+PeeryMethod2!BX97","v":3493.0730836500052}]
[null,null,null,"Live Load p =",{"$f":"+Input!E10","v":2.4},{"$f":"+Input!F10","v":2.4},"t/m",null,null,null,null,null,null,null,null,"H(Mmax)",0,{"$f":"+PeeryMethod2!M101","v":-119.38455162353546},{"$f":"+PeeryMethod2!T101","v":-106.01138063987763},{"$f":"+PeeryMethod2!AA101","v":-94.139502180865634},{"$f":"+PeeryMethod2!AH101","v":-94.139502180865634},{"$f":"+PeeryMethod2!AO101","v":-94.139502180865634},0,{"$f":"+PeeryMethod2!AV101","v":2.2504828695398658},{"$f":"+PeeryMethod2!BC101","v":240.21550135372274},{"$f":"+PeeryMethod2!BJ101","v":473.96762401685334},{"$f":"+PeeryMethod2!BQ101","v":393.95063531971954},{"$f":"+PeeryMethod2!BX101","v":420.38640751901954}]
[null,null,null,"Girder EI =",{"$f":"+Input!E11","v":34650000},{"$f":"+Input!F11","v":27300000},"t-m^2",null,null,null,null,null,null,null,null,"Mmin",0,{"$f":"+PeeryMethod2!M98","v":-2092.7039223863512},{"$f":"+PeeryMethod2!T98","v":-3050.5871935188802},{"$f":"+PeeryMethod2!AA98","v":-3487.5234020535199},{"$f":"+PeeryMethod2!AH98","v":-3675.0745540326284},{"$f":"+PeeryMethod2!AO98","v":-3726.8927206086246},0,{"$f":"+PeeryMethod2!AV98","v":-3418.6720887434876},{"$f":"+PeeryMethod2!BC98","v":-3647.3128042521007},{"$f":"+PeeryMethod2!BJ98","v":-3236.529193389651},{"$f":"+PeeryMethod2!BQ98","v":-2998.1965096722993},{"$f":"+PeeryMethod2!BX98","v":-2944.0971841539763}]
[null,null,null,"f =",{"$f":"+Input!E12","v":73},{"$f":"+(F8*F7^2)/(E8*E7^2)*E11","v":11.68},"m",null,null,null,null,null,null,null,null,"H(Mmin)",0,{"$f":"+PeeryMethod2!M102","v":2483.4657450381815},{"$f":"+PeeryMethod2!T102","v":2470.0925740545235},{"$f":"+PeeryMethod2!AA102","v":2458.2206955955116},{"$f":"+PeeryMethod2!AH102","v":2458.2206955955116},{"$f":"+PeeryMethod2!AO102","v":2458.2206955955116},0,{"$f":"+PeeryMethod2!AV102","v":2361.8307105451058},{"$f":"+PeeryMethod2!BC102","v":2123.8656920609224},{"$f":"+PeeryMethod2!BJ102","v":1890.1135693977924},{"$f":"+PeeryMethod2!BQ102","v":1970.1305580949258},{"$f":"+PeeryMethod2!BX102","v":1943.6947858956264}]
[null,null,null,"n =",{"$f":"+E11/E7","v":9.1249999999999998E-2},{"$f":"+F11/F7","v":3.6499999999999998E-2},null,null,null,null,null,null,null,null,"Interpolated","Mmax",{"$f":"+Q4+(Q8-Q4)/PeeryMethod1!$E$51*Q13","v":0},{"$f":"+R4+(R8-R4)/PeeryMethod1!$E$51*R13","v":2580.3520636214121},{"$f":"+S4+(S8-S4)/PeeryMethod1!$E$51*S13","v":3847.0774025299511},{"$f":"+T4+(T8-T4)/PeeryMethod1!$E$51*T13","v":4463.5986739866603},{"$f":"+U4+(U8-U4)/PeeryMethod1!$E$51*U13","v":4740.4226174544265},{"$f":"+V4+(V8-V4)/PeeryMethod1!$E$51*V13","v":4819.2549655978055},{"$f":"+W4+(W8-W4)/PeeryMethod1!$E$51*W13","v":0},{"$f":"+X4+(X8-X4)/PeeryMethod1!$E$51*X13","v":4296.0464746277694},{"$f":"+Y4+(Y8-Y4)/PeeryMethod1!$E$51*Y13","v":4691.9249528365062},{"$f":"+Z4+(Z8-Z4)/PeeryMethod1!$E$51*Z13","v":4193.3479946676107},{"$f":"+AA4+(AA8-AA4)/PeeryMethod1!$E$51*AA13","v":3889.4620060130446},{"$f":"+AB4+(AB8-AB4)/PeeryMethod1!$E$51*AB13","v":3821.1143531392436}]
[null,null,null,"L/f =",{"$f":"1/E12","v":10.95890410958904},{"$f":"1/F12","v":27.397260273972606},null,null,null,null,null,null,null,null,null,"H(Mmax)",{"$f":"+PeeryMethod1!$E$51*Q5/(PeeryMethod1!$E$51-(Q9-Q5))","v":0},{"$f":"+PeeryMethod1!$E$51*R5/(PeeryMethod1!$E$51-(R9-R5))","v":-74.420701664442603},{"$f":"+PeeryMethod1!$E$51*S5/(PeeryMethod1!$E$51-(S9-S5))","v":-62.856834029094998},{"$f":"+PeeryMethod1!$E$51*T5/(PeeryMethod1!$E$51-(T9-T5))","v":-63.142114395278142},{"$f":"+PeeryMethod1!$E$51*U5/(PeeryMethod1!$E$51-(U9-U5))","v":-63.142114395278142},{"$f":"+PeeryMethod1!$E$51*V5/(PeeryMethod1!$E$51-(V9-V5))","v":-63.142114395278142},{"$f":"+PeeryMethod1!$E$51*W5/(PeeryMethod1!$E$51-(W9-W5))","v":0},{"$f":"+PeeryMethod1!$E$51*X5/(PeeryMethod1!$E$51-(X9-X5))","v":251.64332980557106},{"$f":"+PeeryMethod1!$E$51*Y5/(PeeryMethod1!$E$51-(Y9-Y5))","v":274.46578832725123},{"$f":"+PeeryMethod1!$E$51*Z5/(PeeryMethod1!$E$51-(Z9-Z5))","v":508.58471443945649},{"$f":"+PeeryMethod1!$E$51*AA5/(PeeryMethod1!$E$51-(AA9-AA5))","v":429.33457144806687},{"$f":"+PeeryMethod1!$E$51*AB5/(PeeryMethod1!$E$51-(AB9-AB5))","v":455.87186274746165}]
[null,null,null,"ε =",{"$f":"+Input!E15","v":1.2E-5},"/°C",null,null,null,null,null,null,null,null,null,"Mmin",{"$f":"+Q6+(Q10-Q6)/PeeryMethod1!$E$51*Q15","v":0},{"$f":"+R6+(R10-R6)/PeeryMethod1!$E$51*R15","v":-2103.0954480556993},{"$f":"+S6+(S10-S6)/PeeryMethod1!$E$51*S15","v":-3071.1797201207955},{"$f":"+T6+(T10-T6)/PeeryMethod1!$E$51*T15","v":-3516.2385702780816},{"$f":"+U6+(U10-U6)/PeeryMethod1!$E$51*U15","v":-3706.9470788182634},{"$f":"+V6+(V10-V6)/PeeryMethod1!$E$51*V15","v":-3759.740612113234},{"$f":"+W6+(W10-W6)/PeeryMethod1!$E$51*W15","v":0},{"$f":"+X6+(X10-X6)/PeeryMethod1!$E$51*X15","v":-3464.5082341679827},{"$f":"+Y6+(Y10-Y6)/PeeryMethod1!$E$51*Y15","v":-3749.0767491126112},{"$f":"+Z6+(Z10-Z6)/PeeryMethod1!$E$51*Z15","v":-3371.8393640743948},{"$f":"+AA6+(AA10-AA6)/PeeryMethod1!$E$51*AA15","v":-3093.5793957916121},{"$f":"+AB6+(AB10-AB6)/PeeryMethod1!$E$51*AB15","v":-3040.3815870429326}]
[null,null,null,"t rise =",{"$f":"+Input!E16","v":30},"°C",null,null,null,null,null,null,null,null,null,"H(Mmin)",{"$f":"+PeeryMethod1!$E$51*Q7/(PeeryMethod1!$E$51-(Q11-Q7))","v":0},{"$f":"+PeeryMethod1!$E$51*R7/(PeeryMethod1!$E$51-(R11-R7))","v":2483.2443364636315},{"$f":"+PeeryMethod1!$E$51*S7/(PeeryMethod1!$E$51-(S11-S7))","v":2469.9127472501773},{"$f":"+PeeryMethod1!$E$51*T7/(PeeryMethod1!$E$51-(T11-T7))","v":2458.6060052217749},{"$f":"+PeeryMethod1!$E$51*U7/(PeeryMethod1!$E$51-(U11-U7))","v":2458.6060052217749},{"$f":"+PeeryMethod1!$E$51*V7/(PeeryMethod1!$E$51-(V11-V7))","v":2458.6060052217749},{"$f":"+PeeryMethod1!$E$51*W7/(PeeryMethod1!$E$51-(W11-W7))","v":0},{"$f":"+PeeryMethod1!$E$51*X7/(PeeryMethod1!$E$51-(X11-X7))","v":2339.1344573333677},{"$f":"+PeeryMethod1!$E$51*Y7/(PeeryMethod1!$E$51-(Y11-Y7))","v":2123.828269313391},{"$f":"+PeeryMethod1!$E$51*Z7/(PeeryMethod1!$E$51-(Z11-Z7))","v":1888.7700684105189},{"$f":"+PeeryMethod1!$E$51*AA7/(PeeryMethod1!$E$51-(AA11-AA7))","v":1969.1003477989902},{"$f":"+PeeryMethod1!$E$51*AB7/(PeeryMethod1!$E$51-(AB11-AB7))","v":1942.4578956427072}]
[null,null,null,"t drop =",{"$f":"+Input!E17","v":-30},"°C"]
[]
[null,null,null,"cable top to saddle =",{"$f":"+Input!E19","v":86.124814814814812},"m"]
[]
[null,null,null,null,"Main","Side Top","Side","Side Bot","Anchor"]
[null,null,null,"b or L(m)",{"$f":"+(E6-E7)/2","v":4},{"$f":"+F6-(F7+H21)","v":4},null,{"$f":"+Input!H22","v":10},{"$f":"+Input!I22","v":10}]
[null,null,null,"h1(m)",{"$f":"+(E18*F7-4*F21*F11+4*H21*F11)/(F21+F7+H21)","v":83.354074074074077}]
[null,null,null,"tanα",{"$f":"4*E11/E7","v":0.36499999999999999},{"$f":"+(E22+4*F11)/F7","v":0.4064814814814815},{"$f":"+E22/F7","v":0.26048148148148148},{"$f":"+(E22-4*F11)/F7","v":0.11448148148148149}]
[null,null,null,"secα",{"$f":"+SQRT(1+E23^2)","v":1.0645304129051456},{"$f":"+SQRT(1+F23^2)","v":1.0794568980683665},{"$f":"+SQRT(1+G23^2)","v":1.0333685703536697},{"$f":"+SQRT(1+H23^2)","v":1.00653167342225},{"$f":"+Input!I25","v":1.4142135623730951}]
[]
[null,null,null,"Span",null,"L","n","n2","secα","sec2α","sec3α","LT","LS"]
[null,null,null,null,null,"(m)",null,null,null,null,null,"(m)","(m)"]
[null,null,null,"Anchor Span",null,{"$f":"+I21","v":10},0,{"$f":"+G28^2","v":0},{"$f":"+I24","v":1.4142135623730951},{"$f":"+I28^2","v":2.0000000000000004},{"$f":"+I28^3","v":2.8284271247461907},{"$f":"+F28*(J28+16/3*H28)","v":20.000000000000004},{"$f":"+F28*(K28+8*H28*I28)","v":28.284271247461909}]
[null,null,null,"End",null,{"$f":"+H21","v":10},0,0,{"$f":"+H24","v":1.00653167342225},1.0131060096021949,1.0197232871990354,10.131060096021949,10.197232871990353]
[null,null,null,"Side Span",null,{"$f":"+F7","v":320},{"$f":"+F12","v":3.6499999999999998E-2},1.3322499999999999E-3,{"$f":"+G24","v":1.0333685703536697},1.0678506021947871,1.1034832501413323,343.9858993689985,356.63900555653174]
[null,null,null,"b1",null,{"$f":"+F21","v":4},0,0,{"$f":"+F24","v":1.0794568980683665},1.1652271947873798,1.2578125332300893,4.6609087791495192,5.0312501329203574]
[null,null,null,"b",null,{"$f":"+E21","v":4},0,0,{"$f":"+E24","v":1.0645304129051456},1.1332249999999997,1.2063524771644334,4.5328999999999988,4.8254099086577336]
[null,null,null,"Main Span",null,{"$f":"+E7","v":800},{"$f":"+E12","v":9.1249999999999998E-2},8.3265624999999989E-3,1,1,1,835.52666666666676,853.29]
[null,null,null,"∑",null,null,null,null,null,null,null,{"$f":"+SUM(L28:L32)*2+L33","v":1602.1482031550067},{"$f":"+SUM(M28:M32)*2+M33","v":1663.2443394351242}]
[]
[null,null,null,"Ls/(EcAc) =",{"$f":"+M34/E3","v":2.7266300646477444E-4},"m/ton"]
[]
[null,null,null,"Hr1 = Hw =",{"$f":"+E8*E7^2/(8*E11)","v":13139.726027397261},"ton"]
[]
[null,null,null,null,"Main","Side"]
[null,null,null,"(cl)^2",{"$f":"+E38*E$7^2/E$10","v":242.69623831267666},{"$f":"+E38*F$7^2/F$10","v":49.286005318882026}]
[null,null,null,"cl",{"$f":"+SQRT(E41)","v":15.578711060696795},{"$f":"+SQRT(F41)","v":7.0203992278845533}]
[null,null,null,"c",{"$f":"+E42/E$7","v":1.9473388825870994E-2},{"$f":"+F42/F$7","v":2.1938747587139228E-2}]
[null,null,null,"D",{"$f":"64*E$11^2*E$7/(E$10*E41)*(1/12-1/E41+2*TANH(E42/2)/E42^3)","v":2.5872366106212221E-3},{"$f":"64*F$11^2*F$7/(F$10*F41)*(1/12-1/F41+2*TANH(F42/2)/F42^3)","v":1.4289039122241886E-4}]
[null,null,null,"Dtotal",{"$f":"+E44+2*F44+E$36","v":3.1456803995308343E-3}]
[null,null,null,"D/D0",{"$f":"+E45/E44","v":1.2158456581114643},{"$f":"+E45/F44","v":22.014639141370697}]
[null,null,null,"Hlive",{"$f":"+E38/E$8*E$9/E46","v":2163.216168725462},{"$f":"+E38/F$8*F$9/F46","v":119.47218255141517}]
[null,null,null,"Hlive total",{"$f":"+E47+2*F47","v":2402.1605338282925}]
[null,null,null,"Ht(+)",{"$f":"-E$14*E$15*$L$34/$E45","v":-183.35408556502622}]
[null,null,null,"Ht(-)",{"$f":"-E$14*E$16*$L$34/$E45","v":183.35408556502622}]
[null,null,null,"Hmax",{"$f":"+E48+E50","v":2585.5146193933188}]
[]
[null,null,null,null,"Hr min","Hr min"]
[null,null,null,null,"Main","Side"]
[null,null,null,"L",{"$f":"+E7","v":800},{"$f":"+F7","v":320}]
[null,null,null,"f",{"$f":"+E11","v":73},{"$f":"+F11","v":11.68}]
[null,null,null,"EI",{"$f":"+E10","v":34650000},{"$f":"+F10","v":27300000}]
[null,null,null,"(cl)^2",{"$f":"+E41","v":242.69623831267666},{"$f":"+F41","v":49.286005318882026}]
[null,null,null,"cl",{"$f":"E42","v":15.578711060696795},{"$f":"F42","v":7.0203992278845533}]
[null,null,null,"c",{"$f":"+E43","v":1.9473388825870994E-2},{"$f":"+F43","v":2.1938747587139228E-2}]
[null,null,null,"D",{"$f":"+E45","v":3.1456803995308343E-3},{"$f":"+E45","v":3.1456803995308343E-3}]
[]
[null,null,"mh","x/L"]
[null,null,null,0,{"$f":"-8*E$56/E$58*(TANH(E$59/2)*SINH(E$59*$D64)-COSH(E$59*$D64)+1)","v":0},{"$f":"-8*F$56/F$58*(TANH(F$59/2)*SINH(F$59*$D64)-COSH(F$59*$D64)+1)","v":0}]
[null,null,null,0.1,{"$f":"-8*E$56/E$58*(TANH(E$59/2)*SINH(E$59*$D65)-COSH(E$59*$D65)+1)","v":-1.8995702121323719},-0.95375250239764642]
[null,null,null,0.2,-2.2995821051414165,-1.423784478457544]
[null,null,null,0.3,-2.3837848341885368,-1.6514282721252174]
[null,null,null,0.4,-2.4013582639572792,-1.7535648896058025]
[null,null,null,0.5,-2.4043071798193871,-1.7826351658949984]
[]
[]
[null,null,null,"k/L"]
[null,null,"-ηH/D",0,{"$f":"-8*E$56/(E$57*E$60^4*E$55^2)*(TANH(E$59/2)*SINH(E$59*$D73)-COSH(E$59*$D73)+1-E$58/2*$D73*(1-$D73))/E$61","v":0},{"$f":"-8*F$56/(F$57*F$60^4*F$55^2)*(TANH(F$59/2)*SINH(F$59*$D73)-COSH(F$59*$D73)+1-F$58/2*$D73*(1-$D73))/F$61","v":0}]
[null,null,null,{"$f":"+D73+0.05","v":0.05},{"$f":"-8*E$56/(E$57*E$60^4*E$55^2)*(TANH(E$59/2)*SINH(E$59*$D74)-COSH(E$59*$D74)+1-E$58/2*$D74*(1-$D74))/E$61","v":0.30406267762501521},4.0141331821619095E-2]
[null,null,null,0.1,0.58984846151224757,7.8654288765584196E-2]
[null,null,null,0.15000000000000002,0.84813387677281515,0.11435306041032518]
[null,null,null,0.2,1.0746863522501127,0.14640505382433389]
[null,null,null,0.25,1.2675636468653833,0.17422724791653407]
[null,null,null,0.3,1.4258746111279761,0.19741361583269415]
[null,null,null,0.35,1.5492105930709912,0.21568458054713197]
[null,null,null,0.39999999999999997,1.6373846996376062,0.22885221160970565]
[null,null,null,0.44999999999999996,1.6903125503774092,0.2367968305518256]
[null,null,null,0.49999999999999994,1.7079584388662556,0.2394521126665034]
[null,null,null,null,null,null,null,1,{"$f":"+H84+1","v":2},3,4,5,6,7,1,{"$f":"+O84+1","v":2},3,4,5,6,7,1,{"$f":"+V84+1","v":2},3,4,5,6,7,1,{"$f":"+AC84+1","v":2},3,4,5,6,7,1,{"$f":"+AJ84+1","v":2},3,4,5,6,7,1,{"$f":"+AQ84+1","v":2},3,4,5,6,7,1,{"$f":"+AX84+1","v":2},3,4,5,6,7,1,{"$f":"+BE84+1","v":2},3,4,5,6,7,1,{"$f":"+BL84+1","v":2},3,4,5,6,7,1,{"$f":"+BS84+1","v":2},3,4,5,6,7]
[null,null,null,null,null,null,null,"Side",null,null,null,null,null,null,"Side",null,null,null,null,null,null,"Side",null,null,null,null,null,null,"Side",null,null,null,null,null,null,"Side",null,null,null,null,null,null,"Center",null,null,null,null,null,null,"Center",null,null,null,null,null,null,"Center",null,null,null,null,null,null,"Center",null,null,null,null,null,null,"Center"]
[null,null,null,"x/L",null,null,null,0.1,null,null,null,null,null,null,{"$f":"+H86+0.1","v":0.2},null,null,null,null,null,null,0.3,null,null,null,null,null,null,0.4,null,null,null,null,null,null,0.5,null,null,null,null,null,null,0.1,null,null,null,null,null,null,0.2,null,null,null,null,null,null,0.3,null,null,null,null,null,null,0.4,null,null,null,null,null,null,0.5]
[null,null,null,"mh",null,null,null,{"$f":"+INDEX($F$64:$F$69,MATCH(H86,$D$64:$D$69,0))","v":-0.95375250239764642},null,null,null,null,null,null,{"$f":"+INDEX($F$64:$F$69,MATCH(O86,$D$64:$D$69,0))","v":-1.423784478457544},null,null,null,null,null,null,{"$f":"+INDEX($F$64:$F$69,MATCH(V86,$D$64:$D$69,0))","v":-1.6514282721252174},null,null,null,null,null,null,{"$f":"+INDEX($F$64:$F$69,MATCH(AC86,$D$64:$D$69,0))","v":-1.7535648896058025},null,null,null,null,null,null,{"$f":"+INDEX($F$64:$F$69,MATCH(AJ86,$D$64:$D$69,0))","v":-1.7826351658949984},null,null,null,null,null,null,{"$f":"+INDEX($E$64:$E$69,MATCH(AQ86,$D$64:$D$69,0))","v":-1.8995702121323719},null,null,null,null,null,null,{"$f":"+INDEX($E$64:$E$69,MATCH(AX86,$D$64:$D$69,0))","v":-2.2995821051414165},null,null,null,null,null,null,{"$f":"+INDEX($E$64:$E$69,MATCH(BE86,$D$64:$D$69,0))","v":-2.3837848341885368},null,null,null,null,null,null,{"$f":"+INDEX($E$64:$E$69,MATCH(BL86,$D$64:$D$69,0))","v":-2.4013582639572792},null,null,null,null,null,null,{"$f":"+INDEX($E$64:$E$69,MATCH(BS86,$D$64:$D$69,0))","v":-2.4043071798193871}]
[null,null,null,"cl",null,null,null,{"$f":"+$F$42","v":7.0203992278845533},null,null,null,null,null,null,{"$f":"+$F$42","v":7.0203992278845533},null,null,null,null,null,null,{"$f":"+$F$42","v":7.0203992278845533},null,null,null,null,null,null,{"$f":"+$F$42","v":7.0203992278845533},null,null,null,null,null,null,{"$f":"+$F$42","v":7.0203992278845533},null,null,null,null,null,null,{"$f":"+$E$42","v":15.578711060696795},null,null,null,null,null,null,{"$f":"+$E$42","v":15.578711060696795},null,null,null,null,null,null,{"$f":"+$E$42","v":15.578711060696795},null,null,null,null,null,null,{"$f":"+$E$42","v":15.578711060696795},null,null,null,null,null,null,{"$f":"+$E$42","v":15.578711060696795}]
[null,null,null,"c",null,null,null,{"$f":"+$F$43","v":2.1938747587139228E-2},null,null,null,null,null,null,{"$f":"+$F$43","v":2.1938747587139228E-2},null,null,null,null,null,null,{"$f":"+$F$43","v":2.1938747587139228E-2},null,null,null,null,null,null,{"$f":"+$F$43","v":2.1938747587139228E-2},null,null,null,null,null,null,{"$f":"+$F$43","v":2.1938747587139228E-2},null,null,null,null,null,null,{"$f":"+$E$43","v":1.9473388825870994E-2},null,null,null,null,null,null,{"$f":"+$E$43","v":1.9473388825870994E-2},null,null,null,null,null,null,{"$f":"+$E$43","v":1.9473388825870994E-2},null,null,null,null,null,null,{"$f":"+$E$43","v":1.9473388825870994E-2},null,null,null,null,null,null,{"$f":"+$E$43","v":1.9473388825870994E-2}]
[]
[]
[null,null,null,"span",null,null,null,1,2,3,"Sub Total","Temp","Total",null,1,2,3,"Sub Total","Temp","Total",null,1,2,3,"Sub Total","Temp","Total",null,1,2,3,"Sub Total","Temp","Total",null,1,2,3,"Sub Total","Temp","Total",null,1,2,3,"Sub Total","Temp","Total",null,1,2,3,"Sub Total","Temp","Total",null,1,2,3,"Sub Total","Temp","Total",null,1,2,3,"Sub Total","Temp","Total",null,1,2,3,"Sub Total","Temp","Total"]
[null,null,null,"L",null,null,null,{"$f":"+$F$7","v":320},{"$f":"+$E$7","v":800},{"$f":"+$F$7","v":320},null,null,null,null,{"$f":"+$F$7","v":320},{"$f":"+$E$7","v":800},{"$f":"+$F$7","v":320},null,null,null,null,{"$f":"+$F$7","v":320},{"$f":"+$E$7","v":800},{"$f":"+$F$7","v":320},null,null,null,null,{"$f":"+$F$7","v":320},{"$f":"+$E$7","v":800},{"$f":"+$F$7","v":320},null,null,null,null,{"$f":"+$F$7","v":320},{"$f":"+$E$7","v":800},{"$f":"+$F$7","v":320},null,null,null,null,{"$f":"+$F$7","v":320},{"$f":"+$E$7","v":800},{"$f":"+$F$7","v":320},null,null,null,null,{"$f":"+$F$7","v":320},{"$f":"+$E$7","v":800},{"$f":"+$F$7","v":320},null,null,null,null,{"$f":"+$F$7","v":320},{"$f":"+$E$7","v":800},{"$f":"+$F$7","v":320},null,null,null,null,{"$f":"+$F$7","v":320},{"$f":"+$E$7","v":800},{"$f":"+$F$7","v":320},null,null,null,null,{"$f":"+$F$7","v":320},{"$f":"+$E$7","v":800},{"$f":"+$F$7","v":320}]
[null,null,null,"p",null,null,null,{"$f":"+$F$9","v":2.4},{"$f":"+$E$9","v":2.4},{"$f":"+$F$9","v":2.4},null,null,null,null,{"$f":"+$F$9","v":2.4},{"$f":"+$E$9","v":2.4},{"$f":"+$F$9","v":2.4},null,null,null,null,{"$f":"+$F$9","v":2.4},{"$f":"+$E$9","v":2.4},{"$f":"+$F$9","v":2.4},null,null,null,null,{"$f":"+$F$9","v":2.4},{"$f":"+$E$9","v":2.4},{"$f":"+$F$9","v":2.4},null,null,null,null,{"$f":"+$F$9","v":2.4},{"$f":"+$E$9","v":2.4},{"$f":"+$F$9","v":2.4},null,null,null,null,{"$f":"+$F$9","v":2.4},{"$f":"+$E$9","v":2.4},{"$f":"+$F$9","v":2.4},null,null,null,null,{"$f":"+$F$9","v":2.4},{"$f":"+$E$9","v":2.4},{"$f":"+$F$9","v":2.4},null,null,null,null,{"$f":"+$F$9","v":2.4},{"$f":"+$E$9","v":2.4},{"$f":"+$F$9","v":2.4},null,null,null,null,{"$f":"+$F$9","v":2.4},{"$f":"+$E$9","v":2.4},{"$f":"+$F$9","v":2.4},null,null,null,null,{"$f":"+$F$9","v":2.4},{"$f":"+$E$9","v":2.4},{"$f":"+$F$9","v":2.4}]
[null,null,null,"∑+ΔM/P",null,null,null,{"$f":"+K127","v":187.35575020782358},{"$f":"+K151","v":0},{"$f":"+K175","v":0},null,null,null,null,{"$f":"+R127","v":279.29341142756562},{"$f":"+R151","v":0},{"$f":"+R175","v":0},null,null,null,null,{"$f":"+Y127","v":323.94863325765334},{"$f":"+Y151","v":0},{"$f":"+Y175","v":0},null,null,null,null,{"$f":"+AF127","v":343.9840281923764},{"$f":"+AF151","v":0},{"$f":"+AF175","v":0},null,null,null,null,{"$f":"+AM127","v":349.68653215895154},{"$f":"+AM151","v":0},{"$f":"+AM175","v":0},null,null,null,null,{"$f":"+AT127","v":0},{"$f":"+AT151","v":124.80966441616737},{"$f":"+AT175","v":0},null,null,null,null,{"$f":"+BA127","v":0},{"$f":"+BA151","v":135.35257763907495},{"$f":"+BA175","v":0},null,null,null,null,{"$f":"+BH127","v":0},{"$f":"+BH151","v":120.52806098877123},{"$f":"+BH175","v":0},null,null,null,null,{"$f":"+BO127","v":0},{"$f":"+BO151","v":109.91873012201577},{"$f":"+BO175","v":0},null,null,null,null,{"$f":"+BV127","v":0},{"$f":"+BV151","v":107.82798141275168},{"$f":"+BV175","v":0}]
[null,null,null,"∑-ΔM/P",null,null,null,{"$f":"+K128","v":-0.26508158303624552},{"$f":"+K152","v":-64.474966392845602},{"$f":"+K176","v":-8.9021630665550973},null,null,null,null,{"$f":"+R128","v":0},{"$f":"+R152","v":-96.24976728074887},{"$f":"+R176","v":-13.289361303897987},null,null,null,null,{"$f":"+Y128","v":0},{"$f":"+Y152","v":-111.6387973586419},{"$f":"+Y176","v":-15.414149618711694},null,null,null,null,{"$f":"+AF128","v":0},{"$f":"+AF152","v":-118.54337161976827},{"$f":"+AF176","v":-16.367475373132041},null,null,null,null,{"$f":"+AM128","v":0},{"$f":"+AM152","v":-120.50856183637559},{"$f":"+AM176","v":-16.638812370168129},null,null,null,null,{"$f":"+AT128","v":-17.730264132741066},{"$f":"+AT152","v":-96.796503150897237},{"$f":"+AT176","v":-17.730264132741066},null,null,null,null,{"$f":"+BA128","v":-21.46390686623424},{"$f":"+BA152","v":-101.44039900907677},{"$f":"+BA176","v":-21.46390686623424},null,null,null,null,{"$f":"+BH128","v":-22.249840767054451},{"$f":"+BH152","v":-85.374135877013543},{"$f":"+BH176","v":-22.249840767054451},null,null,null,null,{"$f":"+BO128","v":-22.413868161002799},{"$f":"+BO152","v":-74.505647797251939},{"$f":"+BO176","v":-22.413868161002799},null,null,null,null,{"$f":"+BV128","v":-22.441392838325314},{"$f":"+BV152","v":-72.371411116333903},{"$f":"+BV176","v":-22.441392838325314}]
[null,null,null,"+M",null,null,null,{"$f":"+H93*H94*H95*0.05/3","v":2398.153602660142},{"$f":"+I93*I94*I95*0.05/3","v":0},{"$f":"+J93*J94*J95*0.05/3","v":0},{"$f":"+SUM(H97:J97)","v":2398.153602660142},{"$f":"+$E$49*H87","v":174.87441793247595},{"$f":"+K97+L97","v":2573.0280205926178},null,{"$f":"+O93*O94*O95*0.05/3","v":3574.9556662728405},{"$f":"+P93*P94*P95*0.05/3","v":0},{"$f":"+Q93*Q94*Q95*0.05/3","v":0},{"$f":"+SUM(O97:Q97)","v":3574.9556662728405},{"$f":"+$E$49*O87","v":261.05670108926074},{"$f":"+R97+S97","v":3836.012367362101},null,{"$f":"+V93*V94*V95*0.05/3","v":4146.542505697963},{"$f":"+W93*W94*W95*0.05/3","v":0},{"$f":"+X93*X94*X95*0.05/3","v":0},{"$f":"+SUM(V97:X97)","v":4146.542505697963},{"$f":"+$E$49*V87","v":302.79612071175052},{"$f":"+Y97+Z97","v":4449.3386264097135},null,{"$f":"+AC93*AC94*AC95*0.05/3","v":4402.9955608624177},{"$f":"+AD93*AD94*AD95*0.05/3","v":0},{"$f":"+AE93*AE94*AE95*0.05/3","v":0},{"$f":"+SUM(AC97:AE97)","v":4402.9955608624177},{"$f":"+$E$49*AC87","v":321.52328681260809},{"$f":"+AF97+AG97","v":4724.5188476750254},null,{"$f":"+AJ93*AJ94*AJ95*0.05/3","v":4475.9876116345795},{"$f":"+AK93*AK94*AK95*0.05/3","v":0},{"$f":"+AL93*AL94*AL95*0.05/3","v":0},{"$f":"+SUM(AJ97:AL97)","v":4475.9876116345795},{"$f":"+$E$49*AJ87","v":326.85344073873625},{"$f":"+AM97+AN97","v":4802.8410523733155},null,{"$f":"+AQ93*AQ94*AQ95*0.05/3","v":0},{"$f":"+AR93*AR94*AR95*0.05/3","v":3993.9092613173561},{"$f":"+AS93*AS94*AS95*0.05/3","v":0},{"$f":"+SUM(AQ97:AS97)","v":3993.9092613173561},{"$f":"+$E$49*AQ87","v":348.29395921209391},{"$f":"+AT97+AU97","v":4342.2032205294499},null,{"$f":"+AX93*AX94*AX95*0.05/3","v":0},{"$f":"+AY93*AY94*AY95*0.05/3","v":4331.2824844503984},{"$f":"+AZ93*AZ94*AZ95*0.05/3","v":0},{"$f":"+SUM(AX97:AZ97)","v":4331.2824844503984},{"$f":"+$E$49*AX87","v":421.63777406990243},{"$f":"+BA97+BB97","v":4752.9202585203011},null,{"$f":"+BE93*BE94*BE95*0.05/3","v":0},{"$f":"+BF93*BF94*BF95*0.05/3","v":3856.8979516406798},{"$f":"+BG93*BG94*BG95*0.05/3","v":0},{"$f":"+SUM(BE97:BG97)","v":3856.8979516406798},{"$f":"+$E$49*BE87","v":437.07668845641683},{"$f":"+BH97+BI97","v":4293.9746400970962},null,{"$f":"+BL93*BL94*BL95*0.05/3","v":0},{"$f":"+BM93*BM94*BM95*0.05/3","v":3517.3993639045052},{"$f":"+BN93*BN94*BN95*0.05/3","v":0},{"$f":"+SUM(BL97:BN97)","v":3517.3993639045052},{"$f":"+$E$49*BL87","v":440.29884860190583},{"$f":"+BO97+BP97","v":3957.698212506411},null,{"$f":"+BS93*BS94*BS95*0.05/3","v":0},{"$f":"+BT93*BT94*BT95*0.05/3","v":3450.4954052080539},{"$f":"+BU93*BU94*BU95*0.05/3","v":0},{"$f":"+SUM(BS97:BU97)","v":3450.4954052080539},{"$f":"+$E$49*BS87","v":440.8395443732108},{"$f":"+BV97+BW97","v":3891.3349495812645}]
[null,null,null,"-M",null,null,null,{"$f":"+H93*H94*H96*0.05/3","v":-3.3930442628639432},{"$f":"+I93*I94*I96*0.05/3","v":-2063.1989245710597},{"$f":"+J93*J94*J96*0.05/3","v":-113.94768725190526},{"$f":"+SUM(H98:J98)","v":-2180.5396560858289},{"$f":"+$E$50*H87","v":-174.87441793247595},{"$f":"+K98+L98","v":-2355.4140740183047},null,{"$f":"+O93*O94*O96*0.05/3","v":0},{"$f":"+P93*P94*P96*0.05/3","v":-3079.9925529839638},{"$f":"+Q93*Q94*Q96*0.05/3","v":-170.10382468989422},{"$f":"+SUM(O98:Q98)","v":-3250.0963776738581},{"$f":"+$E$50*O87","v":-261.05670108926074},{"$f":"+R98+S98","v":-3511.1530787631191},null,{"$f":"+V93*V94*V96*0.05/3","v":0},{"$f":"+W93*W94*W96*0.05/3","v":-3572.4415154765411},{"$f":"+X93*X94*X96*0.05/3","v":-197.30111511950972},{"$f":"+SUM(V98:X98)","v":-3769.7426305960507},{"$f":"+$E$50*V87","v":-302.79612071175052},{"$f":"+Y98+Z98","v":-4072.5387513078012},null,{"$f":"+AC93*AC94*AC96*0.05/3","v":0},{"$f":"+AD93*AD94*AD96*0.05/3","v":-3793.3878918325845},{"$f":"+AE93*AE94*AE96*0.05/3","v":-209.50368477609015},{"$f":"+SUM(AC98:AE98)","v":-4002.8915766086748},{"$f":"+$E$50*AC87","v":-321.52328681260809},{"$f":"+AF98+AG98","v":-4324.4148634212825},null,{"$f":"+AJ93*AJ94*AJ96*0.05/3","v":0},{"$f":"+AK93*AK94*AK96*0.05/3","v":-3856.2739787640189},{"$f":"+AL93*AL94*AL96*0.05/3","v":-212.97679833815209},{"$f":"+SUM(AJ98:AL98)","v":-4069.250777102171},{"$f":"+$E$50*AJ87","v":-326.85344073873625},{"$f":"+AM98+AN98","v":-4396.104217840907},null,{"$f":"+AQ93*AQ94*AQ96*0.05/3","v":-226.94738089908563},{"$f":"+AR93*AR94*AR96*0.05/3","v":-3097.4881008287116},{"$f":"+AS93*AS94*AS96*0.05/3","v":-226.94738089908563},{"$f":"+SUM(AQ98:AS98)","v":-3551.3828626268828},{"$f":"+$E$50*AQ87","v":-348.29395921209391},{"$f":"+AT98+AU98","v":-3899.6768218389766},null,{"$f":"+AX93*AX94*AX96*0.05/3","v":-274.73800788779829},{"$f":"+AY93*AY94*AY96*0.05/3","v":-3246.0927682904567},{"$f":"+AZ93*AZ94*AZ96*0.05/3","v":-274.73800788779829},{"$f":"+SUM(AX98:AZ98)","v":-3795.568784066053},{"$f":"+$E$50*AX87","v":-421.63777406990243},{"$f":"+BA98+BB98","v":-4217.2065581359557},null,{"$f":"+BE93*BE94*BE96*0.05/3","v":-284.79796181829698},{"$f":"+BF93*BF94*BF96*0.05/3","v":-2731.9723480644334},{"$f":"+BG93*BG94*BG96*0.05/3","v":-284.79796181829698},{"$f":"+SUM(BE98:BG98)","v":-3301.5682717010277},{"$f":"+$E$50*BE87","v":-437.07668845641683},{"$f":"+BH98+BI98","v":-3738.6449601574445},null,{"$f":"+BL93*BL94*BL96*0.05/3","v":-286.89751246083586},{"$f":"+BM93*BM94*BM96*0.05/3","v":-2384.180729512062},{"$f":"+BN93*BN94*BN96*0.05/3","v":-286.89751246083586},{"$f":"+SUM(BL98:BN98)","v":-2957.975754433734},{"$f":"+$E$50*BL87","v":-440.29884860190583},{"$f":"+BO98+BP98","v":-3398.2746030356398},null,{"$f":"+BS93*BS94*BS96*0.05/3","v":-287.24982833056401},{"$f":"+BT93*BT94*BT96*0.05/3","v":-2315.8851557226849},{"$f":"+BU93*BU94*BU96*0.05/3","v":-287.24982833056401},{"$f":"+SUM(BS98:BU98)","v":-2890.3848123838129},{"$f":"+$E$50*BS87","v":-440.8395443732108},{"$f":"+BV98+BW98","v":-3331.2243567570235}]
[null,null,null,"∑+ΔH/P",null,null,null,{"$f":"+L127","v":8.412138115158486},{"$f":"+L151","v":0},{"$f":"+L175","v":0},null,null,null,null,{"$f":"+S127","v":9.3338293154417666},{"$f":"+S151","v":0},{"$f":"+S175","v":0},null,null,null,null,{"$f":"+Z127","v":9.3338293154417666},{"$f":"+Z151","v":0},{"$f":"+Z175","v":0},null,null,null,null,{"$f":"+AG127","v":9.3338293154417666},{"$f":"+AG151","v":0},{"$f":"+AG175","v":0},null,null,null,null,{"$f":"+AN127","v":9.3338293154417666},{"$f":"+AN151","v":0},{"$f":"+AN175","v":0},null,null,null,null,{"$f":"+AU127","v":0},{"$f":"+AU151","v":14.433985043705551},{"$f":"+AU175","v":0},null,null,null,null,{"$f":"+BB127","v":0},{"$f":"+BB151","v":14.433985043705551},{"$f":"+BB175","v":0},null,null,null,null,{"$f":"+BI127","v":0},{"$f":"+BI151","v":21.887987554742786},{"$f":"+BI175","v":0},null,null,null,null,{"$f":"+BP127","v":0},{"$f":"+BP151","v":19.366695023063045},{"$f":"+BP175","v":0},null,null,null,null,{"$f":"+BW127","v":0},{"$f":"+BW151","v":20.213186680026997},{"$f":"+BW175","v":0}]
[null,null,null,"∑-ΔH/P",null,null,null,{"$f":"+M127","v":0.92169120028327944},{"$f":"+M151","v":67.601360133537185},{"$f":"+M175","v":9.3338293154417666},null,null,null,null,{"$f":"+T127","v":0},{"$f":"+T151","v":67.601360133537185},{"$f":"+T175","v":9.3338293154417666},null,null,null,null,{"$f":"+AA127","v":0},{"$f":"+AA151","v":67.601360133537185},{"$f":"+AA175","v":9.3338293154417666},null,null,null,null,{"$f":"+AH127","v":0},{"$f":"+AH151","v":67.601360133537185},{"$f":"+AH175","v":9.3338293154417666},null,null,null,null,{"$f":"+AO127","v":0},{"$f":"+AO151","v":67.601360133537185},{"$f":"+AO175","v":9.3338293154417666},null,null,null,null,{"$f":"+AV127","v":9.3338293154417666},{"$f":"+AV151","v":53.167375089831637},{"$f":"+AV175","v":9.3338293154417666},null,null,null,null,{"$f":"+BC127","v":9.3338293154417666},{"$f":"+BC151","v":53.167375089831637},{"$f":"+BC175","v":9.3338293154417666},null,null,null,null,{"$f":"+BJ127","v":9.3338293154417666},{"$f":"+BJ151","v":45.713372578794399},{"$f":"+BJ175","v":9.3338293154417666},null,null,null,null,{"$f":"+BQ127","v":9.3338293154417666},{"$f":"+BQ151","v":48.234665110474147},{"$f":"+BQ175","v":9.3338293154417666},null,null,null,null,{"$f":"+BX127","v":9.3338293154417666},{"$f":"+BX151","v":47.388173453510191},{"$f":"+BX175","v":9.3338293154417666}]
[null,null,null,"+H",null,null,null,{"$f":"+H93*H94*H99*0.05/3","v":107.67536787402862},{"$f":"+I93*I94*I99*0.05/3","v":0},{"$f":"+J93*J94*J99*0.05/3","v":0},{"$f":"+SUM(H101:J101)","v":107.67536787402862},{"$f":"+$E$49","v":-183.35408556502622},{"$f":"+K101+L101","v":-75.678717690997601},null,{"$f":"+O93*O94*O99*0.05/3","v":119.47301523765462},{"$f":"+P93*P94*P99*0.05/3","v":0},{"$f":"+Q93*Q94*Q99*0.05/3","v":0},{"$f":"+SUM(O101:Q101)","v":119.47301523765462},{"$f":"+$E$49","v":-183.35408556502622},{"$f":"+R101+S101","v":-63.881070327371603},null,{"$f":"+V93*V94*V99*0.05/3","v":119.47301523765462},{"$f":"+W93*W94*W99*0.05/3","v":0},{"$f":"+X93*X94*X99*0.05/3","v":0},{"$f":"+SUM(V101:X101)","v":119.47301523765462},{"$f":"+$E$49","v":-183.35408556502622},{"$f":"+Y101+Z101","v":-63.881070327371603},null,{"$f":"+AC93*AC94*AC99*0.05/3","v":119.47301523765462},{"$f":"+AD93*AD94*AD99*0.05/3","v":0},{"$f":"+AE93*AE94*AE99*0.05/3","v":0},{"$f":"+SUM(AC101:AE101)","v":119.47301523765462},{"$f":"+$E$49","v":-183.35408556502622},{"$f":"+AF101+AG101","v":-63.881070327371603},null,{"$f":"+AJ93*AJ94*AJ99*0.05/3","v":119.47301523765462},{"$f":"+AK93*AK94*AK99*0.05/3","v":0},{"$f":"+AL93*AL94*AL99*0.05/3","v":0},{"$f":"+SUM(AJ101:AL101)","v":119.47301523765462},{"$f":"+$E$49","v":-183.35408556502622},{"$f":"+AM101+AN101","v":-63.881070327371603},null,{"$f":"+AQ93*AQ94*AQ99*0.05/3","v":0},{"$f":"+AR93*AR94*AR99*0.05/3","v":461.88752139857769},{"$f":"+AS93*AS94*AS99*0.05/3","v":0},{"$f":"+SUM(AQ101:AS101)","v":461.88752139857769},{"$f":"+$E$49","v":-183.35408556502622},{"$f":"+AT101+AU101","v":278.53343583355149},null,{"$f":"+AX93*AX94*AX99*0.05/3","v":0},{"$f":"+AY93*AY94*AY99*0.05/3","v":461.88752139857769},{"$f":"+AZ93*AZ94*AZ99*0.05/3","v":0},{"$f":"+SUM(AX101:AZ101)","v":461.88752139857769},{"$f":"+$E$49","v":-183.35408556502622},{"$f":"+BA101+BB101","v":278.53343583355149},null,{"$f":"+BE93*BE94*BE99*0.05/3","v":0},{"$f":"+BF93*BF94*BF99*0.05/3","v":700.41560175176926},{"$f":"+BG93*BG94*BG99*0.05/3","v":0},{"$f":"+SUM(BE101:BG101)","v":700.41560175176926},{"$f":"+$E$49","v":-183.35408556502622},{"$f":"+BH101+BI101","v":517.06151618674301},null,{"$f":"+BL93*BL94*BL99*0.05/3","v":0},{"$f":"+BM93*BM94*BM99*0.05/3","v":619.73424073801755},{"$f":"+BN93*BN94*BN99*0.05/3","v":0},{"$f":"+SUM(BL101:BN101)","v":619.73424073801755},{"$f":"+$E$49","v":-183.35408556502622},{"$f":"+BO101+BP101","v":436.38015517299129},null,{"$f":"+BS93*BS94*BS99*0.05/3","v":0},{"$f":"+BT93*BT94*BT99*0.05/3","v":646.8219737608639},{"$f":"+BU93*BU94*BU99*0.05/3","v":0},{"$f":"+SUM(BS101:BU101)","v":646.8219737608639},{"$f":"+$E$49","v":-183.35408556502622},{"$f":"+BV101+BW101","v":463.46788819583765}]
[null,null,null,"-H",null,null,null,{"$f":"+H93*H94*H100*0.05/3","v":11.797647363625977},{"$f":"+I93*I94*I100*0.05/3","v":2163.2435242731904},{"$f":"+J93*J94*J100*0.05/3","v":119.47301523765462},{"$f":"+SUM(H102:J102)","v":2294.5141868744709},{"$f":"+$E$50","v":183.35408556502622},{"$f":"+K102+L102","v":2477.8682724394971},null,{"$f":"+O93*O94*O100*0.05/3","v":0},{"$f":"+P93*P94*P100*0.05/3","v":2163.2435242731904},{"$f":"+Q93*Q94*Q100*0.05/3","v":119.47301523765462},{"$f":"+SUM(O102:Q102)","v":2282.716539510845},{"$f":"+$E$50","v":183.35408556502622},{"$f":"+R102+S102","v":2466.0706250758712},null,{"$f":"+V93*V94*V100*0.05/3","v":0},{"$f":"+W93*W94*W100*0.05/3","v":2163.2435242731904},{"$f":"+X93*X94*X100*0.05/3","v":119.47301523765462},{"$f":"+SUM(V102:X102)","v":2282.716539510845},{"$f":"+$E$50","v":183.35408556502622},{"$f":"+Y102+Z102","v":2466.0706250758712},null,{"$f":"+AC93*AC94*AC100*0.05/3","v":0},{"$f":"+AD93*AD94*AD100*0.05/3","v":2163.2435242731904},{"$f":"+AE93*AE94*AE100*0.05/3","v":119.47301523765462},{"$f":"+SUM(AC102:AE102)","v":2282.716539510845},{"$f":"+$E$50","v":183.35408556502622},{"$f":"+AF102+AG102","v":2466.0706250758712},null,{"$f":"+AJ93*AJ94*AJ100*0.05/3","v":0},{"$f":"+AK93*AK94*AK100*0.05/3","v":2163.2435242731904},{"$f":"+AL93*AL94*AL100*0.05/3","v":119.47301523765462},{"$f":"+SUM(AJ102:AL102)","v":2282.716539510845},{"$f":"+$E$50","v":183.35408556502622},{"$f":"+AM102+AN102","v":2466.0706250758712},null,{"$f":"+AQ93*AQ94*AQ100*0.05/3","v":119.47301523765462},{"$f":"+AR93*AR94*AR100*0.05/3","v":1701.3560028746124},{"$f":"+AS93*AS94*AS100*0.05/3","v":119.47301523765462},{"$f":"+SUM(AQ102:AS102)","v":1940.3020333499217},{"$f":"+$E$50","v":183.35408556502622},{"$f":"+AT102+AU102","v":2123.6561189149479},null,{"$f":"+AX93*AX94*AX100*0.05/3","v":119.47301523765462},{"$f":"+AY93*AY94*AY100*0.05/3","v":1701.3560028746124},{"$f":"+AZ93*AZ94*AZ100*0.05/3","v":119.47301523765462},{"$f":"+SUM(AX102:AZ102)","v":1940.3020333499217},{"$f":"+$E$50","v":183.35408556502622},{"$f":"+BA102+BB102","v":2123.6561189149479},null,{"$f":"+BE93*BE94*BE100*0.05/3","v":119.47301523765462},{"$f":"+BF93*BF94*BF100*0.05/3","v":1462.8279225214208},{"$f":"+BG93*BG94*BG100*0.05/3","v":119.47301523765462},{"$f":"+SUM(BE102:BG102)","v":1701.77395299673},{"$f":"+$E$50","v":183.35408556502622},{"$f":"+BH102+BI102","v":1885.1280385617563},null,{"$f":"+BL93*BL94*BL100*0.05/3","v":119.47301523765462},{"$f":"+BM93*BM94*BM100*0.05/3","v":1543.5092835351727},{"$f":"+BN93*BN94*BN100*0.05/3","v":119.47301523765462},{"$f":"+SUM(BL102:BN102)","v":1782.455314010482},{"$f":"+$E$50","v":183.35408556502622},{"$f":"+BO102+BP102","v":1965.8093995755082},null,{"$f":"+BS93*BS94*BS100*0.05/3","v":119.47301523765462},{"$f":"+BT93*BT94*BT100*0.05/3","v":1516.4215505123263},{"$f":"+BU93*BU94*BU100*0.05/3","v":119.47301523765462},{"$f":"+SUM(BS102:BU102)","v":1755.3675809876356},{"$f":"+$E$50","v":183.35408556502622},{"$f":"+BV102+BW102","v":1938.7216665526619}]
[]
[]
[null,null,null,"k/L","H/P","ΔH/P",null,"mhH/P","mp","M/P","ΔM/P","Δ+H/P","Δ-H/P",null,"mhH/P","mp","M/P","ΔM/P","Δ+H/P","Δ-H/P",null,"mhH/P","mp","M/P","ΔM/P","Δ+H/P","Δ-H/P",null,"mhH/P","mp","M/P","ΔM/P","Δ+H/P","Δ-H/P",null,"mhH/P","mp","M/P","ΔM/P","Δ+H/P","Δ-H/P",null,"mhH/P","mp","M/P","ΔM/P","Δ+H/P","Δ-H/P",null,"mhH/P","mp","M/P","ΔM/P","Δ+H/P","Δ-H/P",null,"mhH/P","mp","M/P","ΔM/P","Δ+H/P","Δ-H/P",null,"mhH/P","mp","M/P","ΔM/P","Δ+H/P","Δ-H/P",null,"mhH/P","mp","M/P","ΔM/P","Δ+H/P","Δ-H/P"]
[null,null,null,0,{"$f":"+F73","v":0},null,null,{"$f":"+H$87*$E106","v":0},{"$f":"+IF(H$86<$D106,SINH(H$88-H$88*$D106)/(H$89*SINH(H$88))*SINH(H$88*H$86),SINH(H$88*$D106)/(H$89*SINH(H$88))*SINH(H$88-H$88*H$86))","v":0},{"$f":"+H106+I106","v":0},null,null,null,null,{"$f":"+O$87*$E106","v":0},{"$f":"+IF(O$86<$D106,SINH(O$88-O$88*$D106)/(O$89*SINH(O$88))*SINH(O$88*O$86),SINH(O$88*$D106)/(O$89*SINH(O$88))*SINH(O$88-O$88*O$86))","v":0},{"$f":"+O106+P106","v":0},null,null,null,null,{"$f":"+V$87*$E106","v":0},{"$f":"+IF(V$86<$D106,SINH(V$88-V$88*$D106)/(V$89*SINH(V$88))*SINH(V$88*V$86),SINH(V$88*$D106)/(V$89*SINH(V$88))*SINH(V$88-V$88*V$86))","v":0},{"$f":"+V106+W106","v":0},null,null,null,null,{"$f":"+AC$87*$E106","v":0},{"$f":"+IF(AC$86<$D106,SINH(AC$88-AC$88*$D106)/(AC$89*SINH(AC$88))*SINH(AC$88*AC$86),SINH(AC$88*$D106)/(AC$89*SINH(AC$88))*SINH(AC$88-AC$88*AC$86))","v":0},{"$f":"+AC106+AD106","v":0},null,null,null,null,{"$f":"+AJ$87*$E106","v":0},{"$f":"+IF(AJ$86<$D106,SINH(AJ$88-AJ$88*$D106)/(AJ$89*SINH(AJ$88))*SINH(AJ$88*AJ$86),SINH(AJ$88*$D106)/(AJ$89*SINH(AJ$88))*SINH(AJ$88-AJ$88*AJ$86))","v":0},{"$f":"+AJ106+AK106","v":0},null,null,null,null,{"$f":"+AQ$87*$E106","v":0},null,{"$f":"+AQ106+AR106","v":0},null,null,null,null,{"$f":"+AX$87*$E106","v":0},null,{"$f":"+AX106+AY106","v":0},null,null,null,null,{"$f":"+BE$87*$E106","v":0},null,{"$f":"+BE106+BF106","v":0},null,null,null,null,{"$f":"+BL$87*$E106","v":0},null,{"$f":"+BL106+BM106","v":0},null,null,null,null,{"$f":"+BS$87*$E106","v":0},null,{"$f":"+BS106+BT106","v":0}]
[null,null,null,{"$f":"+D106+0.05","v":0.05},{"$f":"+F74","v":4.0141331821619095E-2},null,null,{"$f":"+H$87*$E107","v":-3.8284895674443487E-2},8.0929919233229057,{"$f":"+H107+I107","v":8.0547070276484618},null,null,null,null,{"$f":"+O$87*$E107","v":-5.7152605192235154E-2},4.0106309978525454,{"$f":"+O107+P107","v":3.9534783926603101},null,null,null,null,{"$f":"+V$87*$E107","v":-6.629053025098143E-2},1.987480995702416,{"$f":"+V107+W107","v":1.9211904654514345},null,null,null,null,{"$f":"+AC$87*$E107","v":-7.0390430104407375E-2},0.98477954103350096,{"$f":"+AC107+AD107","v":0.91438911092909358},null,null,null,null,{"$f":"+AJ$87*$E107","v":-7.1557349711078133E-2},0.48770146309614759,{"$f":"+AJ107+AK107","v":0.41614411338506946},null,null,null,null,-7.6251278203668907E-2,null,{"$f":"+AQ107+AR107","v":-7.6251278203668907E-2},null,null,null,null,-9.2308288333538963E-2,null,{"$f":"+AX107+AY107","v":-9.2308288333538963E-2},null,null,null,null,-9.5688298020505311E-2,null,{"$f":"+BE107+BF107","v":-9.5688298020505311E-2},null,null,null,null,-9.6393718896096325E-2,null,{"$f":"+BL107+BM107","v":-9.6393718896096325E-2},null,null,null,null,-9.6512092306231229E-2,null,{"$f":"+BS107+BT107","v":-9.6512092306231229E-2}]
[null,null,null,0.1,7.8654288765584196E-2,{"$f":"+E106+4*E107+E108","v":0.23921961605206057},null,-7.5016724734483009E-2,17.193443042610216,17.118426317875734,{"$f":"+J106+4*J107+J108","v":49.337254428469578},{"$f":"+IF(K108>0,$F108,\"\")","v":0.23921961605206057},{"$f":"+IF(K108<0,$F108,\"\")","v":""},null,-0.11198675550855636,8.5205269299455573,8.4085401744370003,{"$f":"+Q106+4*Q107+Q108","v":24.222453745078241},{"$f":"+IF(R108>0,$F108,\"\")","v":0.23921961605206057},{"$f":"+IF(R108<0,$F108,\"\")","v":""},null,-0.1298919161913866,4.2223743235677391,4.0924824073763526,{"$f":"+X106+4*X107+X108","v":11.777244269182091},{"$f":"+IF(Y108>0,$F108,\"\")","v":0.23921961605206057},{"$f":"+IF(Y108<0,$F108,\"\")","v":""},null,-0.13792539919624455,2.0921497400105289,1.9542243408142843,{"$f":"+AE106+4*AE107+AE108","v":5.6117807845306587},{"$f":"+IF(AF108>0,$F108,\"\")","v":0.23921961605206057},{"$f":"+IF(AF108<0,$F108,\"\")","v":""},null,-0.14021190110199028,1.0361146294210524,0.89590272831906215,{"$f":"+AL106+4*AL107+AL108","v":2.56047918185934},{"$f":"+IF(AM108>0,$F108,\"\")","v":0.23921961605206057},{"$f":"+IF(AM108<0,$F108,\"\")","v":""},null,-0.14940934399556161,null,-0.14940934399556161,{"$f":"+AS106+4*AS107+AS108","v":-0.45441445681023723},{"$f":"+IF(AT108>0,$F108,\"\")","v":""},{"$f":"+IF(AT108<0,$F108,\"\")","v":0.23921961605206057},null,-0.18087199493796297,null,-0.18087199493796297,{"$f":"+AZ106+4*AZ107+AZ108","v":-0.55010514827211887},{"$f":"+IF(BA108>0,$F108,\"\")","v":""},{"$f":"+IF(BA108<0,$F108,\"\")","v":0.23921961605206057},null,-0.18749490070328542,null,-0.18749490070328542,{"$f":"+BG106+4*BG107+BG108","v":-0.57024809278530664},{"$f":"+IF(BH108>0,$F108,\"\")","v":""},{"$f":"+IF(BH108<0,$F108,\"\")","v":0.23921961605206057},null,-0.18887712632291781,null,-0.18887712632291781,{"$f":"+BN106+4*BN107+BN108","v":-0.57445200190730317},{"$f":"+IF(BO108>0,$F108,\"\")","v":""},{"$f":"+IF(BO108<0,$F108,\"\")","v":0.23921961605206057},null,-0.18910907120268144,null,-0.18910907120268144,{"$f":"+BU106+4*BU107+BU108","v":-0.5751574404276063},{"$f":"+IF(BV108>0,$F108,\"\")","v":""},{"$f":"+IF(BV108<0,$F108,\"\")","v":0.23921961605206057}]
[null,null,null,0.15000000000000002,0.11435306041032518,null,null,-0.10906451752317688,12.103622921175445,11.994558403652269,null,null,null,null,-0.16281411247633887,14.091103916877866,13.928289804401528,null,null,null,null,-0.18884587696565391,6.9828915345884672,6.7940456576228136,null,null,null,null,-0.20052551175451755,3.4599619998320623,3.2594364880775446,null,null,null,null,-0.20384978681516081,1.7135089218082826,1.5096591349931219,null,null,null,null,-0.21722166722162733,null,-0.21722166722162733,null,null,null,null,-0.26296425138773916,null,-0.26296425138773916,null,null,null,null,-0.27259309114917873,null,-0.27259309114917873,null,null,null,null,-0.27460266662514038,null,-0.27460266662514038,null,null,null,null,-0.27493988417886495,null,-0.27493988417886495]
[null,null,null,0.2,0.14640505382433389,{"$f":"+E108+4*E109+E110","v":0.68247158423121879},null,-0.13963418644862055,8.5205269299455573,8.3808927434969362,{"$f":"+J108+4*J109+J110","v":73.477552675981741},{"$f":"+IF(K110>0,$F110,\"\")","v":0.68247158423121879},{"$f":"+IF(K110<0,$F110,\"\")","v":""},null,-0.20844924320282787,21.415817366177954,21.207368122975126,{"$f":"+Q108+4*Q109+Q110","v":85.329067515018238},{"$f":"+IF(R110>0,$F110,\"\")","v":0.68247158423121879},{"$f":"+IF(R110<0,$F110,\"\")","v":""},null,-0.24177744506751916,10.612676669956096,10.370899224888577,{"$f":"+X108+4*X109+X110","v":41.639564262756181},{"$f":"+IF(Y110>0,$F110,\"\")","v":0.68247158423121879},{"$f":"+IF(Y110<0,$F110,\"\")","v":""},null,-0.25673076204719963,5.2584889529887864,5.0017581909415867,{"$f":"+AE108+4*AE109+AE110","v":19.99372848406605},{"$f":"+IF(AF110>0,$F110,\"\")","v":0.68247158423121879},{"$f":"+IF(AF110<0,$F110,\"\")","v":""},null,-0.26098679741200759,2.6042100279176261,2.3432232305056186,{"$f":"+AL108+4*AL109+AL110","v":9.2777624987971681},{"$f":"+IF(AM110>0,$F110,\"\")","v":0.68247158423121879},{"$f":"+IF(AM110<0,$F110,\"\")","v":""},null,-0.27810667915034126,null,-0.27810667915034126,{"$f":"+AS108+4*AS109+AS110","v":-1.2964026920324121},{"$f":"+IF(AT110>0,$F110,\"\")","v":""},{"$f":"+IF(AT110<0,$F110,\"\")","v":0.68247158423121879},null,-0.33667044187670409,null,-0.33667044187670409,{"$f":"+AZ108+4*AZ109+AZ110","v":-1.5693994423656237},{"$f":"+IF(BA110>0,$F110,\"\")","v":""},{"$f":"+IF(BA110<0,$F110,\"\")","v":0.68247158423121879},null,-0.34899814695500359,null,-0.34899814695500359,{"$f":"+BG108+4*BG109+BG110","v":-1.6268654122550039},{"$f":"+IF(BH110>0,$F110,\"\")","v":""},{"$f":"+IF(BH110<0,$F110,\"\")","v":0.68247158423121879},null,-0.35157098588617447,null,-0.35157098588617447,{"$f":"+BN108+4*BN109+BN110","v":-1.6388587787096538},{"$f":"+IF(BO110>0,$F110,\"\")","v":""},{"$f":"+IF(BO110<0,$F110,\"\")","v":0.68247158423121879},null,-0.35200272207168981,null,-0.35200272207168981,{"$f":"+BU108+4*BU109+BU110","v":-1.6408713299898312},{"$f":"+IF(BV110>0,$F110,\"\")","v":""},{"$f":"+IF(BV110<0,$F110,\"\")","v":0.68247158423121879}]
[null,null,null,0.25,0.17422724791653407,null,null,-0.16616967368624949,5.9981119935549607,5.8319423198687108,null,null,null,null,-0.24806205130793568,15.075883457911372,14.827821406603437,null,null,null,null,-0.28772380298393374,15.563584921007521,15.275861118023588,null,null,null,null,-0.30551878475907984,7.7116209153632367,7.4061021306041566,null,null,null,null,-0.3105836189931197,3.8190972157265404,3.5085135967334207,null,null,null,null,-0.33095689028404995,null,-0.33095689028404995,null,null,null,null,-0.40064986153689891,null,-0.40064986153689891,null,null,null,null,-0.41532027128584026,null,-0.41532027128584026,null,null,null,null,-0.41838204159090275,null,-0.41838204159090275,null,null,null,null,-0.41889582308589524,null,-0.41889582308589524]
[null,null,null,0.3,0.19741361583269415,{"$f":"+E110+4*E111+E112","v":1.0407276613231644},null,-0.18828373010779967,4.2223743235677391,4.0340905934599398,{"$f":"+J110+4*J111+J112","v":35.742752616431716},{"$f":"+IF(K112>0,$F112,\"\")","v":1.0407276613231644},{"$f":"+IF(K112<0,$F112,\"\")","v":""},null,-0.28107444205877041,10.612676669956098,10.331602227897328,{"$f":"+Q110+4*Q111+Q112","v":90.850255977286196},{"$f":"+IF(R112>0,$F112,\"\")","v":1.0407276613231644},{"$f":"+IF(R112<0,$F112,\"\")","v":""},null,-0.32601442648857754,22.451931995599018,22.125917569110442,{"$f":"+X110+4*X111+X112","v":93.600261266093369},{"$f":"+IF(Y112>0,$F112,\"\")","v":1.0407276613231644},{"$f":"+IF(Y112<0,$F112,\"\")","v":""},null,-0.34617758545434063,11.124736957863178,10.778559372408838,{"$f":"+AE110+4*AE111+AE112","v":45.404726085767052},{"$f":"+IF(AF112>0,$F112,\"\")","v":1.0407276613231644},{"$f":"+IF(AF112<0,$F112,\"\")","v":""},null,-0.35191645380984621,5.5094061816268862,5.1574897278170404,{"$f":"+AL110+4*AL111+AL112","v":21.534767345256341},{"$f":"+IF(AM112>0,$F112,\"\")","v":1.0407276613231644},{"$f":"+IF(AM112<0,$F112,\"\")","v":""},null,-0.37500102410512937,null,-0.37500102410512937,{"$f":"+AS110+4*AS111+AS112","v":-1.9769352643916704},{"$f":"+IF(AT112>0,$F112,\"\")","v":""},{"$f":"+IF(AT112<0,$F112,\"\")","v":1.0407276613231644},null,-0.4539688182801257,null,-0.4539688182801257,{"$f":"+AZ110+4*AZ111+AZ112","v":-2.3932387063044254},{"$f":"+IF(BA112>0,$F112,\"\")","v":""},{"$f":"+IF(BA112<0,$F112,\"\")","v":1.0407276613231644},null,-0.47059158348429836,null,-0.47059158348429836,{"$f":"+BG110+4*BG111+BG112","v":-2.4808708155826631},{"$f":"+IF(BH112>0,$F112,\"\")","v":""},{"$f":"+IF(BH112<0,$F112,\"\")","v":1.0407276613231644},null,-0.47406081779752768,null,-0.47406081779752768,{"$f":"+BN110+4*BN111+BN112","v":-2.4991599700473133},{"$f":"+IF(BO112>0,$F112,\"\")","v":""},{"$f":"+IF(BO112<0,$F112,\"\")","v":1.0407276613231644},null,-0.4746429739406528,null,-0.4746429739406528,{"$f":"+BU110+4*BU111+BU112","v":-2.5022289883559234},{"$f":"+IF(BV112>0,$F112,\"\")","v":""},{"$f":"+IF(BV112<0,$F112,\"\")","v":1.0407276613231644}]
[null,null,null,0.35,0.21568458054713197,null,null,-0.20570970842541383,2.9722605367359192,2.7665508283105051,null,null,null,null,-0.30708835802563239,7.4705929976846184,7.1635046396589859,null,null,null,null,-0.3561876141770024,15.804612838686163,15.44842522450916,null,null,null,null,-0.37821690767680527,15.922720136901976,15.544503229225171,null,null,null,null,-0.38448691802462975,7.885555683953239,7.5010687659286095,null,null,null,null,-0.40970800442359712,null,-0.40970800442359712,null,null,null,null,-0.49598440178111713,null,-0.49598440178111713,null,null,null,null,-0.51414563207656905,null,-0.51414563207656905,null,null,null,null,-0.51793594990501479,null,-0.51793594990501479,null,null,null,null,-0.51857198558580231,null,-0.51857198558580231]
[null,null,null,0.39999999999999997,0.22885221160970565,{"$f":"+E112+4*E113+E114","v":1.2890041496309277},null,-0.21826836950199247,2.0921497400105307,1.8738813705085382,{"$f":"+J112+4*J113+J114","v":16.974175277210499},{"$f":"+IF(K114>0,$F114,\"\")","v":1.2890041496309277},{"$f":"+IF(K114<0,$F114,\"\")","v":""},null,-0.32583622675058022,5.2584889529887908,4.9326527262382109,{"$f":"+Q112+4*Q113+Q114","v":43.918273512771485},{"$f":"+IF(R114>0,$F114,\"\")","v":1.2890041496309277},{"$f":"+IF(R114<0,$F114,\"\")","v":""},null,-0.3779330123906508,11.124736957863187,10.746803945472536,{"$f":"+X112+4*X113+X114","v":94.66642241261961},{"$f":"+IF(Y114>0,$F114,\"\")","v":1.2890041496309277},{"$f":"+IF(Y114<0,$F114,\"\")","v":""},null,-0.40130720318741725,22.702849224237081,22.301542021049663,{"$f":"+AE112+4*AE113+AE114","v":95.25811431035919},{"$f":"+IF(AF114>0,$F114,\"\")","v":1.2890041496309277},{"$f":"+IF(AF114<0,$F114,\"\")","v":""},null,-0.40796000020830492,11.243341602620683,10.835381602412378,{"$f":"+AL112+4*AL113+AL114","v":45.997146393943858},{"$f":"+IF(AM114>0,$F114,\"\")","v":1.2890041496309277},{"$f":"+IF(AM114<0,$F114,\"\")","v":""},null,-0.43472084415441103,null,-0.43472084415441103,{"$f":"+AS112+4*AS113+AS114","v":-2.4485538859539284},{"$f":"+IF(AT114>0,$F114,\"\")","v":""},{"$f":"+IF(AT114<0,$F114,\"\")","v":1.2890041496309277},null,-0.52626445053971582,null,-0.52626445053971582,{"$f":"+AZ112+4*AZ113+AZ114","v":-2.9641708759443102},{"$f":"+IF(BA114>0,$F114,\"\")","v":""},{"$f":"+IF(BA114<0,$F114,\"\")","v":1.2890041496309277},null,-0.5455344313057221,null,-0.5455344313057221,{"$f":"+BG112+4*BG113+BG114","v":-3.0727085430962968},{"$f":"+IF(BH114>0,$F114,\"\")","v":""},{"$f":"+IF(BH114<0,$F114,\"\")","v":1.2890041496309277},null,-0.54955614957386667,null,-0.54955614957386667,{"$f":"+BN112+4*BN113+BN114","v":-3.0953607669914533},{"$f":"+IF(BO114>0,$F114,\"\")","v":""},{"$f":"+IF(BO114<0,$F114,\"\")","v":1.2890041496309277},null,-0.55023101549076103,null,-0.55023101549076103,{"$f":"+BU112+4*BU113+BU114","v":-3.0991619317746233},{"$f":"+IF(BV114>0,$F114,\"\")","v":""},{"$f":"+IF(BV114<0,$F114,\"\")","v":1.2890041496309277}]
[null,null,null,0.44999999999999996,0.2367968305518256,null,null,-0.22584556969863512,1.4724810041296499,1.2466354344310147,null,null,null,null,-0.33714765188763041,3.7009899175106997,3.3638422656230693,null,null,null,null,-0.39105298072292921,7.8297282135790907,7.4386752328561618,null,null,null,null,-0.41523860802561596,15.978547607276157,15.563308999250541,null,null,null,null,-0.42212235731416342,16.00075920240792,15.578636845093756,null,null,null,null,-0.44981220564360469,null,-0.44981220564360469,null,null,null,null,-0.54453375409118243,null,-0.54453375409118243,null,null,null,null,-0.5644726934533546,null,-0.5644726934533546,null,null,null,null,-0.56863402592451795,null,-0.56863402592451795,null,null,null,null,-0.56933231985422905,null,-0.56933231985422905]
[null,null,null,0.49999999999999994,0.2394521126665034,{"$f":"+E114+4*E115+E116","v":1.4154916464835114},null,-0.22837805166008079,1.0361146294210528,0.80773657776097196,{"$f":"+J114+4*J115+J116","v":7.6681596859935688},{"$f":"+IF(K116>0,$F116,\"\")","v":1.4154916464835114},{"$f":"+IF(K116<0,$F116,\"\")","v":""},null,-0.3409282013484346,2.6042100279176275,2.2632818265691927,{"$f":"+Q114+4*Q115+Q116","v":20.651303615299682},{"$f":"+IF(R116>0,$F116,\"\")","v":1.4154916464835114},{"$f":"+IF(R116<0,$F116,\"\")","v":""},null,-0.39543798867757657,5.5094061816268889,5.1139681929493124,{"$f":"+X114+4*X115+X116","v":45.615473069846502},{"$f":"+IF(Y116>0,$F116,\"\")","v":1.4154916464835114},{"$f":"+IF(Y116<0,$F116,\"\")","v":""},null,-0.41989481751391322,11.243341602620694,10.82344678510678,{"$f":"+AE114+4*AE115+AE116","v":95.378224803158602},{"$f":"+IF(AF116>0,$F116,\"\")","v":1.4154916464835114},{"$f":"+IF(AF116<0,$F116,\"\")","v":""},null,-0.42685575658716013,22.750037433418822,22.323181676831663,{"$f":"+AL114+4*AL115+AL116","v":95.473110659619067},{"$f":"+IF(AM116>0,$F116,\"\")","v":1.4154916464835114},{"$f":"+IF(AM116<0,$F116,\"\")","v":""},null,-0.45485610045345448,null,-0.45485610045345448,{"$f":"+AS114+4*AS115+AS116","v":-2.6888257671822839},{"$f":"+IF(AT116>0,$F116,\"\")","v":""},{"$f":"+IF(AT116<0,$F116,\"\")","v":1.4154916464835114},null,-0.5506397933261975,null,-0.5506397933261975,{"$f":"+AZ114+4*AZ115+AZ116","v":-3.2550392602306428},{"$f":"+IF(BA116>0,$F116,\"\")","v":""},{"$f":"+IF(BA116<0,$F116,\"\")","v":1.4154916464835114},null,-0.5708023146888157,null,-0.5708023146888157,{"$f":"+BG114+4*BG115+BG116","v":-3.3742275198079561},{"$f":"+IF(BH116>0,$F116,\"\")","v":""},{"$f":"+IF(BH116<0,$F116,\"\")","v":1.4154916464835114},null,-0.57501030957373744,null,-0.57501030957373744,{"$f":"+BN114+4*BN115+BN116","v":-3.3991025628456759},{"$f":"+IF(BO116>0,$F116,\"\")","v":""},{"$f":"+IF(BO116<0,$F116,\"\")","v":1.4154916464835114},null,-0.57571643370699499,null,-0.57571643370699499,{"$f":"+BU114+4*BU115+BU116","v":-3.4032767286146721},{"$f":"+IF(BV116>0,$F116,\"\")","v":""},{"$f":"+IF(BV116<0,$F116,\"\")","v":1.4154916464835114}]
[null,null,null,0.54999999999999993,{"$f":"+E115","v":0.2367968305518256},null,null,{"$f":"+H115","v":-0.22584556969863512},0.72872938077478089,0.50288381107614577,null,null,null,null,{"$f":"+O115","v":-0.33714765188763041},1.8316162200241266,1.4944685681364962,null,null,null,null,{"$f":"+V115","v":-0.39105298072292921},3.8749246861006967,3.4838717053777675,null,null,null,null,{"$f":"+AC115","v":-0.41523860802561596},7.9077672790850277,7.4925286710594117,null,null,null,null,{"$f":"+AJ115","v":-0.42212235731416342},16.000759202407938,15.578636845093774,null,null,null,null,{"$f":"+AQ115","v":-0.44981220564360469},null,-0.44981220564360469,null,null,null,null,{"$f":"+AX115","v":-0.54453375409118243},null,-0.54453375409118243,null,null,null,null,{"$f":"+BE115","v":-0.5644726934533546},null,-0.5644726934533546,null,null,null,null,{"$f":"+BL115","v":-0.56863402592451795},null,-0.56863402592451795,null,null,null,null,{"$f":"+BS115","v":-0.56933231985422905},null,-0.56933231985422905]
[null,null,null,0.6,{"$f":"+E114","v":0.22885221160970565},{"$f":"+E116+4*E117+E118","v":1.4154916464835114},null,{"$f":"+H114","v":-0.21826836950199247},0.51206028790709468,0.29379191840510221,{"$f":"+J116+4*J117+J118","v":3.1130637404706571},{"$f":"+IF(K118>0,$F118,\"\")","v":1.4154916464835114},{"$f":"+IF(K118<0,$F118,\"\")","v":""},null,{"$f":"+O114","v":-0.32583622675058022},1.2870318580591484,0.96119563130856822,{"$f":"+Q116+4*Q117+Q118","v":9.2023517304237448},{"$f":"+IF(R118>0,$F118,\"\")","v":1.4154916464835114},{"$f":"+IF(R118<0,$F118,\"\")","v":""},null,{"$f":"+V114","v":-0.3779330123906508},2.722814672675125,2.3448816602844742,{"$f":"+X116+4*X117+X118","v":21.394336674744856},{"$f":"+IF(Y118>0,$F118,\"\")","v":1.4154916464835114},{"$f":"+IF(Y118<0,$F118,\"\")","v":""},null,{"$f":"+AC114","v":-0.40130720318741725},5.5565943908086144,5.1552871876211972,{"$f":"+AE116+4*AE117+AE118","v":45.948848656965623},{"$f":"+IF(AF118>0,$F118,\"\")","v":1.4154916464835114},{"$f":"+IF(AF118<0,$F118,\"\")","v":""},null,{"$f":"+AJ114","v":-0.40796000020830492},11.243341602620683,10.835381602412378,{"$f":"+AL116+4*AL117+AL118","v":95.473110659619138},{"$f":"+IF(AM118>0,$F118,\"\")","v":1.4154916464835114},{"$f":"+IF(AM118<0,$F118,\"\")","v":""},null,{"$f":"+AQ114","v":-0.43472084415441103},null,-0.43472084415441103,{"$f":"+AS116+4*AS117+AS118","v":-2.6888257671822844},{"$f":"+IF(AT118>0,$F118,\"\")","v":""},{"$f":"+IF(AT118<0,$F118,\"\")","v":1.4154916464835114},null,{"$f":"+AX114","v":-0.52626445053971582},null,-0.52626445053971582,{"$f":"+AZ116+4*AZ117+AZ118","v":-3.2550392602306433},{"$f":"+IF(BA118>0,$F118,\"\")","v":""},{"$f":"+IF(BA118<0,$F118,\"\")","v":1.4154916464835114},null,{"$f":"+BE114","v":-0.5455344313057221},null,-0.5455344313057221,{"$f":"+BG116+4*BG117+BG118","v":-3.3742275198079565},{"$f":"+IF(BH118>0,$F118,\"\")","v":""},{"$f":"+IF(BH118<0,$F118,\"\")","v":1.4154916464835114},null,{"$f":"+BL114","v":-0.54955614957386667},null,-0.54955614957386667,{"$f":"+BN116+4*BN117+BN118","v":-3.3991025628456759},{"$f":"+IF(BO118>0,$F118,\"\")","v":""},{"$f":"+IF(BO118<0,$F118,\"\")","v":1.4154916464835114},null,{"$f":"+BS114","v":-0.55023101549076103},null,-0.55023101549076103,{"$f":"+BU116+4*BU117+BU118","v":-3.4032767286146726},{"$f":"+IF(BV118>0,$F118,\"\")","v":""},{"$f":"+IF(BV118<0,$F118,\"\")","v":1.4154916464835114}]
[null,null,null,0.65,{"$f":"+E113","v":0.21568458054713197},null,null,{"$f":"+H113","v":-0.20570970842541383},0.35913521589447617,0.15342550746906233,null,null,null,null,{"$f":"+O113","v":-0.30708835802563239},0.90266414936477812,0.59557579133914573,null,null,null,null,{"$f":"+V113","v":-0.3561876141770024},1.9096552855300613,1.5534676713530589,null,null,null,null,{"$f":"+AC113","v":-0.37821690767680527},3.8971362812324779,3.5189193735556725,null,null,null,null,{"$f":"+AJ113","v":-0.38448691802462975},7.8855556839532435,7.5010687659286139,null,null,null,null,{"$f":"+AQ113","v":-0.40970800442359712},null,-0.40970800442359712,null,null,null,null,{"$f":"+AX113","v":-0.49598440178111713},null,-0.49598440178111713,null,null,null,null,{"$f":"+BE113","v":-0.51414563207656905},null,-0.51414563207656905,null,null,null,null,{"$f":"+BL113","v":-0.51793594990501479},null,-0.51793594990501479,null,null,null,null,{"$f":"+BS113","v":-0.51857198558580231},null,-0.51857198558580231]
[null,null,null,0.70000000000000007,{"$f":"+E112","v":0.19741361583269415},{"$f":"+E118+4*E119+E120","v":1.2890041496309277},null,{"$f":"+H112","v":-0.18828373010779967},0.2509172286380959,6.2633498530296233E-2,{"$f":"+J118+4*J119+J120","v":0.97012744681164775},{"$f":"+IF(K120>0,$F120,\"\")","v":1.2890041496309277},{"$f":"+IF(K120<0,$F120,\"\")","v":""},null,{"$f":"+O112","v":-0.28107444205877041},0.63066493266459434,0.34959049060582392,{"$f":"+Q118+4*Q119+Q120","v":3.6930892872709751},{"$f":"+IF(R120>0,$F120,\"\")","v":1.2890041496309277},{"$f":"+IF(R120<0,$F120,\"\")","v":""},null,{"$f":"+V112","v":-0.32601442648857754},1.3342200672408764,1.0082056407522988,{"$f":"+X118+4*X119+X120","v":9.56695798644901},{"$f":"+IF(Y120>0,$F120,\"\")","v":1.2890041496309277},{"$f":"+IF(Y120<0,$F120,\"\")","v":""},null,{"$f":"+AC112","v":-0.34617758545434063},2.7228146726751246,2.376637087220784,{"$f":"+AE118+4*AE119+AE120","v":21.607601769064672},{"$f":"+IF(AF120>0,$F120,\"\")","v":1.2890041496309277},{"$f":"+IF(AF120<0,$F120,\"\")","v":""},null,{"$f":"+AJ112","v":-0.35191645380984621},5.5094061816268836,5.1574897278170377,{"$f":"+AL118+4*AL119+AL120","v":45.997146393943872},{"$f":"+IF(AM120>0,$F120,\"\")","v":1.2890041496309277},{"$f":"+IF(AM120<0,$F120,\"\")","v":""},null,{"$f":"+AQ112","v":-0.37500102410512937},null,-0.37500102410512937,{"$f":"+AS118+4*AS119+AS120","v":-2.4485538859539293},{"$f":"+IF(AT120>0,$F120,\"\")","v":""},{"$f":"+IF(AT120<0,$F120,\"\")","v":1.2890041496309277},null,{"$f":"+AX112","v":-0.4539688182801257},null,-0.4539688182801257,{"$f":"+AZ118+4*AZ119+AZ120","v":-2.9641708759443097},{"$f":"+IF(BA120>0,$F120,\"\")","v":""},{"$f":"+IF(BA120<0,$F120,\"\")","v":1.2890041496309277},null,{"$f":"+BE112","v":-0.47059158348429836},null,-0.47059158348429836,{"$f":"+BG118+4*BG119+BG120","v":-3.0727085430962968},{"$f":"+IF(BH120>0,$F120,\"\")","v":""},{"$f":"+IF(BH120<0,$F120,\"\")","v":1.2890041496309277},null,{"$f":"+BL112","v":-0.47406081779752768},null,-0.47406081779752768,{"$f":"+BN118+4*BN119+BN120","v":-3.0953607669914533},{"$f":"+IF(BO120>0,$F120,\"\")","v":""},{"$f":"+IF(BO120<0,$F120,\"\")","v":1.2890041496309277},null,{"$f":"+BS112","v":-0.4746429739406528},null,-0.4746429739406528,{"$f":"+BU118+4*BU119+BU120","v":-3.0991619317746233},{"$f":"+IF(BV120>0,$F120,\"\")","v":""},{"$f":"+IF(BV120<0,$F120,\"\")","v":1.2890041496309277}]
[null,null,null,0.75000000000000011,{"$f":"+E111","v":0.17422724791653407},null,null,{"$f":"+H111","v":-0.16616967368624949},0.17393476858999701,7.7650949037475214E-3,null,null,null,null,{"$f":"+O111","v":-0.24806205130793568},0.43717428140041126,0.18911223009247558,null,null,null,null,{"$f":"+V111","v":-0.28772380298393374},0.92487574449655841,0.63715194151262466,null,null,null,null,{"$f":"+AC111","v":-0.30551878475907984},1.8874436903982783,1.5819249056391984,null,null,null,null,{"$f":"+AJ111","v":-0.3105836189931197},3.8190972157265373,3.5085135967334176,null,null,null,null,{"$f":"+AQ111","v":-0.33095689028404995},null,-0.33095689028404995,null,null,null,null,{"$f":"+AX111","v":-0.40064986153689891},null,-0.40064986153689891,null,null,null,null,{"$f":"+BE111","v":-0.41532027128584026},null,-0.41532027128584026,null,null,null,null,{"$f":"+BL111","v":-0.41838204159090275},null,-0.41838204159090275,null,null,null,null,{"$f":"+BS111","v":-0.41889582308589524},null,-0.41889582308589524]
[null,null,null,0.80000000000000016,{"$f":"+E110","v":0.14640505382433389},{"$f":"+E120+4*E121+E122","v":1.0407276613231642},null,{"$f":"+H110","v":-0.13963418644862055},0.11860464475749941,-2.1029541691121145E-2,{"$f":"+J120+4*J121+J122","v":7.2664336454165174E-2},{"$f":"+IF(K122>0,$F122,\"\")","v":1.0407276613231642},{"$f":"+IF(K122<0,$F122,\"\")","v":""},null,{"$f":"+O110","v":-0.20844924320282787},0.29810543781982418,8.965619461699631E-2,{"$f":"+Q120+4*Q121+Q122","v":1.1956956055927226},{"$f":"+IF(R122>0,$F122,\"\")","v":1.0407276613231642},{"$f":"+IF(R122<0,$F122,\"\")","v":""},null,{"$f":"+V110","v":-0.24177744506751916},0.63066493266459334,0.38888748759707414,{"$f":"+X120+4*X121+X122","v":3.9457008943998719},{"$f":"+IF(Y122>0,$F122,\"\")","v":1.0407276613231642},{"$f":"+IF(Y122<0,$F122,\"\")","v":""},null,{"$f":"+AC110","v":-0.25673076204719963},1.2870318580591462,1.0303010960119465,{"$f":"+AE120+4*AE121+AE122","v":9.7346378057895251},{"$f":"+IF(AF122>0,$F122,\"\")","v":1.0407276613231642},{"$f":"+IF(AF122<0,$F122,\"\")","v":""},null,{"$f":"+AJ110","v":-0.26098679741200759},2.6042100279176208,2.3432232305056133,{"$f":"+AL120+4*AL121+AL122","v":21.534767345256324},{"$f":"+IF(AM122>0,$F122,\"\")","v":1.0407276613231642},{"$f":"+IF(AM122<0,$F122,\"\")","v":""},null,{"$f":"+AQ110","v":-0.27810667915034126},null,-0.27810667915034126,{"$f":"+AS120+4*AS121+AS122","v":-1.9769352643916704},{"$f":"+IF(AT122>0,$F122,\"\")","v":""},{"$f":"+IF(AT122<0,$F122,\"\")","v":1.0407276613231642},null,{"$f":"+AX110","v":-0.33667044187670409},null,-0.33667044187670409,{"$f":"+AZ120+4*AZ121+AZ122","v":-2.3932387063044254},{"$f":"+IF(BA122>0,$F122,\"\")","v":""},{"$f":"+IF(BA122<0,$F122,\"\")","v":1.0407276613231642},null,{"$f":"+BE110","v":-0.34899814695500359},null,-0.34899814695500359,{"$f":"+BG120+4*BG121+BG122","v":-2.4808708155826631},{"$f":"+IF(BH122>0,$F122,\"\")","v":""},{"$f":"+IF(BH122<0,$F122,\"\")","v":1.0407276613231642},null,{"$f":"+BL110","v":-0.35157098588617447},null,-0.35157098588617447,{"$f":"+BN120+4*BN121+BN122","v":-2.4991599700473133},{"$f":"+IF(BO122>0,$F122,\"\")","v":""},{"$f":"+IF(BO122<0,$F122,\"\")","v":1.0407276613231642},null,{"$f":"+BS110","v":-0.35200272207168981},null,-0.35200272207168981,{"$f":"+BU120+4*BU121+BU122","v":-2.5022289883559234},{"$f":"+IF(BV122>0,$F122,\"\")","v":""},{"$f":"+IF(BV122<0,$F122,\"\")","v":1.0407276613231642}]
[null,null,null,0.8500000000000002,{"$f":"+E109","v":0.11435306041032518},null,null,{"$f":"+H109","v":-0.10906451752317688},7.8039065505935312E-2,-3.1025452017241564E-2,null,null,null,null,{"$f":"+O109","v":-0.16281411247633887},0.19614636372177829,3.3332251245439426E-2,null,null,null,null,{"$f":"+V109","v":-0.18884587696565391},0.41496268626862953,0.22611680930297562,null,null,null,null,{"$f":"+AC109","v":-0.20052551175451755},0.84683667899062254,0.64631116723610504,null,null,null,null,{"$f":"+AJ109","v":-0.20384978681516081},1.7135089218082797,1.509659134993119,null,null,null,null,{"$f":"+AQ109","v":-0.21722166722162733},null,-0.21722166722162733,null,null,null,null,{"$f":"+AX109","v":-0.26296425138773916},null,-0.26296425138773916,null,null,null,null,{"$f":"+BE109","v":-0.27259309114917873},null,-0.27259309114917873,null,null,null,null,{"$f":"+BL109","v":-0.27460266662514038},null,-0.27460266662514038,null,null,null,null,{"$f":"+BS109","v":-0.27493988417886495},null,-0.27493988417886495]
[null,null,null,0.90000000000000024,{"$f":"+E108","v":7.8654288765584196E-2},{"$f":"+E122+4*E123+E124","v":0.6824715842312189},null,{"$f":"+H108","v":-7.5016724734483009E-2},4.7188209181728502E-2,-2.7828515552754507E-2,{"$f":"+J122+4*J123+J124","v":-0.17295986531284191},{"$f":"+IF(K124>0,$F124,\"\")","v":""},{"$f":"+IF(K124<0,$F124,\"\")","v":0.6824715842312189},null,{"$f":"+O108","v":-0.11198675550855636},0.11860464475749934,6.6178892489429791E-3,{"$f":"+Q122+4*Q123+Q124","v":0.22960308884769698},{"$f":"+IF(R124>0,$F124,\"\")","v":0.6824715842312189},{"$f":"+IF(R124<0,$F124,\"\")","v":""},null,{"$f":"+V108","v":-0.1298919161913866},0.25091722863809535,0.12102531244670875,{"$f":"+X122+4*X123+X124","v":1.4143800372556854},{"$f":"+IF(Y124>0,$F124,\"\")","v":0.6824715842312189},{"$f":"+IF(Y124<0,$F124,\"\")","v":""},null,{"$f":"+AC108","v":-0.13792539919624455},0.51206028790709357,0.37413488871084899,{"$f":"+AE122+4*AE123+AE124","v":3.9896806536672158},{"$f":"+IF(AF124>0,$F124,\"\")","v":0.6824715842312189},{"$f":"+IF(AF124<0,$F124,\"\")","v":""},null,{"$f":"+AJ108","v":-0.14021190110199028},1.0361146294210497,0.89590272831905948,{"$f":"+AL122+4*AL123+AL124","v":9.2777624987971485},{"$f":"+IF(AM124>0,$F124,\"\")","v":0.6824715842312189},{"$f":"+IF(AM124<0,$F124,\"\")","v":""},null,{"$f":"+AQ108","v":-0.14940934399556161},null,-0.14940934399556161,{"$f":"+AS122+4*AS123+AS124","v":-1.2964026920324123},{"$f":"+IF(AT124>0,$F124,\"\")","v":""},{"$f":"+IF(AT124<0,$F124,\"\")","v":0.6824715842312189},null,{"$f":"+AX108","v":-0.18087199493796297},null,-0.18087199493796297,{"$f":"+AZ122+4*AZ123+AZ124","v":-1.5693994423656237},{"$f":"+IF(BA124>0,$F124,\"\")","v":""},{"$f":"+IF(BA124<0,$F124,\"\")","v":0.6824715842312189},null,{"$f":"+BE108","v":-0.18749490070328542},null,-0.18749490070328542,{"$f":"+BG122+4*BG123+BG124","v":-1.6268654122550039},{"$f":"+IF(BH124>0,$F124,\"\")","v":""},{"$f":"+IF(BH124<0,$F124,\"\")","v":0.6824715842312189},null,{"$f":"+BL108","v":-0.18887712632291781},null,-0.18887712632291781,{"$f":"+BN122+4*BN123+BN124","v":-1.6388587787096538},{"$f":"+IF(BO124>0,$F124,\"\")","v":""},{"$f":"+IF(BO124<0,$F124,\"\")","v":0.6824715842312189},null,{"$f":"+BS108","v":-0.18910907120268144},null,-0.18910907120268144,{"$f":"+BU122+4*BU123+BU124","v":-1.640871329989831},{"$f":"+IF(BV124>0,$F124,\"\")","v":""},{"$f":"+IF(BV124<0,$F124,\"\")","v":0.6824715842312189}]
[null,null,null,0.95000000000000029,{"$f":"+E107","v":4.0141331821619095E-2},null,null,{"$f":"+H107","v":-3.8284895674443487E-2},2.2211595131781243E-2,-1.6073300542662244E-2,null,null,null,null,{"$f":"+O107","v":-5.7152605192235154E-2},5.5827470374153705E-2,-1.3251348180814485E-3,null,null,null,null,{"$f":"+V107","v":-6.629053025098143E-2},0.11810729821584237,5.1816767964860941E-2,null,null,null,null,{"$f":"+AC107","v":-7.0390430104407375E-2},0.24102791767863152,0.17063748757422414,null,null,null,null,{"$f":"+AJ107","v":-7.1557349711078133E-2},0.48770146309614454,0.41614411338506641,null,null,null,null,{"$f":"+AQ107","v":-7.6251278203668907E-2},null,-7.6251278203668907E-2,null,null,null,null,{"$f":"+AX107","v":-9.2308288333538963E-2},null,-9.2308288333538963E-2,null,null,null,null,{"$f":"+BE107","v":-9.5688298020505311E-2},null,-9.5688298020505311E-2,null,null,null,null,{"$f":"+BL107","v":-9.6393718896096325E-2},null,-9.6393718896096325E-2,null,null,null,null,{"$f":"+BS107","v":-9.6512092306231229E-2},null,-9.6512092306231229E-2]
[null,null,null,1.0000000000000002,{"$f":"+E106","v":0},{"$f":"+E124+4*E125+E126","v":0.23921961605206057},null,{"$f":"+H106","v":0},-1.101275285868755E-16,-1.101275285868755E-16,{"$f":"+J124+4*J125+J126","v":-9.2121717723403593E-2},{"$f":"+IF(K126>0,$F126,\"\")","v":""},{"$f":"+IF(K126<0,$F126,\"\")","v":0.23921961605206057},null,{"$f":"+O106","v":0},-2.767987307118501E-16,-2.767987307118501E-16,{"$f":"+Q124+4*Q125+Q126","v":1.3173499766169084E-3},{"$f":"+IF(R126>0,$F126,\"\")","v":0.23921961605206057},{"$f":"+IF(R126<0,$F126,\"\")","v":""},null,{"$f":"+V106","v":0},-5.8558895853333226E-16,-5.8558895853333226E-16,{"$f":"+X124+4*X125+X126","v":0.32829238430615187},{"$f":"+IF(Y126>0,$F126,\"\")","v":0.23921961605206057},{"$f":"+IF(Y126<0,$F126,\"\")","v":""},null,{"$f":"+AC106","v":0},-1.1950428925479837E-15,-1.1950428925479837E-15,{"$f":"+AE124+4*AE125+AE126","v":1.0566848390077446},{"$f":"+IF(AF126>0,$F126,\"\")","v":0.23921961605206057},{"$f":"+IF(AF126<0,$F126,\"\")","v":""},null,{"$f":"+AJ106","v":0},-2.4180774275924092E-15,-2.4180774275924092E-15,{"$f":"+AL124+4*AL125+AL126","v":2.5604791818593227},{"$f":"+IF(AM126>0,$F126,\"\")","v":0.23921961605206057},{"$f":"+IF(AM126<0,$F126,\"\")","v":""},null,{"$f":"+AQ106","v":0},null,0,{"$f":"+AS124+4*AS125+AS126","v":-0.45441445681023723},{"$f":"+IF(AT126>0,$F126,\"\")","v":""},{"$f":"+IF(AT126<0,$F126,\"\")","v":0.23921961605206057},null,{"$f":"+AX106","v":0},null,0,{"$f":"+AZ124+4*AZ125+AZ126","v":-0.55010514827211887},{"$f":"+IF(BA126>0,$F126,\"\")","v":""},{"$f":"+IF(BA126<0,$F126,\"\")","v":0.23921961605206057},null,{"$f":"+BE106","v":0},null,0,{"$f":"+BG124+4*BG125+BG126","v":-0.57024809278530664},{"$f":"+IF(BH126>0,$F126,\"\")","v":""},{"$f":"+IF(BH126<0,$F126,\"\")","v":0.23921961605206057},null,{"$f":"+BL106","v":0},null,0,{"$f":"+BN124+4*BN125+BN126","v":-0.57445200190730317},{"$f":"+IF(BO126>0,$F126,\"\")","v":""},{"$f":"+IF(BO126<0,$F126,\"\")","v":0.23921961605206057},null,{"$f":"+BS106","v":0},null,0,{"$f":"+BU124+4*BU125+BU126","v":-0.5751574404276063},{"$f":"+IF(BV126>0,$F126,\"\")","v":""},{"$f":"+IF(BV126<0,$F126,\"\")","v":0.23921961605206057}]
[null,null,null,null,null,null,null,null,null,null,{"$f":"+SUMIF(K106:K126,\">0\")","v":187.35575020782358},{"$f":"+SUM(L106:L126)","v":8.412138115158486},{"$f":"+SUM(M106:M126)","v":0.92169120028327944},null,null,null,null,{"$f":"+SUMIF(R106:R126,\">0\")","v":279.29341142756562},{"$f":"+SUM(S106:S126)","v":9.3338293154417666},{"$f":"+SUM(T106:T126)","v":0},null,null,null,null,{"$f":"+SUMIF(Y106:Y126,\">0\")","v":323.94863325765334},{"$f":"+SUM(Z106:Z126)","v":9.3338293154417666},{"$f":"+SUM(AA106:AA126)","v":0},null,null,null,null,{"$f":"+SUMIF(AF106:AF126,\">0\")","v":343.9840281923764},{"$f":"+SUM(AG106:AG126)","v":9.3338293154417666},{"$f":"+SUM(AH106:AH126)","v":0},null,null,null,null,{"$f":"+SUMIF(AM106:AM126,\">0\")","v":349.68653215895154},{"$f":"+SUM(AN106:AN126)","v":9.3338293154417666},{"$f":"+SUM(AO106:AO126)","v":0},null,null,null,null,{"$f":"+SUMIF(AT106:AT126,\">0\")","v":0},{"$f":"+SUM(AU106:AU126)","v":0},{"$f":"+SUM(AV106:AV126)","v":9.3338293154417666},null,null,null,null,{"$f":"+SUMIF(BA106:BA126,\">0\")","v":0},{"$f":"+SUM(BB106:BB126)","v":0},{"$f":"+SUM(BC106:BC126)","v":9.3338293154417666},null,null,null,null,{"$f":"+SUMIF(BH106:BH126,\">0\")","v":0},{"$f":"+SUM(BI106:BI126)","v":0},{"$f":"+SUM(BJ106:BJ126)","v":9.3338293154417666},null,null,null,null,{"$f":"+SUMIF(BO106:BO126,\">0\")","v":0},{"$f":"+SUM(BP106:BP126)","v":0},{"$f":"+SUM(BQ106:BQ126)","v":9.3338293154417666},null,null,null,null,{"$f":"+SUMIF(BV106:BV126,\">0\")","v":0},{"$f":"+SUM(BW106:BW126)","v":0},{"$f":"+SUM(BX106:BX126)","v":9.3338293154417666}]
[null,null,null,null,null,null,null,null,null,null,{"$f":"+SUMIF(K106:K126,\"<0\")","v":-0.26508158303624552},null,null,null,null,null,null,{"$f":"+SUMIF(R106:R126,\"<0\")","v":0},null,null,null,null,null,null,{"$f":"+SUMIF(Y106:Y126,\"<0\")","v":0},null,null,null,null,null,null,{"$f":"+SUMIF(AF106:AF126,\"<0\")","v":0},null,null,null,null,null,null,{"$f":"+SUMIF(AM106:AM126,\"<0\")","v":0},null,null,null,null,null,null,{"$f":"+SUMIF(AT106:AT126,\"<0\")","v":-17.730264132741066},null,null,null,null,null,null,{"$f":"+SUMIF(BA106:BA126,\"<0\")","v":-21.46390686623424},null,null,null,null,null,null,{"$f":"+SUMIF(BH106:BH126,\"<0\")","v":-22.249840767054451},null,null,null,null,null,null,{"$f":"+SUMIF(BO106:BO126,\"<0\")","v":-22.413868161002799},null,null,null,null,null,null,{"$f":"+SUMIF(BV106:BV126,\"<0\")","v":-22.441392838325314}]
[]
[null,null,null,0,{"$f":"+E73","v":0},null,null,{"$f":"+H$87*$E130","v":0},null,{"$f":"+H130+I130","v":0},null,null,null,null,{"$f":"+O$87*$E130","v":0},null,{"$f":"+O130+P130","v":0},null,null,null,null,{"$f":"+V$87*$E130","v":0},null,{"$f":"+V130+W130","v":0},null,null,null,null,{"$f":"+AC$87*$E130","v":0},null,{"$f":"+AC130+AD130","v":0},null,null,null,null,{"$f":"+AJ$87*$E130","v":0},null,{"$f":"+AJ130+AK130","v":0},null,null,null,null,{"$f":"+AQ$87*$E130","v":0},{"$f":"+IF(AQ$86<$D130,SINH(AQ$88-AQ$88*$D130)/(AQ$89*SINH(AQ$88))*SINH(AQ$88*AQ$86),SINH(AQ$88*$D130)/(AQ$89*SINH(AQ$88))*SINH(AQ$88-AQ$88*AQ$86))","v":0},{"$f":"+AQ130+AR130","v":0},null,null,null,null,{"$f":"+AX$87*$E130","v":0},{"$f":"+IF(AX$86<$D130,SINH(AX$88-AX$88*$D130)/(AX$89*SINH(AX$88))*SINH(AX$88*AX$86),SINH(AX$88*$D130)/(AX$89*SINH(AX$88))*SINH(AX$88-AX$88*AX$86))","v":0},{"$f":"+AX130+AY130","v":0},null,null,null,null,{"$f":"+BE$87*$E130","v":0},{"$f":"+IF(BE$86<$D130,SINH(BE$88-BE$88*$D130)/(BE$89*SINH(BE$88))*SINH(BE$88*BE$86),SINH(BE$88*$D130)/(BE$89*SINH(BE$88))*SINH(BE$88-BE$88*BE$86))","v":0},{"$f":"+BE130+BF130","v":0},null,null,null,null,{"$f":"+BL$87*$E130","v":0},{"$f":"+IF(BL$86<$D130,SINH(BL$88-BL$88*$D130)/(BL$89*SINH(BL$88))*SINH(BL$88*BL$86),SINH(BL$88*$D130)/(BL$89*SINH(BL$88))*SINH(BL$88-BL$88*BL$86))","v":0},{"$f":"+BL130+BM130","v":0},null,null,null,null,{"$f":"+BS$87*$E130","v":0},{"$f":"+IF(BS$86<$D130,SINH(BS$88-BS$88*$D130)/(BS$89*SINH(BS$88))*SINH(BS$88*BS$86),SINH(BS$88*$D130)/(BS$89*SINH(BS$88))*SINH(BS$88-BS$88*BS$86))","v":0},{"$f":"+BS130+BT130","v":0}]
[null,null,null,{"$f":"+D130+0.05","v":0.05},{"$f":"+E74","v":0.30406267762501521},null,null,{"$f":"+H$87*$E131","v":-0.29000053967058709},null,-0.29000053967058709,null,null,null,null,{"$f":"+O$87*$E131","v":-0.4329197208807366},null,-0.4329197208807366,null,null,null,null,{"$f":"+V$87*$E131","v":-0.50213770232804589},null,-0.50213770232804589,null,null,null,null,{"$f":"+AC$87*$E131","v":-0.53319363572275447},null,-0.53319363572275447,null,null,null,null,{"$f":"+AJ$87*$E131","v":-0.54203282177054635},null,-0.54203282177054635,null,null,null,null,-0.57758840503768716,9.3013724096668557,8.7237840046291684,null,null,null,null,-0.69921709230786833,1.9587193251017343,1.2595022327938659,null,null,null,null,-0.72481999956526943,0.41247476440766834,-0.3123452351576011,null,null,null,null,-0.73016342367580833,8.6860546026750252E-2,-0.64330287764905814,null,null,null,null,-0.73106007892893177,1.8291429986567239E-2,-0.71276864894236458]
[null,null,null,0.1,0.58984846151224757,{"$f":"+E130+4*E131+E132","v":1.8060991720123085},null,-0.56256944620270799,null,-0.56256944620270799,{"$f":"+J130+4*J131+J132","v":-1.7225716048850563},{"$f":"+IF(K132>0,$F132,\"\")","v":""},{"$f":"+IF(K132<0,$F132,\"\")","v":1.8060991720123085},null,-0.83981708414320011,null,-0.83981708414320011,{"$f":"+Q130+4*Q131+Q132","v":-2.5714959676661464},{"$f":"+IF(R132>0,$F132,\"\")","v":""},{"$f":"+IF(R132<0,$F132,\"\")","v":1.8060991720123085},null,-0.97409242561088882,null,-0.97409242561088882,{"$f":"+X130+4*X131+X132","v":-2.9826432349230725},{"$f":"+IF(Y132>0,$F132,\"\")","v":""},{"$f":"+IF(Y132<0,$F132,\"\")","v":1.8060991720123085},null,-1.0343375522958769,null,-1.0343375522958769,{"$f":"+AE130+4*AE131+AE132","v":-3.1671120951868947},{"$f":"+IF(AF132>0,$F132,\"\")","v":""},{"$f":"+IF(AF132<0,$F132,\"\")","v":1.8060991720123085},null,-1.0514846100407951,null,-1.0514846100407951,{"$f":"+AL130+4*AL131+AL132","v":-3.2196158971229805},{"$f":"+IF(AM132>0,$F132,\"\")","v":""},{"$f":"+IF(AM132<0,$F132,\"\")","v":1.8060991720123085},null,-1.1204585671607732,24.537445111465498,23.416986544304724,{"$f":"+AS130+4*AS131+AS132","v":58.312122562821401},{"$f":"+IF(AT132>0,$F132,\"\")","v":1.8060991720123085},{"$f":"+IF(AT132<0,$F132,\"\")","v":""},null,-1.3564049668387601,5.1671910135003367,3.8107860466615766,{"$f":"+AZ130+4*AZ131+AZ132","v":8.8487949778370396},{"$f":"+IF(BA132>0,$F132,\"\")","v":1.8060991720123085},{"$f":"+IF(BA132<0,$F132,\"\")","v":""},null,-1.4060718170223365,1.0881272618435378,-0.31794455517879872,{"$f":"+BG130+4*BG131+BG132","v":-1.5673254958092031},{"$f":"+IF(BH132>0,$F132,\"\")","v":""},{"$f":"+IF(BH132<0,$F132,\"\")","v":1.8060991720123085},null,-1.4164374775349229,0.22914208641600281,-1.1872953911189201,{"$f":"+BN130+4*BN131+BN132","v":-3.7605069017151527},{"$f":"+IF(BO132>0,$F132,\"\")","v":""},{"$f":"+IF(BO132<0,$F132,\"\")","v":1.8060991720123085},null,-1.4181768910193162,4.8253627479655253E-2,-1.369923263539661,{"$f":"+BU130+4*BU131+BU132","v":-4.2209978593091195},{"$f":"+IF(BV132>0,$F132,\"\")","v":""},{"$f":"+IF(BV132<0,$F132,\"\")","v":1.8060991720123085}]
[null,null,null,0.15000000000000002,0.84813387677281515,null,null,-0.8089098073402895,null,-0.8089098073402895,null,null,null,null,-1.2075598494031574,null,-1.2075598494031574,null,null,null,null,-1.4006322626497922,null,-1.4006322626497922,null,null,null,null,-1.4872577879940629,null,-1.4872577879940629,null,null,null,null,-1.5119132741220755,null,-1.5119132741220755,null,null,null,null,-1.6110898482179874,11.260091734768592,9.6490018865506038,null,null,null,null,-1.950353485790981,11.672566499176257,9.7222130133852769,null,null,null,null,-2.0217686728125659,2.4580546355361559,0.43628596272358999,null,null,null,null,-2.0366732939305243,0.517626740420985,-1.5190465535095394,null,null,null,null,-2.039174369372931,0.10900384253478654,-1.9301705268381444]
[null,null,null,0.2,1.0746863522501127,{"$f":"+E132+4*E133+E134","v":5.0570703208536205},null,-1.0249847977511435,null,-1.0249847977511435,{"$f":"+J132+4*J133+J134","v":-4.8231934733150092},{"$f":"+IF(K134>0,$F134,\"\")","v":""},{"$f":"+IF(K134<0,$F134,\"\")","v":5.0570703208536205},null,-1.5301217475438671,null,-1.5301217475438671,{"$f":"+Q132+4*Q133+Q134","v":-7.2001782292996968},{"$f":"+IF(R134>0,$F134,\"\")","v":""},{"$f":"+IF(R134<0,$F134,\"\")","v":5.0570703208536205},null,-1.7747674257729562,null,-1.7747674257729562,{"$f":"+X132+4*X133+X134","v":-8.3513889019830145},{"$f":"+IF(Y134>0,$F134,\"\")","v":""},{"$f":"+IF(Y134<0,$F134,\"\")","v":5.0570703208536205},null,-1.8845322546443313,null,-1.8845322546443313,{"$f":"+AE132+4*AE133+AE134","v":-8.8679009589164597},{"$f":"+IF(AF134>0,$F134,\"\")","v":""},{"$f":"+IF(AF134<0,$F134,\"\")","v":5.0570703208536205},null,-1.9157736838284702,null,-1.9157736838284702,{"$f":"+AL132+4*AL133+AL134","v":-9.0149113903575682},{"$f":"+IF(AM134>0,$F134,\"\")","v":""},{"$f":"+IF(AM134<0,$F134,\"\")","v":5.0570703208536205},null,-2.0414421821195115,5.1671910135003367,3.1257488313808253,{"$f":"+AS132+4*AS133+AS134","v":65.138742921887967},{"$f":"+IF(AT134>0,$F134,\"\")","v":5.0570703208536205},{"$f":"+IF(AT134<0,$F134,\"\")","v":""},null,-2.4713295042740637,25.62557237330903,23.154242869034967,{"$f":"+AZ132+4*AZ133+AZ134","v":65.85388096923765},{"$f":"+IF(BA134>0,$F134,\"\")","v":5.0570703208536205},{"$f":"+IF(BA134<0,$F134,\"\")","v":""},null,-2.5618210280032181,5.3963330999163475,2.8345120719131294,{"$f":"+BG132+4*BG133+BG134","v":4.2617113676286902},{"$f":"+IF(BH134>0,$F134,\"\")","v":5.0570703208536205},{"$f":"+IF(BH134<0,$F134,\"\")","v":""},null,-2.5807069531379114,1.1363808893231908,-1.4443260638147206,{"$f":"+BN132+4*BN133+BN134","v":-8.7078076689717978},{"$f":"+IF(BO134>0,$F134,\"\")","v":""},{"$f":"+IF(BO134<0,$F134,\"\")","v":5.0570703208536205},null,-2.583876112768853,0.23930348617342023,-2.3445726265954328,{"$f":"+BU132+4*BU133+BU134","v":-11.435177997487671},{"$f":"+IF(BV134>0,$F134,\"\")","v":""},{"$f":"+IF(BV134<0,$F134,\"\")","v":5.0570703208536205}]
[null,null,null,0.25,1.2675636468653833,null,null,-1.2089420001461459,null,-1.2089420001461459,null,null,null,null,-1.8047374458639722,null,-1.8047374458639722,null,null,null,null,-2.093290443151639,null,-2.093290443151639,null,null,null,null,-2.2227551064838242,null,-2.2227551064838242,null,null,null,null,-2.2596035319123415,null,-2.2596035319123415,null,null,null,null,-2.4078261455673591,2.3711940895094021,-3.6632056057956941E-2,null,null,null,null,-2.9148666794594291,11.759427045203008,8.844560365743579,null,null,null,null,-3.0215989977664148,11.777718475189589,8.7561194774231748,null,null,null,null,-3.0438744384920144,2.4801979320441867,-0.56367650644782774,null,null,null,null,-3.0476123770364874,0.52228968043608326,-2.5253226966004041]
[null,null,null,0.3,1.4258746111279761,{"$f":"+E134+4*E135+E136","v":7.5708155508396215},null,-1.3599314784685781,null,-1.3599314784685781,{"$f":"+J134+4*J135+J136","v":-7.2206842768043051},{"$f":"+IF(K136>0,$F136,\"\")","v":""},{"$f":"+IF(K136<0,$F136,\"\")","v":7.5708155508396215},null,-2.0301381395506986,null,-2.0301381395506986,{"$f":"+Q134+4*Q135+Q136","v":-10.779209670550456},{"$f":"+IF(R136>0,$F136,\"\")","v":""},{"$f":"+IF(R136<0,$F136,\"\")","v":7.5708155508396215},null,-2.3547296453222897,null,-2.3547296453222897,{"$f":"+X134+4*X135+X136","v":-12.502658843701802},{"$f":"+IF(Y136>0,$F136,\"\")","v":""},{"$f":"+IF(Y136<0,$F136,\"\")","v":7.5708155508396215},null,-2.500363655054346,null,-2.500363655054346,{"$f":"+AE134+4*AE135+AE136","v":-13.275916335633973},{"$f":"+IF(AF136>0,$F136,\"\")","v":""},{"$f":"+IF(AF136<0,$F136,\"\")","v":7.5708155508396215},null,-2.5418142239535859,null,-2.5418142239535859,{"$f":"+AL134+4*AL135+AL136","v":-13.496002035431424},{"$f":"+IF(AM136>0,$F136,\"\")","v":""},{"$f":"+IF(AM136<0,$F136,\"\")","v":7.5708155508396215},null,-2.7085489375345326,1.0881272618435378,-1.6204216756909948,{"$f":"+AS134+4*AS135+AS136","v":1.3587989314580027},{"$f":"+IF(AT136>0,$F136,\"\")","v":7.5708155508396215},{"$f":"+IF(AT136<0,$F136,\"\")","v":""},null,-3.2789157399253699,5.3963330999163475,2.1174173599909776,{"$f":"+AZ134+4*AZ135+AZ136","v":60.649901692000263},{"$f":"+IF(BA136>0,$F136,\"\")","v":7.5708155508396215},{"$f":"+IF(BA136<0,$F136,\"\")","v":""},null,-3.398978273461347,25.673826000788708,22.274847727327362,{"$f":"+BG134+4*BG135+BG136","v":60.133837708933193},{"$f":"+IF(BH136>0,$F136,\"\")","v":7.5708155508396215},{"$f":"+IF(BH136<0,$F136,\"\")","v":""},null,-3.4240357807990374,5.4064944996737507,1.9824587188747134,{"$f":"+BN134+4*BN135+BN136","v":-1.7165733707313184},{"$f":"+IF(BO136>0,$F136,\"\")","v":""},{"$f":"+IF(BO136<0,$F136,\"\")","v":7.5708155508396215},null,-3.4282405650571697,1.1385205382324857,-2.2897200268246838,{"$f":"+BU134+4*BU135+BU136","v":-14.735583439821733},{"$f":"+IF(BV136>0,$F136,\"\")","v":""},{"$f":"+IF(BV136<0,$F136,\"\")","v":7.5708155508396215}]
[null,null,null,0.35,1.5492105930709912,null,null,-1.4775634798823998,null,-1.4775634798823998,null,null,null,null,-2.2057419962764837,null,-2.2057419962764837,null,null,null,null,-2.5584101728733102,null,-2.5584101728733102,null,null,null,null,-2.7166413026146725,null,-2.7166413026146725,null,null,null,null,-2.7616772825853952,null,-2.7616772825853952,null,null,null,null,-2.9428342949175805,0.49933531043441803,-2.4434989844831625,null,null,null,null,-3.5625369569215724,2.4763460655227192,-1.0861908913988532,null,null,null,null,-3.6929847167268575,11.781570341711035,8.0885856249841765,null,null,null,null,-3.7202096602811823,11.782381415204663,8.0621717549234795,null,null,null,null,-3.7247781519728349,2.4811794835468213,-1.2435986684260136]
[null,null,null,0.39999999999999997,1.6373846996376062,{"$f":"+E136+4*E137+E138","v":9.2601016830495464},null,-1.5616597546669857,null,-1.5616597546669857,{"$f":"+J136+4*J137+J138","v":-8.8318451526651636},{"$f":"+IF(K138>0,$F138,\"\")","v":""},{"$f":"+IF(K138<0,$F138,\"\")","v":9.2601016830495464},null,-2.3312829206078916,null,-2.3312829206078916,{"$f":"+Q136+4*Q137+Q138","v":-13.184389045264526},{"$f":"+IF(R138>0,$F138,\"\")","v":""},{"$f":"+IF(R138<0,$F138,\"\")","v":9.2601016830495464},null,-2.7040233853268001,null,-2.7040233853268001,{"$f":"+X136+4*X137+X138","v":-15.292393722142329},{"$f":"+IF(Y138>0,$F138,\"\")","v":""},{"$f":"+IF(Y138<0,$F138,\"\")","v":9.2601016830495464},null,-2.8712603200622491,null,-2.8712603200622491,{"$f":"+AE136+4*AE137+AE138","v":-16.238189185575283},{"$f":"+IF(AF138>0,$F138,\"\")","v":""},{"$f":"+IF(AF138<0,$F138,\"\")","v":9.2601016830495464},null,-2.9188595456724165,null,-2.9188595456724165,{"$f":"+AL136+4*AL137+AL138","v":-16.507382899967581},{"$f":"+IF(AM138>0,$F138,\"\")","v":""},{"$f":"+IF(AM138<0,$F138,\"\")","v":9.2601016830495464},null,-3.1103272012329075,0.22914208641600323,-2.8811851148169043,{"$f":"+AS136+4*AS137+AS138","v":-14.27560272844055},{"$f":"+IF(AT138>0,$F138,\"\")","v":""},{"$f":"+IF(AT138<0,$F138,\"\")","v":9.2601016830495464},null,-3.7653005545189924,1.1363808893231928,-2.6289196651957996,{"$f":"+AZ136+4*AZ137+AZ138","v":-4.8562658708002342},{"$f":"+IF(BA138>0,$F138,\"\")","v":""},{"$f":"+IF(BA138<0,$F138,\"\")","v":9.2601016830495464},null,-3.9031728147284785,5.4064944996737596,1.5033216849452811,{"$f":"+BG136+4*BG137+BG138","v":56.132511912209353},{"$f":"+IF(BH138>0,$F138,\"\")","v":9.2601016830495464},{"$f":"+IF(BH138<0,$F138,\"\")","v":""},null,-3.9319472797519732,25.675965649697954,21.74401836994598,{"$f":"+BN136+4*BN137+BN138","v":55.975164108514605},{"$f":"+IF(BO138>0,$F138,\"\")","v":9.2601016830495464},{"$f":"+IF(BO138<0,$F138,\"\")","v":""},null,-3.9367757894651074,5.4069442284454263,1.4701684389803189,{"$f":"+BU136+4*BU137+BU138","v":-5.7939462615484194},{"$f":"+IF(BV138>0,$F138,\"\")","v":""},{"$f":"+IF(BV138<0,$F138,\"\")","v":9.2601016830495464}]
[null,null,null,0.44999999999999996,1.6903125503774092,null,null,-1.6121398247566019,null,-1.6121398247566019,null,null,null,null,-2.4066407729693404,null,-2.4066407729693404,null,null,null,null,-2.7914299344213345,null,-2.7914299344213345,null,null,null,null,-2.9640727408018641,null,-2.9640727408018641,null,null,null,null,-3.0132105936564306,null,-3.0132105936564306,null,null,null,null,-3.2108673698904258,0.10515197601331769,-3.1057153938771083,null,null,null,null,-3.8870124929438394,0.52147860694245496,-3.3655338860013844,null,null,null,null,-4.0293414226282156,2.4810090055378193,-1.5483324170903963,null,null,null,null,-4.0590460115194968,11.782551893213698,7.7235058816942015,null,null,null,null,-4.0640306010112246,11.782586268736029,7.7185556677248046]
[null,null,null,0.49999999999999994,1.7079584388662556,{"$f":"+E138+4*E139+E140","v":10.106593340013498},null,-1.628969635059869,null,-1.628969635059869,{"$f":"+J138+4*J139+J140","v":-9.6391886887532632},{"$f":"+IF(K140>0,$F140,\"\")","v":""},{"$f":"+IF(K140<0,$F140,\"\")","v":10.106593340013498},null,-2.4317647151083528,null,-2.4317647151083528,{"$f":"+Q138+4*Q139+Q140","v":-14.389610727593606},{"$f":"+IF(R140>0,$F140,\"\")","v":""},{"$f":"+IF(R140<0,$F140,\"\")","v":10.106593340013498},null,-2.8205708535585843,null,-2.8205708535585843,{"$f":"+X138+4*X139+X140","v":-16.690313976570724},{"$f":"+IF(Y140>0,$F140,\"\")","v":""},{"$f":"+IF(Y140<0,$F140,\"\")","v":10.106593340013498},null,-2.9950159513018044,null,-2.9950159513018044,{"$f":"+AE138+4*AE139+AE140","v":-17.72256723457151},{"$f":"+IF(AF140>0,$F140,\"\")","v":""},{"$f":"+IF(AF140<0,$F140,\"\")","v":10.106593340013498},null,-3.0446667750101102,null,-3.0446667750101102,{"$f":"+AL138+4*AL139+AL140","v":-18.016368695308248},{"$f":"+IF(AM140>0,$F140,\"\")","v":""},{"$f":"+IF(AM140<0,$F140,\"\")","v":10.106593340013498},null,-3.2443869740304478,4.8253627479655302E-2,-3.1961333465507926,{"$f":"+AS138+4*AS139+AS140","v":-18.500180036876131},{"$f":"+IF(AT140>0,$F140,\"\")","v":""},{"$f":"+IF(AT140<0,$F140,\"\")","v":10.106593340013498},null,-3.9275906623421113,0.23930348617342048,-3.6882871761686906,{"$f":"+AZ138+4*AZ139+AZ140","v":-19.779342385370025},{"$f":"+IF(BA140>0,$F140,\"\")","v":""},{"$f":"+IF(BA140<0,$F140,\"\")","v":10.106593340013498},null,-4.071405423993709,1.1385205382324868,-2.9328848857612222,{"$f":"+BG138+4*BG139+BG140","v":-7.6228928691775266},{"$f":"+IF(BH140>0,$F140,\"\")","v":""},{"$f":"+IF(BH140<0,$F140,\"\")","v":10.106593340013498},null,-4.1014201116670561,5.406944228445437,1.3055241167783809,{"$f":"+BN138+4*BN139+BN140","v":53.943566013501162},{"$f":"+IF(BO140>0,$F140,\"\")","v":10.106593340013498},{"$f":"+IF(BO140<0,$F140,\"\")","v":""},null,-4.1064567373992507,25.676056333895509,21.569599596496261,{"$f":"+BU138+4*BU139+BU140","v":53.913990706375799},{"$f":"+IF(BV140>0,$F140,\"\")","v":10.106593340013498},{"$f":"+IF(BV140<0,$F140,\"\")","v":""}]
[null,null,null,0.54999999999999993,{"$f":"+E139","v":1.6903125503774092},null,null,{"$f":"+H139","v":-1.6121398247566019},null,-1.6121398247566019,null,null,null,null,{"$f":"+O139","v":-2.4066407729693404},null,-2.4066407729693404,null,null,null,null,{"$f":"+V139","v":-2.7914299344213345},null,-2.7914299344213345,null,null,null,null,{"$f":"+AC139","v":-2.9640727408018641},null,-2.9640727408018641,null,null,null,null,{"$f":"+AJ139","v":-3.0132105936564306},null,-3.0132105936564306,null,null,null,null,{"$f":"+AQ139","v":-3.2108673698904258},2.2143296508036231E-2,-3.1887240733823896,null,null,null,null,{"$f":"+AX139","v":-3.8870124929438394},0.10981491602841567,-3.7771975769154236,null,null,null,null,{"$f":"+BE139","v":-4.0293414226282156},0.52246015844508786,-3.5068812641831277,null,null,null,null,{"$f":"+BL139","v":-4.0590460115194968},2.4812138590691868,-1.5778321524503101,null,null,null,null,{"$f":"+BS139","v":-4.0640306010112246},11.782586268736051,7.7185556677248259]
[null,null,null,0.6,{"$f":"+E138","v":1.6373846996376062},{"$f":"+E140+4*E141+E142","v":10.106593340013498},null,{"$f":"+H138","v":-1.5616597546669857},null,-1.5616597546669857,{"$f":"+J140+4*J141+J142","v":-9.6391886887532614},{"$f":"+IF(K142>0,$F142,\"\")","v":""},{"$f":"+IF(K142<0,$F142,\"\")","v":10.106593340013498},null,{"$f":"+O138","v":-2.3312829206078916},null,-2.3312829206078916,{"$f":"+Q140+4*Q141+Q142","v":-14.389610727593606},{"$f":"+IF(R142>0,$F142,\"\")","v":""},{"$f":"+IF(R142<0,$F142,\"\")","v":10.106593340013498},null,{"$f":"+V138","v":-2.7040233853268001},null,-2.7040233853268001,{"$f":"+X140+4*X141+X142","v":-16.690313976570721},{"$f":"+IF(Y142>0,$F142,\"\")","v":""},{"$f":"+IF(Y142<0,$F142,\"\")","v":10.106593340013498},null,{"$f":"+AC138","v":-2.8712603200622491},null,-2.8712603200622491,{"$f":"+AE140+4*AE141+AE142","v":-17.72256723457151},{"$f":"+IF(AF142>0,$F142,\"\")","v":""},{"$f":"+IF(AF142<0,$F142,\"\")","v":10.106593340013498},null,{"$f":"+AJ138","v":-2.9188595456724165},null,-2.9188595456724165,{"$f":"+AL140+4*AL141+AL142","v":-18.016368695308248},{"$f":"+IF(AM142>0,$F142,\"\")","v":""},{"$f":"+IF(AM142<0,$F142,\"\")","v":10.106593340013498},null,{"$f":"+AQ138","v":-3.1103272012329075},1.0161399757417254E-2,-3.1001658014754905,{"$f":"+AS140+4*AS141+AS142","v":-19.051195441555841},{"$f":"+IF(AT142>0,$F142,\"\")","v":""},{"$f":"+IF(AT142<0,$F142,\"\")","v":10.106593340013498},null,{"$f":"+AX138","v":-3.7653005545189924},5.0393276388949908E-2,-3.7149072781300423,{"$f":"+AZ140+4*AZ141+AZ142","v":-22.511984761960427},{"$f":"+IF(BA142>0,$F142,\"\")","v":""},{"$f":"+IF(BA142<0,$F142,\"\")","v":10.106593340013498},null,{"$f":"+BE138","v":-3.9031728147284785},0.23975321494509111,-3.6634195997833876,{"$f":"+BG140+4*BG141+BG142","v":-20.623829542277122},{"$f":"+IF(BH142>0,$F142,\"\")","v":""},{"$f":"+IF(BH142<0,$F142,\"\")","v":10.106593340013498},null,{"$f":"+BL138","v":-3.9319472797519732},1.1386112224300398,-2.7933360573219335,{"$f":"+BN140+4*BN141+BN142","v":-7.7991405503447933},{"$f":"+IF(BO142>0,$F142,\"\")","v":""},{"$f":"+IF(BO142<0,$F142,\"\")","v":10.106593340013498},null,{"$f":"+BS138","v":-3.9367757894651074},5.4069442284454317,1.4701684389803242,{"$f":"+BU140+4*BU141+BU142","v":53.913990706375884},{"$f":"+IF(BV142>0,$F142,\"\")","v":10.106593340013498},{"$f":"+IF(BV142<0,$F142,\"\")","v":""}]
[null,null,null,0.65,{"$f":"+E137","v":1.5492105930709912},null,null,{"$f":"+H137","v":-1.4775634798823998},null,-1.4775634798823998,null,null,null,null,{"$f":"+O137","v":-2.2057419962764837},null,-2.2057419962764837,null,null,null,null,{"$f":"+V137","v":-2.5584101728733102},null,-2.5584101728733102,null,null,null,null,{"$f":"+AC137","v":-2.7166413026146725},null,-2.7166413026146725,null,null,null,null,{"$f":"+AJ137","v":-2.7616772825853952},null,-2.7616772825853952,null,null,null,null,{"$f":"+AQ137","v":-2.9428342949175805},4.6629400150979879E-3,-2.9381713549024826,null,null,null,null,{"$f":"+AX137","v":-3.5625369569215724},2.3124848010669427E-2,-3.539412108910903,null,null,null,null,{"$f":"+BE137","v":-3.6929847167268575},0.11001976955978035,-3.5829649471670773,null,null,null,null,{"$f":"+BL137","v":-3.7202096602811823},0.52249453396744805,-3.1977151263137342,null,null,null,null,{"$f":"+BS137","v":-3.7247781519728349},2.4811794835468195,-1.2435986684260154]
[null,null,null,0.70000000000000007,{"$f":"+E136","v":1.4258746111279761},{"$f":"+E142+4*E143+E144","v":9.2601016830495482},null,{"$f":"+H136","v":-1.3599314784685781},null,-1.3599314784685781,{"$f":"+J142+4*J143+J144","v":-8.8318451526651636},{"$f":"+IF(K144>0,$F144,\"\")","v":""},{"$f":"+IF(K144<0,$F144,\"\")","v":9.2601016830495482},null,{"$f":"+O136","v":-2.0301381395506986},null,-2.0301381395506986,{"$f":"+Q142+4*Q143+Q144","v":-13.184389045264526},{"$f":"+IF(R144>0,$F144,\"\")","v":""},{"$f":"+IF(R144<0,$F144,\"\")","v":9.2601016830495482},null,{"$f":"+V136","v":-2.3547296453222897},null,-2.3547296453222897,{"$f":"+X142+4*X143+X144","v":-15.292393722142332},{"$f":"+IF(Y144>0,$F144,\"\")","v":""},{"$f":"+IF(Y144<0,$F144,\"\")","v":9.2601016830495482},null,{"$f":"+AC136","v":-2.500363655054346},null,-2.500363655054346,{"$f":"+AE142+4*AE143+AE144","v":-16.238189185575287},{"$f":"+IF(AF144>0,$F144,\"\")","v":""},{"$f":"+IF(AF144<0,$F144,\"\")","v":9.2601016830495482},null,{"$f":"+AJ136","v":-2.5418142239535859},null,-2.5418142239535859,{"$f":"+AL142+4*AL143+AL144","v":-16.507382899967585},{"$f":"+IF(AM144>0,$F144,\"\")","v":""},{"$f":"+IF(AM144<0,$F144,\"\")","v":9.2601016830495482},null,{"$f":"+AQ136","v":-2.7085489375345326},2.1396489092946245E-3,-2.7064092886252382,{"$f":"+AS142+4*AS143+AS144","v":-17.559260509710661},{"$f":"+IF(AT144>0,$F144,\"\")","v":""},{"$f":"+IF(AT144<0,$F144,\"\")","v":9.2601016830495482},null,{"$f":"+AX136","v":-3.2789157399253699},1.0611128529088109E-2,-3.2683046113962817,{"$f":"+AZ142+4*AZ143+AZ144","v":-21.140860325169935},{"$f":"+IF(BA144>0,$F144,\"\")","v":""},{"$f":"+IF(BA144<0,$F144,\"\")","v":9.2601016830495482},null,{"$f":"+BE136","v":-3.398978273461347},5.0483960586502015E-2,-3.3484943128748448,{"$f":"+BG142+4*BG143+BG144","v":-21.343773701326541},{"$f":"+IF(BH144>0,$F144,\"\")","v":""},{"$f":"+IF(BH144<0,$F144,\"\")","v":9.2601016830495482},null,{"$f":"+BL136","v":-3.4240357807990374},0.23975321494509091,-3.1842825658539464,{"$f":"+BN142+4*BN143+BN144","v":-18.768479128430819},{"$f":"+IF(BO144>0,$F144,\"\")","v":""},{"$f":"+IF(BO144<0,$F144,\"\")","v":9.2601016830495482},null,{"$f":"+BS136","v":-3.4282405650571697},1.1385205382324846,-2.2897200268246851,{"$f":"+BU142+4*BU143+BU144","v":-5.7939462615484221},{"$f":"+IF(BV144>0,$F144,\"\")","v":""},{"$f":"+IF(BV144<0,$F144,\"\")","v":9.2601016830495482}]
[null,null,null,0.75000000000000011,{"$f":"+E135","v":1.2675636468653833},null,null,{"$f":"+H135","v":-1.2089420001461459},null,-1.2089420001461459,null,null,null,null,{"$f":"+O135","v":-1.8047374458639722},null,-1.8047374458639722,null,null,null,null,{"$f":"+V135","v":-2.093290443151639},null,-2.093290443151639,null,null,null,null,{"$f":"+AC135","v":-2.2227551064838242},null,-2.2227551064838242,null,null,null,null,{"$f":"+AJ135","v":-2.2596035319123415},null,-2.2596035319123415,null,null,null,null,{"$f":"+AQ135","v":-2.4078261455673591},9.8155150263324145E-4,-2.4068445940647258,null,null,null,null,{"$f":"+AX135","v":-2.9148666794594291},4.867793546462963E-3,-2.909998885912966,null,null,null,null,{"$f":"+BE135","v":-3.0215989977664148},2.3159223533030165E-2,-2.9984397742333848,null,null,null,null,{"$f":"+BL135","v":-3.0438744384920144},0.10998539403741968,-2.9338890444545949,null,null,null,null,{"$f":"+BS135","v":-3.0476123770364874},0.52228968043608259,-2.525322696600405]
[null,null,null,0.80000000000000016,{"$f":"+E134","v":1.0746863522501127},{"$f":"+E144+4*E145+E146","v":7.5708155508396215},null,{"$f":"+H134","v":-1.0249847977511435},null,-1.0249847977511435,{"$f":"+J144+4*J145+J146","v":-7.2206842768043051},{"$f":"+IF(K146>0,$F146,\"\")","v":""},{"$f":"+IF(K146<0,$F146,\"\")","v":7.5708155508396215},null,{"$f":"+O134","v":-1.5301217475438671},null,-1.5301217475438671,{"$f":"+Q144+4*Q145+Q146","v":-10.779209670550454},{"$f":"+IF(R146>0,$F146,\"\")","v":""},{"$f":"+IF(R146<0,$F146,\"\")","v":7.5708155508396215},null,{"$f":"+V134","v":-1.7747674257729562},null,-1.7747674257729562,{"$f":"+X144+4*X145+X146","v":-12.502658843701802},{"$f":"+IF(Y146>0,$F146,\"\")","v":""},{"$f":"+IF(Y146<0,$F146,\"\")","v":7.5708155508396215},null,{"$f":"+AC134","v":-1.8845322546443313},null,-1.8845322546443313,{"$f":"+AE144+4*AE145+AE146","v":-13.275916335633973},{"$f":"+IF(AF146>0,$F146,\"\")","v":""},{"$f":"+IF(AF146<0,$F146,\"\")","v":7.5708155508396215},null,{"$f":"+AJ134","v":-1.9157736838284702},null,-1.9157736838284702,{"$f":"+AL144+4*AL145+AL146","v":-13.496002035431422},{"$f":"+IF(AM146>0,$F146,\"\")","v":""},{"$f":"+IF(AM146<0,$F146,\"\")","v":7.5708155508396215},null,{"$f":"+AQ134","v":-2.0414421821195115},4.4972877167087432E-4,-2.0409924533478407,{"$f":"+AS144+4*AS145+AS146","v":-14.374780118231982},{"$f":"+IF(AT146>0,$F146,\"\")","v":""},{"$f":"+IF(AT146<0,$F146,\"\")","v":7.5708155508396215},null,{"$f":"+AX134","v":-2.4713295042740637},2.2303331068468562E-3,-2.4690991711672168,{"$f":"+AZ144+4*AZ145+AZ146","v":-17.377399326215361},{"$f":"+IF(BA146>0,$F146,\"\")","v":""},{"$f":"+IF(BA146<0,$F146,\"\")","v":7.5708155508396215},null,{"$f":"+BE134","v":-2.5618210280032181},1.0611128529088082E-2,-2.5512098994741299,{"$f":"+BG144+4*BG145+BG146","v":-17.893463309282513},{"$f":"+IF(BH146>0,$F146,\"\")","v":""},{"$f":"+IF(BH146<0,$F146,\"\")","v":7.5708155508396215},null,{"$f":"+BL134","v":-2.5807069531379114},5.0393276388949734E-2,-2.5303136767489618,{"$f":"+BN144+4*BN145+BN146","v":-17.450152420421286},{"$f":"+IF(BO146>0,$F146,\"\")","v":""},{"$f":"+IF(BO146<0,$F146,\"\")","v":7.5708155508396215},null,{"$f":"+BS134","v":-2.583876112768853},0.2393034861734194,-2.3445726265954336,{"$f":"+BU144+4*BU145+BU146","v":-14.735583439821738},{"$f":"+IF(BV146>0,$F146,\"\")","v":""},{"$f":"+IF(BV146<0,$F146,\"\")","v":7.5708155508396215}]
[null,null,null,0.8500000000000002,{"$f":"+E133","v":0.84813387677281515},null,null,{"$f":"+H133","v":-0.8089098073402895},null,-0.8089098073402895,null,null,null,null,{"$f":"+O133","v":-1.2075598494031574},null,-1.2075598494031574,null,null,null,null,{"$f":"+V133","v":-1.4006322626497922},null,-1.4006322626497922,null,null,null,null,{"$f":"+AC133","v":-1.4872577879940629},null,-1.4872577879940629,null,null,null,null,{"$f":"+AJ133","v":-1.5119132741220755},null,-1.5119132741220755,null,null,null,null,{"$f":"+AQ133","v":-1.6110898482179874},2.0485353136497645E-4,-1.6108849946866224,null,null,null,null,{"$f":"+AX133","v":-1.950353485790981},1.0159270249940015E-3,-1.9493375587659869,null,null,null,null,{"$f":"+BE133","v":-2.0217686728125659},4.8334180241021889E-3,-2.0169352547884638,null,null,null,null,{"$f":"+BL133","v":-2.0366732939305243},2.295437000166517E-2,-2.0137189239288591,null,null,null,null,{"$f":"+BS133","v":-2.039174369372931},0.10900384253478616,-1.9301705268381448]
[null,null,null,0.90000000000000024,{"$f":"+E132","v":0.58984846151224757},{"$f":"+E146+4*E147+E148","v":5.0570703208536214},null,{"$f":"+H132","v":-0.56256944620270799},null,-0.56256944620270799,{"$f":"+J146+4*J147+J148","v":-4.8231934733150101},{"$f":"+IF(K148>0,$F148,\"\")","v":""},{"$f":"+IF(K148<0,$F148,\"\")","v":5.0570703208536214},null,{"$f":"+O132","v":-0.83981708414320011},null,-0.83981708414320011,{"$f":"+Q146+4*Q147+Q148","v":-7.2001782292996968},{"$f":"+IF(R148>0,$F148,\"\")","v":""},{"$f":"+IF(R148<0,$F148,\"\")","v":5.0570703208536214},null,{"$f":"+V132","v":-0.97409242561088882},null,-0.97409242561088882,{"$f":"+X146+4*X147+X148","v":-8.3513889019830145},{"$f":"+IF(Y148>0,$F148,\"\")","v":""},{"$f":"+IF(Y148<0,$F148,\"\")","v":5.0570703208536214},null,{"$f":"+AC132","v":-1.0343375522958769},null,-1.0343375522958769,{"$f":"+AE146+4*AE147+AE148","v":-8.8679009589164597},{"$f":"+IF(AF148>0,$F148,\"\")","v":""},{"$f":"+IF(AF148<0,$F148,\"\")","v":5.0570703208536214},null,{"$f":"+AJ132","v":-1.0514846100407951},null,-1.0514846100407951,{"$f":"+AL146+4*AL147+AL148","v":-9.0149113903575682},{"$f":"+IF(AM148>0,$F148,\"\")","v":""},{"$f":"+IF(AM148<0,$F148,\"\")","v":5.0570703208536214},null,{"$f":"+AQ132","v":-1.1204585671607732},9.0684197552236317E-5,-1.1203678829632209,{"$f":"+AS146+4*AS147+AS148","v":-9.6049003150575505},{"$f":"+IF(AT148>0,$F148,\"\")","v":""},{"$f":"+IF(AT148<0,$F148,\"\")","v":5.0570703208536214},null,{"$f":"+AX132","v":-1.3564049668387601},4.4972877167087411E-4,-1.3559552380670892,{"$f":"+AZ146+4*AZ147+AZ148","v":-11.622404644298253},{"$f":"+IF(BA148>0,$F148,\"\")","v":""},{"$f":"+IF(BA148<0,$F148,\"\")","v":5.0570703208536214},null,{"$f":"+BE132","v":-1.4060718170223365},2.1396489092946175E-3,-1.4039321681130419,{"$f":"+BG146+4*BG147+BG148","v":-12.022883086741025},{"$f":"+IF(BH148>0,$F148,\"\")","v":""},{"$f":"+IF(BH148<0,$F148,\"\")","v":5.0570703208536214},null,{"$f":"+BL132","v":-1.4164374775349229},1.0161399757417214E-2,-1.4062760777775056,{"$f":"+BN146+4*BN147+BN148","v":-11.991465450241904},{"$f":"+IF(BO148>0,$F148,\"\")","v":""},{"$f":"+IF(BO148<0,$F148,\"\")","v":5.0570703208536214},null,{"$f":"+BS132","v":-1.4181768910193162},4.8253627479655066E-2,-1.3699232635396612,{"$f":"+BU146+4*BU147+BU148","v":-11.435177997487674},{"$f":"+IF(BV148>0,$F148,\"\")","v":""},{"$f":"+IF(BV148<0,$F148,\"\")","v":5.0570703208536214}]
[null,null,null,0.95000000000000029,{"$f":"+E131","v":0.30406267762501521},null,null,{"$f":"+H131","v":-0.29000053967058709},null,-0.29000053967058709,null,null,null,null,{"$f":"+O131","v":-0.4329197208807366},null,-0.4329197208807366,null,null,null,null,{"$f":"+V131","v":-0.50213770232804589},null,-0.50213770232804589,null,null,null,null,{"$f":"+AC131","v":-0.53319363572275447},null,-0.53319363572275447,null,null,null,null,{"$f":"+AJ131","v":-0.54203282177054635},null,-0.54203282177054635,null,null,null,null,{"$f":"+AQ131","v":-0.57758840503768716},3.4375522360761737E-5,-0.57755402951532642,null,null,null,null,{"$f":"+AX131","v":-0.69921709230786833},1.7047800900421375E-4,-0.69904661429886417,null,null,null,null,{"$f":"+BE131","v":-0.72481999956526943},8.1107349362902063E-4,-0.72400892607164047,null,null,null,null,{"$f":"+BL131","v":-0.73016342367580833},3.8518665214689364E-3,-0.72631155715433937,null,null,null,null,{"$f":"+BS131","v":-0.73106007892893177},1.8291429986567093E-2,-0.71276864894236469]
[null,null,null,1.0000000000000002,{"$f":"+E130","v":0},{"$f":"+E148+4*E149+E150","v":1.8060991720123085},null,{"$f":"+H130","v":0},null,0,{"$f":"+J148+4*J149+J150","v":-1.7225716048850563},{"$f":"+IF(K150>0,$F150,\"\")","v":""},{"$f":"+IF(K150<0,$F150,\"\")","v":1.8060991720123085},null,{"$f":"+O130","v":0},null,0,{"$f":"+Q148+4*Q149+Q150","v":-2.5714959676661464},{"$f":"+IF(R150>0,$F150,\"\")","v":""},{"$f":"+IF(R150<0,$F150,\"\")","v":1.8060991720123085},null,{"$f":"+V130","v":0},null,0,{"$f":"+X148+4*X149+X150","v":-2.9826432349230725},{"$f":"+IF(Y150>0,$F150,\"\")","v":""},{"$f":"+IF(Y150<0,$F150,\"\")","v":1.8060991720123085},null,{"$f":"+AC130","v":0},null,0,{"$f":"+AE148+4*AE149+AE150","v":-3.1671120951868947},{"$f":"+IF(AF150>0,$F150,\"\")","v":""},{"$f":"+IF(AF150<0,$F150,\"\")","v":1.8060991720123085},null,{"$f":"+AJ130","v":0},null,0,{"$f":"+AL148+4*AL149+AL150","v":-3.2196158971229805},{"$f":"+IF(AM150>0,$F150,\"\")","v":""},{"$f":"+IF(AM150<0,$F150,\"\")","v":1.8060991720123085},null,{"$f":"+AQ130","v":0},-1.4198619500586071E-19,-1.4198619500586071E-19,{"$f":"+AS148+4*AS149+AS150","v":-3.4305840010245268},{"$f":"+IF(AT150>0,$F150,\"\")","v":""},{"$f":"+IF(AT150<0,$F150,\"\")","v":1.8060991720123085},null,{"$f":"+AX130","v":0},-7.0414999302855088E-19,-7.0414999302855088E-19,{"$f":"+AZ148+4*AZ149+AZ150","v":-4.1521416952625456},{"$f":"+IF(BA150>0,$F150,\"\")","v":""},{"$f":"+IF(BA150<0,$F150,\"\")","v":1.8060991720123085},null,{"$f":"+BE130","v":0},-3.3500942333881949E-18,-3.3500942333881949E-18,{"$f":"+BG148+4*BG149+BG150","v":-4.2999678723996038},{"$f":"+IF(BH150>0,$F150,\"\")","v":""},{"$f":"+IF(BH150<0,$F150,\"\")","v":1.8060991720123085},null,{"$f":"+BL130","v":0},-1.5909921755199637E-17,-1.5909921755199637E-17,{"$f":"+BN148+4*BN149+BN150","v":-4.3115223063948633},{"$f":"+IF(BO150>0,$F150,\"\")","v":""},{"$f":"+IF(BO150<0,$F150,\"\")","v":1.8060991720123085},null,{"$f":"+BS130","v":0},-7.555174050164493E-17,-7.555174050164493E-17,{"$f":"+BU148+4*BU149+BU150","v":-4.2209978593091204},{"$f":"+IF(BV150>0,$F150,\"\")","v":""},{"$f":"+IF(BV150<0,$F150,\"\")","v":1.8060991720123085}]
[null,null,null,null,null,null,null,null,null,null,{"$f":"+SUMIF(K130:K150,\">0\")","v":0},{"$f":"+SUM(L130:L150)","v":0},{"$f":"+SUM(M130:M150)","v":67.601360133537185},null,null,null,null,{"$f":"+SUMIF(R130:R150,\">0\")","v":0},{"$f":"+SUM(S130:S150)","v":0},{"$f":"+SUM(T130:T150)","v":67.601360133537185},null,null,null,null,{"$f":"+SUMIF(Y130:Y150,\">0\")","v":0},{"$f":"+SUM(Z130:Z150)","v":0},{"$f":"+SUM(AA130:AA150)","v":67.601360133537185},null,null,null,null,{"$f":"+SUMIF(AF130:AF150,\">0\")","v":0},{"$f":"+SUM(AG130:AG150)","v":0},{"$f":"+SUM(AH130:AH150)","v":67.601360133537185},null,null,null,null,{"$f":"+SUMIF(AM130:AM150,\">0\")","v":0},{"$f":"+SUM(AN130:AN150)","v":0},{"$f":"+SUM(AO130:AO150)","v":67.601360133537185},null,null,null,null,{"$f":"+SUMIF(AT130:AT150,\">0\")","v":124.80966441616737},{"$f":"+SUM(AU130:AU150)","v":14.433985043705551},{"$f":"+SUM(AV130:AV150)","v":53.167375089831637},null,null,null,null,{"$f":"+SUMIF(BA130:BA150,\">0\")","v":135.35257763907495},{"$f":"+SUM(BB130:BB150)","v":14.433985043705551},{"$f":"+SUM(BC130:BC150)","v":53.167375089831637},null,null,null,null,{"$f":"+SUMIF(BH130:BH150,\">0\")","v":120.52806098877123},{"$f":"+SUM(BI130:BI150)","v":21.887987554742786},{"$f":"+SUM(BJ130:BJ150)","v":45.713372578794399},null,null,null,null,{"$f":"+SUMIF(BO130:BO150,\">0\")","v":109.91873012201577},{"$f":"+SUM(BP130:BP150)","v":19.366695023063045},{"$f":"+SUM(BQ130:BQ150)","v":48.234665110474147},null,null,null,null,{"$f":"+SUMIF(BV130:BV150,\">0\")","v":107.82798141275168},{"$f":"+SUM(BW130:BW150)","v":20.213186680026997},{"$f":"+SUM(BX130:BX150)","v":47.388173453510191}]
[null,null,null,null,null,null,null,null,null,null,{"$f":"+SUMIF(K130:K150,\"<0\")","v":-64.474966392845602},null,null,null,null,null,null,{"$f":"+SUMIF(R130:R150,\"<0\")","v":-96.24976728074887},null,null,null,null,null,null,{"$f":"+SUMIF(Y130:Y150,\"<0\")","v":-111.6387973586419},null,null,null,null,null,null,{"$f":"+SUMIF(AF130:AF150,\"<0\")","v":-118.54337161976827},null,null,null,null,null,null,{"$f":"+SUMIF(AM130:AM150,\"<0\")","v":-120.50856183637559},null,null,null,null,null,null,{"$f":"+SUMIF(AT130:AT150,\"<0\")","v":-96.796503150897237},null,null,null,null,null,null,{"$f":"+SUMIF(BA130:BA150,\"<0\")","v":-101.44039900907677},null,null,null,null,null,null,{"$f":"+SUMIF(BH130:BH150,\"<0\")","v":-85.374135877013543},null,null,null,null,null,null,{"$f":"+SUMIF(BO130:BO150,\"<0\")","v":-74.505647797251939},null,null,null,null,null,null,{"$f":"+SUMIF(BV130:BV150,\"<0\")","v":-72.371411116333903}]
[]
[null,null,null,0,{"$f":"+F73","v":0},null,null,{"$f":"+H$87*$E154","v":0},null,{"$f":"+H154+I154","v":0},null,null,null,null,{"$f":"+O$87*$E154","v":0},null,{"$f":"+O154+P154","v":0},null,null,null,null,{"$f":"+V$87*$E154","v":0},null,{"$f":"+V154+W154","v":0},null,null,null,null,{"$f":"+AC$87*$E154","v":0},null,{"$f":"+AC154+AD154","v":0},null,null,null,null,{"$f":"+AJ$87*$E154","v":0},null,{"$f":"+AJ154+AK154","v":0},null,null,null,null,{"$f":"+AQ$87*$E154","v":0},null,{"$f":"+AQ154+AR154","v":0},null,null,null,null,{"$f":"+AX$87*$E154","v":0},null,{"$f":"+AX154+AY154","v":0},null,null,null,null,{"$f":"+BE$87*$E154","v":0},null,{"$f":"+BE154+BF154","v":0},null,null,null,null,{"$f":"+BL$87*$E154","v":0},null,{"$f":"+BL154+BM154","v":0},null,null,null,null,{"$f":"+BS$87*$E154","v":0},null,{"$f":"+BS154+BT154","v":0}]
[null,null,null,{"$f":"+D154+0.05","v":0.05},{"$f":"+F74","v":4.0141331821619095E-2},null,null,{"$f":"+H$87*$E155","v":-3.8284895674443487E-2},null,-3.8284895674443487E-2,null,null,null,null,{"$f":"+O$87*$E155","v":-5.7152605192235154E-2},null,-5.7152605192235154E-2,null,null,null,null,{"$f":"+V$87*$E155","v":-6.629053025098143E-2},null,-6.629053025098143E-2,null,null,null,null,{"$f":"+AC$87*$E155","v":-7.0390430104407375E-2},null,-7.0390430104407375E-2,null,null,null,null,{"$f":"+AJ$87*$E155","v":-7.1557349711078133E-2},null,-7.1557349711078133E-2,null,null,null,null,-7.6251278203668907E-2,null,-7.6251278203668907E-2,null,null,null,null,-9.2308288333538963E-2,null,-9.2308288333538963E-2,null,null,null,null,-9.5688298020505311E-2,null,-9.5688298020505311E-2,null,null,null,null,-9.6393718896096325E-2,null,-9.6393718896096325E-2,null,null,null,null,-9.6512092306231229E-2,null,-9.6512092306231229E-2]
[null,null,null,0.1,7.8654288765584196E-2,{"$f":"+E154+4*E155+E156","v":0.23921961605206057},null,-7.5016724734483009E-2,null,-7.5016724734483009E-2,{"$f":"+J154+4*J155+J156","v":-0.22815630743225696},{"$f":"+IF(K156>0,$F156,\"\")","v":""},{"$f":"+IF(K156<0,$F156,\"\")","v":0.23921961605206057},null,-0.11198675550855636,null,-0.11198675550855636,{"$f":"+Q154+4*Q155+Q156","v":-0.34059717627749697},{"$f":"+IF(R156>0,$F156,\"\")","v":""},{"$f":"+IF(R156<0,$F156,\"\")","v":0.23921961605206057},null,-0.1298919161913866,null,-0.1298919161913866,{"$f":"+X154+4*X155+X156","v":-0.39505403719531229},{"$f":"+IF(Y156>0,$F156,\"\")","v":""},{"$f":"+IF(Y156<0,$F156,\"\")","v":0.23921961605206057},null,-0.13792539919624455,null,-0.13792539919624455,{"$f":"+AE154+4*AE155+AE156","v":-0.41948711961387408},{"$f":"+IF(AF156>0,$F156,\"\")","v":""},{"$f":"+IF(AF156<0,$F156,\"\")","v":0.23921961605206057},null,-0.14021190110199028,null,-0.14021190110199028,{"$f":"+AL154+4*AL155+AL156","v":-0.42644129994630281},{"$f":"+IF(AM156>0,$F156,\"\")","v":""},{"$f":"+IF(AM156<0,$F156,\"\")","v":0.23921961605206057},null,-0.14940934399556161,null,-0.14940934399556161,{"$f":"+AS154+4*AS155+AS156","v":-0.45441445681023723},{"$f":"+IF(AT156>0,$F156,\"\")","v":""},{"$f":"+IF(AT156<0,$F156,\"\")","v":0.23921961605206057},null,-0.18087199493796297,null,-0.18087199493796297,{"$f":"+AZ154+4*AZ155+AZ156","v":-0.55010514827211887},{"$f":"+IF(BA156>0,$F156,\"\")","v":""},{"$f":"+IF(BA156<0,$F156,\"\")","v":0.23921961605206057},null,-0.18749490070328542,null,-0.18749490070328542,{"$f":"+BG154+4*BG155+BG156","v":-0.57024809278530664},{"$f":"+IF(BH156>0,$F156,\"\")","v":""},{"$f":"+IF(BH156<0,$F156,\"\")","v":0.23921961605206057},null,-0.18887712632291781,null,-0.18887712632291781,{"$f":"+BN154+4*BN155+BN156","v":-0.57445200190730317},{"$f":"+IF(BO156>0,$F156,\"\")","v":""},{"$f":"+IF(BO156<0,$F156,\"\")","v":0.23921961605206057},null,-0.18910907120268144,null,-0.18910907120268144,{"$f":"+BU154+4*BU155+BU156","v":-0.5751574404276063},{"$f":"+IF(BV156>0,$F156,\"\")","v":""},{"$f":"+IF(BV156<0,$F156,\"\")","v":0.23921961605206057}]
[null,null,null,0.15000000000000002,0.11435306041032518,null,null,-0.10906451752317688,null,-0.10906451752317688,null,null,null,null,-0.16281411247633887,null,-0.16281411247633887,null,null,null,null,-0.18884587696565391,null,-0.18884587696565391,null,null,null,null,-0.20052551175451755,null,-0.20052551175451755,null,null,null,null,-0.20384978681516081,null,-0.20384978681516081,null,null,null,null,-0.21722166722162733,null,-0.21722166722162733,null,null,null,null,-0.26296425138773916,null,-0.26296425138773916,null,null,null,null,-0.27259309114917873,null,-0.27259309114917873,null,null,null,null,-0.27460266662514038,null,-0.27460266662514038,null,null,null,null,-0.27493988417886495,null,-0.27493988417886495]
[null,null,null,0.2,0.14640505382433389,{"$f":"+E156+4*E157+E158","v":0.68247158423121879},null,-0.13963418644862055,null,-0.13963418644862055,{"$f":"+J156+4*J157+J158","v":-0.65090898127581109},{"$f":"+IF(K158>0,$F158,\"\")","v":""},{"$f":"+IF(K158<0,$F158,\"\")","v":0.68247158423121879},null,-0.20844924320282787,null,-0.20844924320282787,{"$f":"+Q156+4*Q157+Q158","v":-0.97169244861673965},{"$f":"+IF(R158>0,$F158,\"\")","v":""},{"$f":"+IF(R158<0,$F158,\"\")","v":0.68247158423121879},null,-0.24177744506751916,null,-0.24177744506751916,{"$f":"+X156+4*X157+X158","v":-1.1270528691215214},{"$f":"+IF(Y158>0,$F158,\"\")","v":""},{"$f":"+IF(Y158<0,$F158,\"\")","v":0.68247158423121879},null,-0.25673076204719963,null,-0.25673076204719963,{"$f":"+AE156+4*AE157+AE158","v":-1.1967582082615145},{"$f":"+IF(AF158>0,$F158,\"\")","v":""},{"$f":"+IF(AF158<0,$F158,\"\")","v":0.68247158423121879},null,-0.26098679741200759,null,-0.26098679741200759,{"$f":"+AL156+4*AL157+AL158","v":-1.2165978457746411},{"$f":"+IF(AM158>0,$F158,\"\")","v":""},{"$f":"+IF(AM158<0,$F158,\"\")","v":0.68247158423121879},null,-0.27810667915034126,null,-0.27810667915034126,{"$f":"+AS156+4*AS157+AS158","v":-1.2964026920324121},{"$f":"+IF(AT158>0,$F158,\"\")","v":""},{"$f":"+IF(AT158<0,$F158,\"\")","v":0.68247158423121879},null,-0.33667044187670409,null,-0.33667044187670409,{"$f":"+AZ156+4*AZ157+AZ158","v":-1.5693994423656237},{"$f":"+IF(BA158>0,$F158,\"\")","v":""},{"$f":"+IF(BA158<0,$F158,\"\")","v":0.68247158423121879},null,-0.34899814695500359,null,-0.34899814695500359,{"$f":"+BG156+4*BG157+BG158","v":-1.6268654122550039},{"$f":"+IF(BH158>0,$F158,\"\")","v":""},{"$f":"+IF(BH158<0,$F158,\"\")","v":0.68247158423121879},null,-0.35157098588617447,null,-0.35157098588617447,{"$f":"+BN156+4*BN157+BN158","v":-1.6388587787096538},{"$f":"+IF(BO158>0,$F158,\"\")","v":""},{"$f":"+IF(BO158<0,$F158,\"\")","v":0.68247158423121879},null,-0.35200272207168981,null,-0.35200272207168981,{"$f":"+BU156+4*BU157+BU158","v":-1.6408713299898312},{"$f":"+IF(BV158>0,$F158,\"\")","v":""},{"$f":"+IF(BV158<0,$F158,\"\")","v":0.68247158423121879}]
[null,null,null,0.25,0.17422724791653407,null,null,-0.16616967368624949,null,-0.16616967368624949,null,null,null,null,-0.24806205130793568,null,-0.24806205130793568,null,null,null,null,-0.28772380298393374,null,-0.28772380298393374,null,null,null,null,-0.30551878475907984,null,-0.30551878475907984,null,null,null,null,-0.3105836189931197,null,-0.3105836189931197,null,null,null,null,-0.33095689028404995,null,-0.33095689028404995,null,null,null,null,-0.40064986153689891,null,-0.40064986153689891,null,null,null,null,-0.41532027128584026,null,-0.41532027128584026,null,null,null,null,-0.41838204159090275,null,-0.41838204159090275,null,null,null,null,-0.41889582308589524,null,-0.41889582308589524]
[null,null,null,0.3,0.19741361583269415,{"$f":"+E158+4*E159+E160","v":1.0407276613231644},null,-0.18828373010779967,null,-0.18828373010779967,{"$f":"+J158+4*J159+J160","v":-0.99259661130141819},{"$f":"+IF(K160>0,$F160,\"\")","v":""},{"$f":"+IF(K160<0,$F160,\"\")","v":1.0407276613231644},null,-0.28107444205877041,null,-0.28107444205877041,{"$f":"+Q158+4*Q159+Q160","v":-1.481771890493341},{"$f":"+IF(R160>0,$F160,\"\")","v":""},{"$f":"+IF(R160<0,$F160,\"\")","v":1.0407276613231644},null,-0.32601442648857754,null,-0.32601442648857754,{"$f":"+X158+4*X159+X160","v":-1.7186870834918317},{"$f":"+IF(Y160>0,$F160,\"\")","v":""},{"$f":"+IF(Y160<0,$F160,\"\")","v":1.0407276613231644},null,-0.34617758545434063,null,-0.34617758545434063,{"$f":"+AE158+4*AE159+AE160","v":-1.8249834865378598},{"$f":"+IF(AF160>0,$F160,\"\")","v":""},{"$f":"+IF(AF160<0,$F160,\"\")","v":1.0407276613231644},null,-0.35191645380984621,null,-0.35191645380984621,{"$f":"+AL158+4*AL159+AL160","v":-1.8552377271943326},{"$f":"+IF(AM160>0,$F160,\"\")","v":""},{"$f":"+IF(AM160<0,$F160,\"\")","v":1.0407276613231644},null,-0.37500102410512937,null,-0.37500102410512937,{"$f":"+AS158+4*AS159+AS160","v":-1.9769352643916704},{"$f":"+IF(AT160>0,$F160,\"\")","v":""},{"$f":"+IF(AT160<0,$F160,\"\")","v":1.0407276613231644},null,-0.4539688182801257,null,-0.4539688182801257,{"$f":"+AZ158+4*AZ159+AZ160","v":-2.3932387063044254},{"$f":"+IF(BA160>0,$F160,\"\")","v":""},{"$f":"+IF(BA160<0,$F160,\"\")","v":1.0407276613231644},null,-0.47059158348429836,null,-0.47059158348429836,{"$f":"+BG158+4*BG159+BG160","v":-2.4808708155826631},{"$f":"+IF(BH160>0,$F160,\"\")","v":""},{"$f":"+IF(BH160<0,$F160,\"\")","v":1.0407276613231644},null,-0.47406081779752768,null,-0.47406081779752768,{"$f":"+BN158+4*BN159+BN160","v":-2.4991599700473133},{"$f":"+IF(BO160>0,$F160,\"\")","v":""},{"$f":"+IF(BO160<0,$F160,\"\")","v":1.0407276613231644},null,-0.4746429739406528,null,-0.4746429739406528,{"$f":"+BU158+4*BU159+BU160","v":-2.5022289883559234},{"$f":"+IF(BV160>0,$F160,\"\")","v":""},{"$f":"+IF(BV160<0,$F160,\"\")","v":1.0407276613231644}]
[null,null,null,0.35,0.21568458054713197,null,null,-0.20570970842541383,null,-0.20570970842541383,null,null,null,null,-0.30708835802563239,null,-0.30708835802563239,null,null,null,null,-0.3561876141770024,null,-0.3561876141770024,null,null,null,null,-0.37821690767680527,null,-0.37821690767680527,null,null,null,null,-0.38448691802462975,null,-0.38448691802462975,null,null,null,null,-0.40970800442359712,null,-0.40970800442359712,null,null,null,null,-0.49598440178111713,null,-0.49598440178111713,null,null,null,null,-0.51414563207656905,null,-0.51414563207656905,null,null,null,null,-0.51793594990501479,null,-0.51793594990501479,null,null,null,null,-0.51857198558580231,null,-0.51857198558580231]
[null,null,null,0.39999999999999997,0.22885221160970565,{"$f":"+E160+4*E161+E162","v":1.2890041496309277},null,-0.21826836950199247,null,-0.21826836950199247,{"$f":"+J160+4*J161+J162","v":-1.2293909333114474},{"$f":"+IF(K162>0,$F162,\"\")","v":""},{"$f":"+IF(K162<0,$F162,\"\")","v":1.2890041496309277},null,-0.32583622675058022,null,-0.32583622675058022,{"$f":"+Q160+4*Q161+Q162","v":-1.8352641009118802},{"$f":"+IF(R162>0,$F162,\"\")","v":""},{"$f":"+IF(R162<0,$F162,\"\")","v":1.2890041496309277},null,-0.3779330123906508,null,-0.3779330123906508,{"$f":"+X160+4*X161+X162","v":-2.128697895587238},{"$f":"+IF(Y162>0,$F162,\"\")","v":""},{"$f":"+IF(Y162<0,$F162,\"\")","v":1.2890041496309277},null,-0.40130720318741725,null,-0.40130720318741725,{"$f":"+AE160+4*AE161+AE162","v":-2.2603524193489788},{"$f":"+IF(AF162>0,$F162,\"\")","v":""},{"$f":"+IF(AF162<0,$F162,\"\")","v":1.2890041496309277},null,-0.40796000020830492,null,-0.40796000020830492,{"$f":"+AL160+4*AL161+AL162","v":-2.2978241261166703},{"$f":"+IF(AM162>0,$F162,\"\")","v":""},{"$f":"+IF(AM162<0,$F162,\"\")","v":1.2890041496309277},null,-0.43472084415441103,null,-0.43472084415441103,{"$f":"+AS160+4*AS161+AS162","v":-2.4485538859539284},{"$f":"+IF(AT162>0,$F162,\"\")","v":""},{"$f":"+IF(AT162<0,$F162,\"\")","v":1.2890041496309277},null,-0.52626445053971582,null,-0.52626445053971582,{"$f":"+AZ160+4*AZ161+AZ162","v":-2.9641708759443102},{"$f":"+IF(BA162>0,$F162,\"\")","v":""},{"$f":"+IF(BA162<0,$F162,\"\")","v":1.2890041496309277},null,-0.5455344313057221,null,-0.5455344313057221,{"$f":"+BG160+4*BG161+BG162","v":-3.0727085430962968},{"$f":"+IF(BH162>0,$F162,\"\")","v":""},{"$f":"+IF(BH162<0,$F162,\"\")","v":1.2890041496309277},null,-0.54955614957386667,null,-0.54955614957386667,{"$f":"+BN160+4*BN161+BN162","v":-3.0953607669914533},{"$f":"+IF(BO162>0,$F162,\"\")","v":""},{"$f":"+IF(BO162<0,$F162,\"\")","v":1.2890041496309277},null,-0.55023101549076103,null,-0.55023101549076103,{"$f":"+BU160+4*BU161+BU162","v":-3.0991619317746233},{"$f":"+IF(BV162>0,$F162,\"\")","v":""},{"$f":"+IF(BV162<0,$F162,\"\")","v":1.2890041496309277}]
[null,null,null,0.44999999999999996,0.2367968305518256,null,null,-0.22584556969863512,null,-0.22584556969863512,null,null,null,null,-0.33714765188763041,null,-0.33714765188763041,null,null,null,null,-0.39105298072292921,null,-0.39105298072292921,null,null,null,null,-0.41523860802561596,null,-0.41523860802561596,null,null,null,null,-0.42212235731416342,null,-0.42212235731416342,null,null,null,null,-0.44981220564360469,null,-0.44981220564360469,null,null,null,null,-0.54453375409118243,null,-0.54453375409118243,null,null,null,null,-0.5644726934533546,null,-0.5644726934533546,null,null,null,null,-0.56863402592451795,null,-0.56863402592451795,null,null,null,null,-0.56933231985422905,null,-0.56933231985422905]
[null,null,null,0.49999999999999994,0.2394521126665034,{"$f":"+E162+4*E163+E164","v":1.4154916464835114},null,-0.22837805166008079,null,-0.22837805166008079,{"$f":"+J162+4*J163+J164","v":-1.3500286999566138},{"$f":"+IF(K164>0,$F164,\"\")","v":""},{"$f":"+IF(K164<0,$F164,\"\")","v":1.4154916464835114},null,-0.3409282013484346,null,-0.3409282013484346,{"$f":"+Q162+4*Q163+Q164","v":-2.0153550356495367},{"$f":"+IF(R164>0,$F164,\"\")","v":""},{"$f":"+IF(R164<0,$F164,\"\")","v":1.4154916464835114},null,-0.39543798867757657,null,-0.39543798867757657,{"$f":"+X162+4*X163+X164","v":-2.3375829239599444},{"$f":"+IF(Y164>0,$F164,\"\")","v":""},{"$f":"+IF(Y164<0,$F164,\"\")","v":1.4154916464835114},null,-0.41989481751391322,null,-0.41989481751391322,{"$f":"+AE162+4*AE163+AE164","v":-2.4821564528037943},{"$f":"+IF(AF164>0,$F164,\"\")","v":""},{"$f":"+IF(AF164<0,$F164,\"\")","v":1.4154916464835114},null,-0.42685575658716013,null,-0.42685575658716013,{"$f":"+AL162+4*AL163+AL164","v":-2.5233051860521187},{"$f":"+IF(AM164>0,$F164,\"\")","v":""},{"$f":"+IF(AM164<0,$F164,\"\")","v":1.4154916464835114},null,-0.45485610045345448,null,-0.45485610045345448,{"$f":"+AS162+4*AS163+AS164","v":-2.6888257671822839},{"$f":"+IF(AT164>0,$F164,\"\")","v":""},{"$f":"+IF(AT164<0,$F164,\"\")","v":1.4154916464835114},null,-0.5506397933261975,null,-0.5506397933261975,{"$f":"+AZ162+4*AZ163+AZ164","v":-3.2550392602306428},{"$f":"+IF(BA164>0,$F164,\"\")","v":""},{"$f":"+IF(BA164<0,$F164,\"\")","v":1.4154916464835114},null,-0.5708023146888157,null,-0.5708023146888157,{"$f":"+BG162+4*BG163+BG164","v":-3.3742275198079561},{"$f":"+IF(BH164>0,$F164,\"\")","v":""},{"$f":"+IF(BH164<0,$F164,\"\")","v":1.4154916464835114},null,-0.57501030957373744,null,-0.57501030957373744,{"$f":"+BN162+4*BN163+BN164","v":-3.3991025628456759},{"$f":"+IF(BO164>0,$F164,\"\")","v":""},{"$f":"+IF(BO164<0,$F164,\"\")","v":1.4154916464835114},null,-0.57571643370699499,null,-0.57571643370699499,{"$f":"+BU162+4*BU163+BU164","v":-3.4032767286146721},{"$f":"+IF(BV164>0,$F164,\"\")","v":""},{"$f":"+IF(BV164<0,$F164,\"\")","v":1.4154916464835114}]
[null,null,null,0.54999999999999993,{"$f":"+E163","v":0.2367968305518256},null,null,{"$f":"+H163","v":-0.22584556969863512},null,-0.22584556969863512,null,null,null,null,{"$f":"+O163","v":-0.33714765188763041},null,-0.33714765188763041,null,null,null,null,{"$f":"+V163","v":-0.39105298072292921},null,-0.39105298072292921,null,null,null,null,{"$f":"+AC163","v":-0.41523860802561596},null,-0.41523860802561596,null,null,null,null,{"$f":"+AJ163","v":-0.42212235731416342},null,-0.42212235731416342,null,null,null,null,{"$f":"+AQ163","v":-0.44981220564360469},null,-0.44981220564360469,null,null,null,null,{"$f":"+AX163","v":-0.54453375409118243},null,-0.54453375409118243,null,null,null,null,{"$f":"+BE163","v":-0.5644726934533546},null,-0.5644726934533546,null,null,null,null,{"$f":"+BL163","v":-0.56863402592451795},null,-0.56863402592451795,null,null,null,null,{"$f":"+BS163","v":-0.56933231985422905},null,-0.56933231985422905]
[null,null,null,0.6,{"$f":"+E162","v":0.22885221160970565},{"$f":"+E164+4*E165+E166","v":1.4154916464835114},null,{"$f":"+H162","v":-0.21826836950199247},null,-0.21826836950199247,{"$f":"+J164+4*J165+J166","v":-1.3500286999566138},{"$f":"+IF(K166>0,$F166,\"\")","v":""},{"$f":"+IF(K166<0,$F166,\"\")","v":1.4154916464835114},null,{"$f":"+O162","v":-0.32583622675058022},null,-0.32583622675058022,{"$f":"+Q164+4*Q165+Q166","v":-2.0153550356495367},{"$f":"+IF(R166>0,$F166,\"\")","v":""},{"$f":"+IF(R166<0,$F166,\"\")","v":1.4154916464835114},null,{"$f":"+V162","v":-0.3779330123906508},null,-0.3779330123906508,{"$f":"+X164+4*X165+X166","v":-2.3375829239599444},{"$f":"+IF(Y166>0,$F166,\"\")","v":""},{"$f":"+IF(Y166<0,$F166,\"\")","v":1.4154916464835114},null,{"$f":"+AC162","v":-0.40130720318741725},null,-0.40130720318741725,{"$f":"+AE164+4*AE165+AE166","v":-2.4821564528037943},{"$f":"+IF(AF166>0,$F166,\"\")","v":""},{"$f":"+IF(AF166<0,$F166,\"\")","v":1.4154916464835114},null,{"$f":"+AJ162","v":-0.40796000020830492},null,-0.40796000020830492,{"$f":"+AL164+4*AL165+AL166","v":-2.5233051860521187},{"$f":"+IF(AM166>0,$F166,\"\")","v":""},{"$f":"+IF(AM166<0,$F166,\"\")","v":1.4154916464835114},null,{"$f":"+AQ162","v":-0.43472084415441103},null,-0.43472084415441103,{"$f":"+AS164+4*AS165+AS166","v":-2.6888257671822844},{"$f":"+IF(AT166>0,$F166,\"\")","v":""},{"$f":"+IF(AT166<0,$F166,\"\")","v":1.4154916464835114},null,{"$f":"+AX162","v":-0.52626445053971582},null,-0.52626445053971582,{"$f":"+AZ164+4*AZ165+AZ166","v":-3.2550392602306433},{"$f":"+IF(BA166>0,$F166,\"\")","v":""},{"$f":"+IF(BA166<0,$F166,\"\")","v":1.4154916464835114},null,{"$f":"+BE162","v":-0.5455344313057221},null,-0.5455344313057221,{"$f":"+BG164+4*BG165+BG166","v":-3.3742275198079565},{"$f":"+IF(BH166>0,$F166,\"\")","v":""},{"$f":"+IF(BH166<0,$F166,\"\")","v":1.4154916464835114},null,{"$f":"+BL162","v":-0.54955614957386667},null,-0.54955614957386667,{"$f":"+BN164+4*BN165+BN166","v":-3.3991025628456759},{"$f":"+IF(BO166>0,$F166,\"\")","v":""},{"$f":"+IF(BO166<0,$F166,\"\")","v":1.4154916464835114},null,{"$f":"+BS162","v":-0.55023101549076103},null,-0.55023101549076103,{"$f":"+BU164+4*BU165+BU166","v":-3.4032767286146726},{"$f":"+IF(BV166>0,$F166,\"\")","v":""},{"$f":"+IF(BV166<0,$F166,\"\")","v":1.4154916464835114}]
[null,null,null,0.65,{"$f":"+E161","v":0.21568458054713197},null,null,{"$f":"+H161","v":-0.20570970842541383},null,-0.20570970842541383,null,null,null,null,{"$f":"+O161","v":-0.30708835802563239},null,-0.30708835802563239,null,null,null,null,{"$f":"+V161","v":-0.3561876141770024},null,-0.3561876141770024,null,null,null,null,{"$f":"+AC161","v":-0.37821690767680527},null,-0.37821690767680527,null,null,null,null,{"$f":"+AJ161","v":-0.38448691802462975},null,-0.38448691802462975,null,null,null,null,{"$f":"+AQ161","v":-0.40970800442359712},null,-0.40970800442359712,null,null,null,null,{"$f":"+AX161","v":-0.49598440178111713},null,-0.49598440178111713,null,null,null,null,{"$f":"+BE161","v":-0.51414563207656905},null,-0.51414563207656905,null,null,null,null,{"$f":"+BL161","v":-0.51793594990501479},null,-0.51793594990501479,null,null,null,null,{"$f":"+BS161","v":-0.51857198558580231},null,-0.51857198558580231]
[null,null,null,0.70000000000000007,{"$f":"+E160","v":0.19741361583269415},{"$f":"+E166+4*E167+E168","v":1.2890041496309277},null,{"$f":"+H160","v":-0.18828373010779967},null,-0.18828373010779967,{"$f":"+J166+4*J167+J168","v":-1.2293909333114477},{"$f":"+IF(K168>0,$F168,\"\")","v":""},{"$f":"+IF(K168<0,$F168,\"\")","v":1.2890041496309277},null,{"$f":"+O160","v":-0.28107444205877041},null,-0.28107444205877041,{"$f":"+Q166+4*Q167+Q168","v":-1.8352641009118802},{"$f":"+IF(R168>0,$F168,\"\")","v":""},{"$f":"+IF(R168<0,$F168,\"\")","v":1.2890041496309277},null,{"$f":"+V160","v":-0.32601442648857754},null,-0.32601442648857754,{"$f":"+X166+4*X167+X168","v":-2.128697895587238},{"$f":"+IF(Y168>0,$F168,\"\")","v":""},{"$f":"+IF(Y168<0,$F168,\"\")","v":1.2890041496309277},null,{"$f":"+AC160","v":-0.34617758545434063},null,-0.34617758545434063,{"$f":"+AE166+4*AE167+AE168","v":-2.2603524193489788},{"$f":"+IF(AF168>0,$F168,\"\")","v":""},{"$f":"+IF(AF168<0,$F168,\"\")","v":1.2890041496309277},null,{"$f":"+AJ160","v":-0.35191645380984621},null,-0.35191645380984621,{"$f":"+AL166+4*AL167+AL168","v":-2.2978241261166703},{"$f":"+IF(AM168>0,$F168,\"\")","v":""},{"$f":"+IF(AM168<0,$F168,\"\")","v":1.2890041496309277},null,{"$f":"+AQ160","v":-0.37500102410512937},null,-0.37500102410512937,{"$f":"+AS166+4*AS167+AS168","v":-2.4485538859539293},{"$f":"+IF(AT168>0,$F168,\"\")","v":""},{"$f":"+IF(AT168<0,$F168,\"\")","v":1.2890041496309277},null,{"$f":"+AX160","v":-0.4539688182801257},null,-0.4539688182801257,{"$f":"+AZ166+4*AZ167+AZ168","v":-2.9641708759443097},{"$f":"+IF(BA168>0,$F168,\"\")","v":""},{"$f":"+IF(BA168<0,$F168,\"\")","v":1.2890041496309277},null,{"$f":"+BE160","v":-0.47059158348429836},null,-0.47059158348429836,{"$f":"+BG166+4*BG167+BG168","v":-3.0727085430962968},{"$f":"+IF(BH168>0,$F168,\"\")","v":""},{"$f":"+IF(BH168<0,$F168,\"\")","v":1.2890041496309277},null,{"$f":"+BL160","v":-0.47406081779752768},null,-0.47406081779752768,{"$f":"+BN166+4*BN167+BN168","v":-3.0953607669914533},{"$f":"+IF(BO168>0,$F168,\"\")","v":""},{"$f":"+IF(BO168<0,$F168,\"\")","v":1.2890041496309277},null,{"$f":"+BS160","v":-0.4746429739406528},null,-0.4746429739406528,{"$f":"+BU166+4*BU167+BU168","v":-3.0991619317746233},{"$f":"+IF(BV168>0,$F168,\"\")","v":""},{"$f":"+IF(BV168<0,$F168,\"\")","v":1.2890041496309277}]
[null,null,null,0.75000000000000011,{"$f":"+E159","v":0.17422724791653407},null,null,{"$f":"+H159","v":-0.16616967368624949},null,-0.16616967368624949,null,null,null,null,{"$f":"+O159","v":-0.24806205130793568},null,-0.24806205130793568,null,null,null,null,{"$f":"+V159","v":-0.28772380298393374},null,-0.28772380298393374,null,null,null,null,{"$f":"+AC159","v":-0.30551878475907984},null,-0.30551878475907984,null,null,null,null,{"$f":"+AJ159","v":-0.3105836189931197},null,-0.3105836189931197,null,null,null,null,{"$f":"+AQ159","v":-0.33095689028404995},null,-0.33095689028404995,null,null,null,null,{"$f":"+AX159","v":-0.40064986153689891},null,-0.40064986153689891,null,null,null,null,{"$f":"+BE159","v":-0.41532027128584026},null,-0.41532027128584026,null,null,null,null,{"$f":"+BL159","v":-0.41838204159090275},null,-0.41838204159090275,null,null,null,null,{"$f":"+BS159","v":-0.41889582308589524},null,-0.41889582308589524]
[null,null,null,0.80000000000000016,{"$f":"+E158","v":0.14640505382433389},{"$f":"+E168+4*E169+E170","v":1.0407276613231642},null,{"$f":"+H158","v":-0.13963418644862055},null,-0.13963418644862055,{"$f":"+J168+4*J169+J170","v":-0.99259661130141819},{"$f":"+IF(K170>0,$F170,\"\")","v":""},{"$f":"+IF(K170<0,$F170,\"\")","v":1.0407276613231642},null,{"$f":"+O158","v":-0.20844924320282787},null,-0.20844924320282787,{"$f":"+Q168+4*Q169+Q170","v":-1.481771890493341},{"$f":"+IF(R170>0,$F170,\"\")","v":""},{"$f":"+IF(R170<0,$F170,\"\")","v":1.0407276613231642},null,{"$f":"+V158","v":-0.24177744506751916},null,-0.24177744506751916,{"$f":"+X168+4*X169+X170","v":-1.7186870834918317},{"$f":"+IF(Y170>0,$F170,\"\")","v":""},{"$f":"+IF(Y170<0,$F170,\"\")","v":1.0407276613231642},null,{"$f":"+AC158","v":-0.25673076204719963},null,-0.25673076204719963,{"$f":"+AE168+4*AE169+AE170","v":-1.8249834865378598},{"$f":"+IF(AF170>0,$F170,\"\")","v":""},{"$f":"+IF(AF170<0,$F170,\"\")","v":1.0407276613231642},null,{"$f":"+AJ158","v":-0.26098679741200759},null,-0.26098679741200759,{"$f":"+AL168+4*AL169+AL170","v":-1.8552377271943326},{"$f":"+IF(AM170>0,$F170,\"\")","v":""},{"$f":"+IF(AM170<0,$F170,\"\")","v":1.0407276613231642},null,{"$f":"+AQ158","v":-0.27810667915034126},null,-0.27810667915034126,{"$f":"+AS168+4*AS169+AS170","v":-1.9769352643916704},{"$f":"+IF(AT170>0,$F170,\"\")","v":""},{"$f":"+IF(AT170<0,$F170,\"\")","v":1.0407276613231642},null,{"$f":"+AX158","v":-0.33667044187670409},null,-0.33667044187670409,{"$f":"+AZ168+4*AZ169+AZ170","v":-2.3932387063044254},{"$f":"+IF(BA170>0,$F170,\"\")","v":""},{"$f":"+IF(BA170<0,$F170,\"\")","v":1.0407276613231642},null,{"$f":"+BE158","v":-0.34899814695500359},null,-0.34899814695500359,{"$f":"+BG168+4*BG169+BG170","v":-2.4808708155826631},{"$f":"+IF(BH170>0,$F170,\"\")","v":""},{"$f":"+IF(BH170<0,$F170,\"\")","v":1.0407276613231642},null,{"$f":"+BL158","v":-0.35157098588617447},null,-0.35157098588617447,{"$f":"+BN168+4*BN169+BN170","v":-2.4991599700473133},{"$f":"+IF(BO170>0,$F170,\"\")","v":""},{"$f":"+IF(BO170<0,$F170,\"\")","v":1.0407276613231642},null,{"$f":"+BS158","v":-0.35200272207168981},null,-0.35200272207168981,{"$f":"+BU168+4*BU169+BU170","v":-2.5022289883559234},{"$f":"+IF(BV170>0,$F170,\"\")","v":""},{"$f":"+IF(BV170<0,$F170,\"\")","v":1.0407276613231642}]
[null,null,null,0.8500000000000002,{"$f":"+E157","v":0.11435306041032518},null,null,{"$f":"+H157","v":-0.10906451752317688},null,-0.10906451752317688,null,null,null,null,{"$f":"+O157","v":-0.16281411247633887},null,-0.16281411247633887,null,null,null,null,{"$f":"+V157","v":-0.18884587696565391},null,-0.18884587696565391,null,null,null,null,{"$f":"+AC157","v":-0.20052551175451755},null,-0.20052551175451755,null,null,null,null,{"$f":"+AJ157","v":-0.20384978681516081},null,-0.20384978681516081,null,null,null,null,{"$f":"+AQ157","v":-0.21722166722162733},null,-0.21722166722162733,null,null,null,null,{"$f":"+AX157","v":-0.26296425138773916},null,-0.26296425138773916,null,null,null,null,{"$f":"+BE157","v":-0.27259309114917873},null,-0.27259309114917873,null,null,null,null,{"$f":"+BL157","v":-0.27460266662514038},null,-0.27460266662514038,null,null,null,null,{"$f":"+BS157","v":-0.27493988417886495},null,-0.27493988417886495]
[null,null,null,0.90000000000000024,{"$f":"+E156","v":7.8654288765584196E-2},{"$f":"+E170+4*E171+E172","v":0.6824715842312189},null,{"$f":"+H156","v":-7.5016724734483009E-2},null,-7.5016724734483009E-2,{"$f":"+J170+4*J171+J172","v":-0.65090898127581109},{"$f":"+IF(K172>0,$F172,\"\")","v":""},{"$f":"+IF(K172<0,$F172,\"\")","v":0.6824715842312189},null,{"$f":"+O156","v":-0.11198675550855636},null,-0.11198675550855636,{"$f":"+Q170+4*Q171+Q172","v":-0.97169244861673976},{"$f":"+IF(R172>0,$F172,\"\")","v":""},{"$f":"+IF(R172<0,$F172,\"\")","v":0.6824715842312189},null,{"$f":"+V156","v":-0.1298919161913866},null,-0.1298919161913866,{"$f":"+X170+4*X171+X172","v":-1.1270528691215214},{"$f":"+IF(Y172>0,$F172,\"\")","v":""},{"$f":"+IF(Y172<0,$F172,\"\")","v":0.6824715842312189},null,{"$f":"+AC156","v":-0.13792539919624455},null,-0.13792539919624455,{"$f":"+AE170+4*AE171+AE172","v":-1.1967582082615145},{"$f":"+IF(AF172>0,$F172,\"\")","v":""},{"$f":"+IF(AF172<0,$F172,\"\")","v":0.6824715842312189},null,{"$f":"+AJ156","v":-0.14021190110199028},null,-0.14021190110199028,{"$f":"+AL170+4*AL171+AL172","v":-1.2165978457746411},{"$f":"+IF(AM172>0,$F172,\"\")","v":""},{"$f":"+IF(AM172<0,$F172,\"\")","v":0.6824715842312189},null,{"$f":"+AQ156","v":-0.14940934399556161},null,-0.14940934399556161,{"$f":"+AS170+4*AS171+AS172","v":-1.2964026920324123},{"$f":"+IF(AT172>0,$F172,\"\")","v":""},{"$f":"+IF(AT172<0,$F172,\"\")","v":0.6824715842312189},null,{"$f":"+AX156","v":-0.18087199493796297},null,-0.18087199493796297,{"$f":"+AZ170+4*AZ171+AZ172","v":-1.5693994423656237},{"$f":"+IF(BA172>0,$F172,\"\")","v":""},{"$f":"+IF(BA172<0,$F172,\"\")","v":0.6824715842312189},null,{"$f":"+BE156","v":-0.18749490070328542},null,-0.18749490070328542,{"$f":"+BG170+4*BG171+BG172","v":-1.6268654122550039},{"$f":"+IF(BH172>0,$F172,\"\")","v":""},{"$f":"+IF(BH172<0,$F172,\"\")","v":0.6824715842312189},null,{"$f":"+BL156","v":-0.18887712632291781},null,-0.18887712632291781,{"$f":"+BN170+4*BN171+BN172","v":-1.6388587787096538},{"$f":"+IF(BO172>0,$F172,\"\")","v":""},{"$f":"+IF(BO172<0,$F172,\"\")","v":0.6824715842312189},null,{"$f":"+BS156","v":-0.18910907120268144},null,-0.18910907120268144,{"$f":"+BU170+4*BU171+BU172","v":-1.640871329989831},{"$f":"+IF(BV172>0,$F172,\"\")","v":""},{"$f":"+IF(BV172<0,$F172,\"\")","v":0.6824715842312189}]
[null,null,null,0.95000000000000029,{"$f":"+E155","v":4.0141331821619095E-2},null,null,{"$f":"+H155","v":-3.8284895674443487E-2},null,-3.8284895674443487E-2,null,null,null,null,{"$f":"+O155","v":-5.7152605192235154E-2},null,-5.7152605192235154E-2,null,null,null,null,{"$f":"+V155","v":-6.629053025098143E-2},null,-6.629053025098143E-2,null,null,null,null,{"$f":"+AC155","v":-7.0390430104407375E-2},null,-7.0390430104407375E-2,null,null,null,null,{"$f":"+AJ155","v":-7.1557349711078133E-2},null,-7.1557349711078133E-2,null,null,null,null,{"$f":"+AQ155","v":-7.6251278203668907E-2},null,-7.6251278203668907E-2,null,null,null,null,{"$f":"+AX155","v":-9.2308288333538963E-2},null,-9.2308288333538963E-2,null,null,null,null,{"$f":"+BE155","v":-9.5688298020505311E-2},null,-9.5688298020505311E-2,null,null,null,null,{"$f":"+BL155","v":-9.6393718896096325E-2},null,-9.6393718896096325E-2,null,null,null,null,{"$f":"+BS155","v":-9.6512092306231229E-2},null,-9.6512092306231229E-2]
[null,null,null,1.0000000000000002,{"$f":"+E154","v":0},{"$f":"+E172+4*E173+E174","v":0.23921961605206057},null,{"$f":"+H154","v":0},null,0,{"$f":"+J172+4*J173+J174","v":-0.22815630743225696},{"$f":"+IF(K174>0,$F174,\"\")","v":""},{"$f":"+IF(K174<0,$F174,\"\")","v":0.23921961605206057},null,{"$f":"+O154","v":0},null,0,{"$f":"+Q172+4*Q173+Q174","v":-0.34059717627749697},{"$f":"+IF(R174>0,$F174,\"\")","v":""},{"$f":"+IF(R174<0,$F174,\"\")","v":0.23921961605206057},null,{"$f":"+V154","v":0},null,0,{"$f":"+X172+4*X173+X174","v":-0.39505403719531229},{"$f":"+IF(Y174>0,$F174,\"\")","v":""},{"$f":"+IF(Y174<0,$F174,\"\")","v":0.23921961605206057},null,{"$f":"+AC154","v":0},null,0,{"$f":"+AE172+4*AE173+AE174","v":-0.41948711961387408},{"$f":"+IF(AF174>0,$F174,\"\")","v":""},{"$f":"+IF(AF174<0,$F174,\"\")","v":0.23921961605206057},null,{"$f":"+AJ154","v":0},null,0,{"$f":"+AL172+4*AL173+AL174","v":-0.42644129994630281},{"$f":"+IF(AM174>0,$F174,\"\")","v":""},{"$f":"+IF(AM174<0,$F174,\"\")","v":0.23921961605206057},null,{"$f":"+AQ154","v":0},null,0,{"$f":"+AS172+4*AS173+AS174","v":-0.45441445681023723},{"$f":"+IF(AT174>0,$F174,\"\")","v":""},{"$f":"+IF(AT174<0,$F174,\"\")","v":0.23921961605206057},null,{"$f":"+AX154","v":0},null,0,{"$f":"+AZ172+4*AZ173+AZ174","v":-0.55010514827211887},{"$f":"+IF(BA174>0,$F174,\"\")","v":""},{"$f":"+IF(BA174<0,$F174,\"\")","v":0.23921961605206057},null,{"$f":"+BE154","v":0},null,0,{"$f":"+BG172+4*BG173+BG174","v":-0.57024809278530664},{"$f":"+IF(BH174>0,$F174,\"\")","v":""},{"$f":"+IF(BH174<0,$F174,\"\")","v":0.23921961605206057},null,{"$f":"+BL154","v":0},null,0,{"$f":"+BN172+4*BN173+BN174","v":-0.57445200190730317},{"$f":"+IF(BO174>0,$F174,\"\")","v":""},{"$f":"+IF(BO174<0,$F174,\"\")","v":0.23921961605206057},null,{"$f":"+BS154","v":0},null,0,{"$f":"+BU172+4*BU173+BU174","v":-0.5751574404276063},{"$f":"+IF(BV174>0,$F174,\"\")","v":""},{"$f":"+IF(BV174<0,$F174,\"\")","v":0.23921961605206057}]
[null,null,null,null,null,null,null,null,null,null,{"$f":"+SUMIF(K154:K174,\">0\")","v":0},{"$f":"+SUM(L154:L174)","v":0},{"$f":"+SUM(M154:M174)","v":9.3338293154417666},null,null,null,null,{"$f":"+SUMIF(R154:R174,\">0\")","v":0},{"$f":"+SUM(S154:S174)","v":0},{"$f":"+SUM(T154:T174)","v":9.3338293154417666},null,null,null,null,{"$f":"+SUMIF(Y154:Y174,\">0\")","v":0},{"$f":"+SUM(Z154:Z174)","v":0},{"$f":"+SUM(AA154:AA174)","v":9.3338293154417666},null,null,null,null,{"$f":"+SUMIF(AF154:AF174,\">0\")","v":0},{"$f":"+SUM(AG154:AG174)","v":0},{"$f":"+SUM(AH154:AH174)","v":9.3338293154417666},null,null,null,null,{"$f":"+SUMIF(AM154:AM174,\">0\")","v":0},{"$f":"+SUM(AN154:AN174)","v":0},{"$f":"+SUM(AO154:AO174)","v":9.3338293154417666},null,null,null,null,{"$f":"+SUMIF(AT154:AT174,\">0\")","v":0},{"$f":"+SUM(AU154:AU174)","v":0},{"$f":"+SUM(AV154:AV174)","v":9.3338293154417666},null,null,null,null,{"$f":"+SUMIF(BA154:BA174,\">0\")","v":0},{"$f":"+SUM(BB154:BB174)","v":0},{"$f":"+SUM(BC154:BC174)","v":9.3338293154417666},null,null,null,null,{"$f":"+SUMIF(BH154:BH174,\">0\")","v":0},{"$f":"+SUM(BI154:BI174)","v":0},{"$f":"+SUM(BJ154:BJ174)","v":9.3338293154417666},null,null,null,null,{"$f":"+SUMIF(BO154:BO174,\">0\")","v":0},{"$f":"+SUM(BP154:BP174)","v":0},{"$f":"+SUM(BQ154:BQ174)","v":9.3338293154417666},null,null,null,null,{"$f":"+SUMIF(BV154:BV174,\">0\")","v":0},{"$f":"+SUM(BW154:BW174)","v":0},{"$f":"+SUM(BX154:BX174)","v":9.3338293154417666}]
[null,null,null,null,null,null,null,null,null,null,{"$f":"+SUMIF(K154:K174,\"<0\")","v":-8.9021630665550973},null,null,null,null,null,null,{"$f":"+SUMIF(R154:R174,\"<0\")","v":-13.289361303897987},null,null,null,null,null,null,{"$f":"+SUMIF(Y154:Y174,\"<0\")","v":-15.414149618711694},null,null,null,null,null,null,{"$f":"+SUMIF(AF154:AF174,\"<0\")","v":-16.367475373132041},null,null,null,null,null,null,{"$f":"+SUMIF(AM154:AM174,\"<0\")","v":-16.638812370168129},null,null,null,null,null,null,{"$f":"+SUMIF(AT154:AT174,\"<0\")","v":-17.730264132741066},null,null,null,null,null,null,{"$f":"+SUMIF(BA154:BA174,\"<0\")","v":-21.46390686623424},null,null,null,null,null,null,{"$f":"+SUMIF(BH154:BH174,\"<0\")","v":-22.249840767054451},null,null,null,null,null,null,{"$f":"+SUMIF(BO154:BO174,\"<0\")","v":-22.413868161002799},null,null,null,null,null,null,{"$f":"+SUMIF(BV154:BV174,\"<0\")","v":-22.441392838325314}]

{"sheet":"PeeryMethod2","index":2,"n_rows":176,"n_cols":77,"rows_kept":176,"cut":false,"hidden":true,"merged":[[32,3,32,4],[33,3,33,4],[62,2,68,2],[72,2,82,2],[25,3,26,4],[27,3,27,4],[28,3,28,4],[29,3,29,4],[30,3,30,4],[31,3,31,4]]}
[]
[]
[null,null,null,"Cable EcAc =",{"$f":"+Input!E4","v":6100000},"ton"]
[]
[null,null,null,"Span","Center","Side"]
[null,null,null,"Cable Span =",{"$f":"+Input!E7","v":808},{"$f":"+Input!F7","v":334},"m"]
[null,null,null,"Girder L =",{"$f":"+Input!E8","v":800},{"$f":"+Input!F8","v":320},"m"]
[null,null,null,"Dead Load w =",{"$f":"+Input!E9","v":11.99},{"$f":"+Input!F9","v":11.99},"t/m"]
[null,null,null,"Live Load p =",{"$f":"+Input!E10","v":2.4},{"$f":"+Input!F10","v":2.4},"t/m"]
[null,null,null,"Girder EI =",{"$f":"+Input!E11","v":34650000},{"$f":"+Input!F11","v":27300000},"t-m^2"]
[null,null,null,"f =",{"$f":"+Input!E12","v":73},{"$f":"+(F8*F7^2)/(E8*E7^2)*E11","v":11.68},"m"]
[null,null,null,"n =",{"$f":"+E11/E7","v":9.1249999999999998E-2},{"$f":"+F11/F7","v":3.6499999999999998E-2}]
[null,null,null,"L/f =",{"$f":"1/E12","v":10.95890410958904},{"$f":"1/F12","v":27.397260273972606}]
[null,null,null,"ε =",{"$f":"+Input!E15","v":1.2E-5},"/°C"]
[null,null,null,"t rise =",{"$f":"+Input!E16","v":30},"°C"]
[null,null,null,"t drop =",{"$f":"+Input!E17","v":-30},"°C"]
[]
[null,null,null,"cable top to saddle =",{"$f":"+Input!E19","v":86.124814814814812},"m"]
[]
[null,null,null,null,"Main","Side Top","Side","Side Bot","Anchor"]
[null,null,null,"b or L(m)",{"$f":"+(E6-E7)/2","v":4},{"$f":"+F6-(F7+H21)","v":4},null,{"$f":"+Input!H22","v":10},{"$f":"+Input!I22","v":10}]
[null,null,null,"h1(m)",{"$f":"+(E18*F7-4*F21*F11+4*H21*F11)/(F21+F7+H21)","v":83.354074074074077}]
[null,null,null,"tanα",{"$f":"4*E11/E7","v":0.36499999999999999},{"$f":"+(E22+4*F11)/F7","v":0.4064814814814815},{"$f":"+E22/F7","v":0.26048148148148148},{"$f":"+(E22-4*F11)/F7","v":0.11448148148148149}]
[null,null,null,"secα",{"$f":"+SQRT(1+E23^2)","v":1.0645304129051456},{"$f":"+SQRT(1+F23^2)","v":1.0794568980683665},{"$f":"+SQRT(1+G23^2)","v":1.0333685703536697},{"$f":"+SQRT(1+H23^2)","v":1.00653167342225},{"$f":"+Input!I25","v":1.4142135623730951}]
[]
[null,null,null,"Span",null,"L","n","n2","secα","sec2α","sec3α","LT","LS"]
[null,null,null,null,null,"(m)",null,null,null,null,null,"(m)","(m)"]
[null,null,null,"Anchor Span",null,{"$f":"+I21","v":10},0,{"$f":"+G28^2","v":0},{"$f":"+I24","v":1.4142135623730951},{"$f":"+I28^2","v":2.0000000000000004},{"$f":"+I28^3","v":2.8284271247461907},{"$f":"+F28*(J28+16/3*H28)","v":20.000000000000004},{"$f":"+F28*(K28+8*H28*I28)","v":28.284271247461909}]
[null,null,null,"End",null,{"$f":"+H21","v":10},0,0,{"$f":"+H24","v":1.00653167342225},1.0131060096021949,1.0197232871990354,10.131060096021949,10.197232871990353]
[null,null,null,"Side Span",null,{"$f":"+F7","v":320},{"$f":"+F12","v":3.6499999999999998E-2},1.3322499999999999E-3,{"$f":"+G24","v":1.0333685703536697},1.0678506021947871,1.1034832501413323,343.9858993689985,356.63900555653174]
[null,null,null,"b1",null,{"$f":"+F21","v":4},0,0,{"$f":"+F24","v":1.0794568980683665},1.1652271947873798,1.2578125332300893,4.6609087791495192,5.0312501329203574]
[null,null,null,"b",null,{"$f":"+E21","v":4},0,0,{"$f":"+E24","v":1.0645304129051456},1.1332249999999997,1.2063524771644334,4.5328999999999988,4.8254099086577336]
[null,null,null,"Main Span",null,{"$f":"+E7","v":800},{"$f":"+E12","v":9.1249999999999998E-2},8.3265624999999989E-3,1,1,1,835.52666666666676,853.29]
[null,null,null,"∑",null,null,null,null,null,null,null,{"$f":"+SUM(L28:L32)*2+L33","v":1602.1482031550067},{"$f":"+SUM(M28:M32)*2+M33","v":1663.2443394351242}]
[]
[null,null,null,"Ls/(EcAc) =",{"$f":"+M34/E3","v":2.7266300646477444E-4},"m/ton"]
[]
[null,null,null,"Hr1 = Hw+Hp =",{"$f":"+E8*E7^2/(8*E11)+[1]PeeryMethod1!E51","v":15725.240646790578},"ton"]
[]
[null,null,null,null,"Main","Side"]
[null,null,null,"(cl)^2",{"$f":"+E38*E$7^2/E$10","v":290.45177529425598},{"$f":"+E38*F$7^2/F$10","v":58.984052828987373}]
[null,null,null,"cl",{"$f":"+SQRT(E41)","v":17.042645783277194},{"$f":"+SQRT(F41)","v":7.680107605300031}]
[null,null,null,"c",{"$f":"+E42/E$7","v":2.1303307229096492E-2},{"$f":"+F42/F$7","v":2.4000336266562595E-2}]
[null,null,null,"D",{"$f":"64*E$11^2*E$7/(E$10*E41)*(1/12-1/E41+2*TANH(E42/2)/E42^3)","v":2.176827256147026E-3},{"$f":"64*F$11^2*F$7/(F$10*F41)*(1/12-1/F41+2*TANH(F42/2)/F42^3)","v":1.2282685407456406E-4}]
[null,null,null,"Dtotal",{"$f":"+E44+2*F44+E$36","v":2.6951439707609283E-3}]
[null,null,null,"D/D0",{"$f":"+E45/E44","v":1.2381064979548815},{"$f":"+E45/F44","v":21.94262802762006}]
[null,null,null,"Hlive",{"$f":"+E38/E$8*E$9/E46","v":2542.3266850479959},{"$f":"+E38/F$8*F$9/F46","v":143.45005460238937}]
[null,null,null,"Hlive total",{"$f":"+E47+2*F47","v":2829.2267942527747}]
[null,null,null,"Ht(+)",{"$f":"-E$14*E$15*$L$34/$E45","v":-214.00465407158202}]
[null,null,null,"Ht(-)",{"$f":"-E$14*E$16*$L$34/$E45","v":214.00465407158202}]
[null,null,null,"Hmax",{"$f":"+E48+E50","v":3043.2314483243567}]
[]
[null,null,null,null,"Hr min","Hr min"]
[null,null,null,null,"Main","Side"]
[null,null,null,"L",{"$f":"+E7","v":800},{"$f":"+F7","v":320}]
[null,null,null,"f",{"$f":"+E11","v":73},{"$f":"+F11","v":11.68}]
[null,null,null,"EI",{"$f":"+E10","v":34650000},{"$f":"+F10","v":27300000}]
[null,null,null,"(cl)^2",{"$f":"+E41","v":290.45177529425598},{"$f":"+F41","v":58.984052828987373}]
[null,null,null,"cl",{"$f":"E42","v":17.042645783277194},{"$f":"F42","v":7.680107605300031}]
[null,null,null,"c",{"$f":"+E43","v":2.1303307229096492E-2},{"$f":"+F43","v":2.4000336266562595E-2}]
[null,null,null,"D",{"$f":"+E45","v":2.6951439707609283E-3},{"$f":"+E45","v":2.6951439707609283E-3}]
[]
[null,null,"mh","x/L"]
[null,null,null,0,{"$f":"-8*E$56/E$58*(TANH(E$59/2)*SINH(E$59*$D64)-COSH(E$59*$D64)+1)","v":0},{"$f":"-8*F$56/F$58*(TANH(F$59/2)*SINH(F$59*$D64)-COSH(F$59*$D64)+1)","v":0}]
[null,null,null,0.1,{"$f":"-8*E$56/E$58*(TANH(E$59/2)*SINH(E$59*$D65)-COSH(E$59*$D65)+1)","v":-1.6449088850873088},-0.8479738422057681]
[null,null,null,0.2,-1.9441259625950567,-1.2399490207434107]
[null,null,null,0.3,-1.998544896252916,-1.4187185911754183]
[null,null,null,0.4,-2.0083864079190263,-1.4950140809640897]
[null,null,null,0.5,-2.0098598541086954,-1.5160936230364677]
[]
[]
[null,null,null,"k/L"]
[null,null,"-ηH/D",0,{"$f":"-8*E$56/(E$57*E$60^4*E$55^2)*(TANH(E$59/2)*SINH(E$59*$D73)-COSH(E$59*$D73)+1-E$58/2*$D73*(1-$D73))/E$61","v":0},{"$f":"-8*F$56/(F$57*F$60^4*F$55^2)*(TANH(F$59/2)*SINH(F$59*$D73)-COSH(F$59*$D73)+1-F$58/2*$D73*(1-$D73))/F$61","v":0}]
[null,null,null,{"$f":"+D73+0.05","v":0.05},{"$f":"-8*E$56/(E$57*E$60^4*E$55^2)*(TANH(E$59/2)*SINH(E$59*$D74)-COSH(E$59*$D74)+1-E$58/2*$D74*(1-$D74))/E$61","v":0.30005566155649238},4.0456810903684283E-2]
[null,null,null,0.1,0.58126597667622737,7.9204449703107471E-2]
[null,null,null,0.15000000000000002,0.83468246526164092,0.11503334029218562]
[null,null,null,0.2,1.0564885687850705,0.14712100042061604]
[null,null,null,0.25,1.2450565283210433,0.17490926063615897]
[null,null,null,0.3,1.3996921455614726,0.19802094013301513]
[null,null,null,0.35,1.5200994549081532,0.2162035407850155]
[null,null,null,0.39999999999999997,1.6061524909309408,0.22929155394678219]
[null,null,null,0.44999999999999996,1.6577981506920538,0.23718175314055062]
[null,null,null,0.49999999999999994,1.6750152436539913,0.23981778429368636]
[null,null,null,null,null,null,null,1,{"$f":"+H84+1","v":2},3,4,5,6,7,1,{"$f":"+O84+1","v":2},3,4,5,6,7,1,{"$f":"+V84+1","v":2},3,4,5,6,7,1,{"$f":"+AC84+1","v":2},3,4,5,6,7,1,{"$f":"+AJ84+1","v":2},3,4,5,6,7,1,{"$f":"+AQ84+1","v":2},3,4,5,6,7,1,{"$f":"+AX84+1","v":2},3,4,5,6,7,1,{"$f":"+BE84+1","v":2},3,4,5,6,7,1,{"$f":"+BL84+1","v":2},3,4,5,6,7,1,{"$f":"+BS84+1","v":2},3,4,5,6,7]
[null,null,null,null,null,null,null,"Side",null,null,null,null,null,null,"Side",null,null,null,null,null,null,"Side",null,null,null,null,null,null,"Side",null,null,null,null,null,null,"Side",null,null,null,null,null,null,"Center",null,null,null,null,null,null,"Center",null,null,null,null,null,null,"Center",null,null,null,null,null,null,"Center",null,null,null,null,null,null,"Center"]
[null,null,null,"x/L",null,null,null,0.1,null,null,null,null,null,null,{"$f":"+H86+0.1","v":0.2},null,null,null,null,null,null,0.3,null,null,null,null,null,null,0.4,null,null,null,null,null,null,0.5,null,null,null,null,null,null,0.1,null,null,null,null,null,null,0.2,null,null,null,null,null,null,0.3,null,null,null,null,null,null,0.4,null,null,null,null,null,null,0.5]
[null,null,null,"mh",null,null,null,{"$f":"+INDEX($F$64:$F$69,MATCH(H86,$D$64:$D$69,0))","v":-0.8479738422057681},null,null,null,null,null,null,{"$f":"+INDEX($F$64:$F$69,MATCH(O86,$D$64:$D$69,0))","v":-1.2399490207434107},null,null,null,null,null,null,{"$f":"+INDEX($F$64:$F$69,MATCH(V86,$D$64:$D$69,0))","v":-1.4187185911754183},null,null,null,null,null,null,{"$f":"+INDEX($F$64:$F$69,MATCH(AC86,$D$64:$D$69,0))","v":-1.4950140809640897},null,null,null,null,null,null,{"$f":"+INDEX($F$64:$F$69,MATCH(AJ86,$D$64:$D$69,0))","v":-1.5160936230364677},null,null,null,null,null,null,{"$f":"+INDEX($E$64:$E$69,MATCH(AQ86,$D$64:$D$69,0))","v":-1.6449088850873088},null,null,null,null,null,null,{"$f":"+INDEX($E$64:$E$69,MATCH(AX86,$D$64:$D$69,0))","v":-1.9441259625950567},null,null,null,null,null,null,{"$f":"+INDEX($E$64:$E$69,MATCH(BE86,$D$64:$D$69,0))","v":-1.998544896252916},null,null,null,null,null,null,{"$f":"+INDEX($E$64:$E$69,MATCH(BL86,$D$64:$D$69,0))","v":-2.0083864079190263},null,null,null,null,null,null,{"$f":"+INDEX($E$64:$E$69,MATCH(BS86,$D$64:$D$69,0))","v":-2.0098598541086954}]
[null,null,null,"cl",null,null,null,{"$f":"+$F$42","v":7.680107605300031},null,null,null,null,null,null,{"$f":"+$F$42","v":7.680107605300031},null,null,null,null,null,null,{"$f":"+$F$42","v":7.680107605300031},null,null,null,null,null,null,{"$f":"+$F$42","v":7.680107605300031},null,null,null,null,null,null,{"$f":"+$F$42","v":7.680107605300031},null,null,null,null,null,null,{"$f":"+$E$42","v":17.042645783277194},null,null,null,null,null,null,{"$f":"+$E$42","v":17.042645783277194},null,null,null,null,null,null,{"$f":"+$E$42","v":17.042645783277194},null,null,null,null,null,null,{"$f":"+$E$42","v":17.042645783277194},null,null,null,null,null,null,{"$f":"+$E$42","v":17.042645783277194}]
[null,null,null,"c",null,null,null,{"$f":"+$F$43","v":2.4000336266562595E-2},null,null,null,null,null,null,{"$f":"+$F$43","v":2.4000336266562595E-2},null,null,null,null,null,null,{"$f":"+$F$43","v":2.4000336266562595E-2},null,null,null,null,null,null,{"$f":"+$F$43","v":2.4000336266562595E-2},null,null,null,null,null,null,{"$f":"+$F$43","v":2.4000336266562595E-2},null,null,null,null,null,null,{"$f":"+$E$43","v":2.1303307229096492E-2},null,null,null,null,null,null,{"$f":"+$E$43","v":2.1303307229096492E-2},null,null,null,null,null,null,{"$f":"+$E$43","v":2.1303307229096492E-2},null,null,null,null,null,null,{"$f":"+$E$43","v":2.1303307229096492E-2},null,null,null,null,null,null,{"$f":"+$E$43","v":2.1303307229096492E-2}]
[]
[]
[null,null,null,"span",null,null,null,1,2,3,"Sub Total","Temp","Total",null,1,2,3,"Sub Total","Temp","Total",null,1,2,3,"Sub Total","Temp","Total",null,1,2,3,"Sub Total","Temp","Total",null,1,2,3,"Sub Total","Temp","Total",null,1,2,3,"Sub Total","Temp","Total",null,1,2,3,"Sub Total","Temp","Total",null,1,2,3,"Sub Total","Temp","Total",null,1,2,3,"Sub Total","Temp","Total",null,1,2,3,"Sub Total","Temp","Total"]
[null,null,null,"L",null,null,null,{"$f":"+$F$7","v":320},{"$f":"+$E$7","v":800},{"$f":"+$F$7","v":320},null,null,null,null,{"$f":"+$F$7","v":320},{"$f":"+$E$7","v":800},{"$f":"+$F$7","v":320},null,null,null,null,{"$f":"+$F$7","v":320},{"$f":"+$E$7","v":800},{"$f":"+$F$7","v":320},null,null,null,null,{"$f":"+$F$7","v":320},{"$f":"+$E$7","v":800},{"$f":"+$F$7","v":320},null,null,null,null,{"$f":"+$F$7","v":320},{"$f":"+$E$7","v":800},{"$f":"+$F$7","v":320},null,null,null,null,{"$f":"+$F$7","v":320},{"$f":"+$E$7","v":800},{"$f":"+$F$7","v":320},null,null,null,null,{"$f":"+$F$7","v":320},{"$f":"+$E$7","v":800},{"$f":"+$F$7","v":320},null,null,null,null,{"$f":"+$F$7","v":320},{"$f":"+$E$7","v":800},{"$f":"+$F$7","v":320},null,null,null,null,{"$f":"+$F$7","v":320},{"$f":"+$E$7","v":800},{"$f":"+$F$7","v":320},null,null,null,null,{"$f":"+$F$7","v":320},{"$f":"+$E$7","v":800},{"$f":"+$F$7","v":320}]
[null,null,null,"p",null,null,null,{"$f":"+$F$9","v":2.4},{"$f":"+$E$9","v":2.4},{"$f":"+$F$9","v":2.4},null,null,null,null,{"$f":"+$F$9","v":2.4},{"$f":"+$E$9","v":2.4},{"$f":"+$F$9","v":2.4},null,null,null,null,{"$f":"+$F$9","v":2.4},{"$f":"+$E$9","v":2.4},{"$f":"+$F$9","v":2.4},null,null,null,null,{"$f":"+$F$9","v":2.4},{"$f":"+$E$9","v":2.4},{"$f":"+$F$9","v":2.4},null,null,null,null,{"$f":"+$F$9","v":2.4},{"$f":"+$E$9","v":2.4},{"$f":"+$F$9","v":2.4},null,null,null,null,{"$f":"+$F$9","v":2.4},{"$f":"+$E$9","v":2.4},{"$f":"+$F$9","v":2.4},null,null,null,null,{"$f":"+$F$9","v":2.4},{"$f":"+$E$9","v":2.4},{"$f":"+$F$9","v":2.4},null,null,null,null,{"$f":"+$F$9","v":2.4},{"$f":"+$E$9","v":2.4},{"$f":"+$F$9","v":2.4},null,null,null,null,{"$f":"+$F$9","v":2.4},{"$f":"+$E$9","v":2.4},{"$f":"+$F$9","v":2.4},null,null,null,null,{"$f":"+$F$9","v":2.4},{"$f":"+$E$9","v":2.4},{"$f":"+$F$9","v":2.4}]
[null,null,null,"∑+ΔM/P",null,null,null,{"$f":"+K127","v":166.96146045328797},{"$f":"+K151","v":0},{"$f":"+K175","v":0},null,null,null,null,{"$f":"+R127","v":243.39961779649411},{"$f":"+R151","v":0},{"$f":"+R175","v":0},null,null,null,null,{"$f":"+Y127","v":278.26658548442612},{"$f":"+Y151","v":0},{"$f":"+Y175","v":0},null,null,null,null,{"$f":"+AF127","v":293.23113558154307},{"$f":"+AF151","v":0},{"$f":"+AF175","v":0},null,null,null,null,{"$f":"+AM127","v":297.36566390346547},{"$f":"+AM151","v":0},{"$f":"+AM175","v":0},null,null,null,null,{"$f":"+AT127","v":0},{"$f":"+AT151","v":109.87333184471899},{"$f":"+AT175","v":0},null,null,null,null,{"$f":"+BA127","v":0},{"$f":"+BA151","v":117.57131417627329},{"$f":"+BA175","v":0},null,null,null,null,{"$f":"+BH127","v":0},{"$f":"+BH151","v":104.83489376524869},{"$f":"+BH175","v":0},null,null,null,null,{"$f":"+BO127","v":0},{"$f":"+BO151","v":97.405184736700747},{"$f":"+BO175","v":0},null,null,null,null,{"$f":"+BV127","v":0},{"$f":"+BV151","v":95.71730377622228},{"$f":"+BV175","v":0}]
[null,null,null,"∑-ΔM/P",null,null,null,{"$f":"+K128","v":-0.64039641816323356},{"$f":"+K152","v":-56.293562064859906},{"$f":"+K176","v":-7.940821359011621},null,null,null,null,{"$f":"+R128","v":-0.19678509719063475},{"$f":"+R152","v":-82.315212666127977},{"$f":"+R176","v":-11.611459195949527},null,null,null,null,{"$f":"+Y128","v":0},{"$f":"+Y152","v":-94.183003165708683},{"$f":"+Y176","v":-13.285540579798802},null,null,null,null,{"$f":"+AF128","v":0},{"$f":"+AF152","v":-99.24795290344511},{"$f":"+AF176","v":-14.000007022931278},null,null,null,null,{"$f":"+AM128","v":0},{"$f":"+AM152","v":-100.64733865202378},{"$f":"+AM176","v":-14.197405656704115},null,null,null,null,{"$f":"+AT128","v":-15.403691668545246},{"$f":"+AT152","v":-83.509982034260872},{"$f":"+AT176","v":-15.403691668545246},null,null,null,null,{"$f":"+BA128","v":-18.205699515714191},{"$f":"+BA152","v":-86.412340392283781},{"$f":"+BA176","v":-18.205699515714191},null,null,null,null,{"$f":"+BH128","v":-18.715303714825918},{"$f":"+BH152","v":-72.8037346600305},{"$f":"+BH176","v":-18.715303714825918},null,null,null,null,{"$f":"+BO128","v":-18.807464206286276},{"$f":"+BO152","v":-65.216293360080982},{"$f":"+BO176","v":-18.807464206286276},null,null,null,null,{"$f":"+BV128","v":-18.821262241546236},{"$f":"+BV152","v":-63.504797123734399},{"$f":"+BV176","v":-18.821262241546236}]
[null,null,null,"+M",null,null,null,{"$f":"+H93*H94*H95*0.05/3","v":2137.1066938020863},{"$f":"+I93*I94*I95*0.05/3","v":0},{"$f":"+J93*J94*J95*0.05/3","v":0},{"$f":"+SUM(H97:J97)","v":2137.1066938020863},{"$f":"+$E$49*H87","v":181.47034876299568},{"$f":"+K97+L97","v":2318.5770425650821},null,{"$f":"+O93*O94*O95*0.05/3","v":3115.515107795125},{"$f":"+P93*P94*P95*0.05/3","v":0},{"$f":"+Q93*Q94*Q95*0.05/3","v":0},{"$f":"+SUM(O97:Q97)","v":3115.515107795125},{"$f":"+$E$49*O87","v":265.35486125059049},{"$f":"+R97+S97","v":3380.8699690457156},null,{"$f":"+V93*V94*V95*0.05/3","v":3561.8122942006544},{"$f":"+W93*W94*W95*0.05/3","v":0},{"$f":"+X93*X94*X95*0.05/3","v":0},{"$f":"+SUM(V97:X97)","v":3561.8122942006544},{"$f":"+$E$49*V87","v":303.61238132941759},{"$f":"+Y97+Z97","v":3865.4246755300719},null,{"$f":"+AC93*AC94*AC95*0.05/3","v":3753.3585354437514},{"$f":"+AD93*AD94*AD95*0.05/3","v":0},{"$f":"+AE93*AE94*AE95*0.05/3","v":0},{"$f":"+SUM(AC97:AE97)","v":3753.3585354437514},{"$f":"+$E$49*AC87","v":319.93997122886412},{"$f":"+AF97+AG97","v":4073.2985066726155},null,{"$f":"+AJ93*AJ94*AJ95*0.05/3","v":3806.2804979643583},{"$f":"+AK93*AK94*AK95*0.05/3","v":0},{"$f":"+AL93*AL94*AL95*0.05/3","v":0},{"$f":"+SUM(AJ97:AL97)","v":3806.2804979643583},{"$f":"+$E$49*AJ87","v":324.45109133805073},{"$f":"+AM97+AN97","v":4130.7315893024088},null,{"$f":"+AQ93*AQ94*AQ95*0.05/3","v":0},{"$f":"+AR93*AR94*AR95*0.05/3","v":3515.9466190310081},{"$f":"+AS93*AS94*AS95*0.05/3","v":0},{"$f":"+SUM(AQ97:AS97)","v":3515.9466190310081},{"$f":"+$E$49*AQ87","v":352.0181569323812},{"$f":"+AT97+AU97","v":3867.9647759633895},null,{"$f":"+AX93*AX94*AX95*0.05/3","v":0},{"$f":"+AY93*AY94*AY95*0.05/3","v":3762.2820536407453},{"$f":"+AZ93*AZ94*AZ95*0.05/3","v":0},{"$f":"+SUM(AX97:AZ97)","v":3762.2820536407453},{"$f":"+$E$49*AX87","v":416.05200409673654},{"$f":"+BA97+BB97","v":4178.334057737482},null,{"$f":"+BE93*BE94*BE95*0.05/3","v":0},{"$f":"+BF93*BF94*BF95*0.05/3","v":3354.7166004879587},{"$f":"+BG93*BG94*BG95*0.05/3","v":0},{"$f":"+SUM(BE97:BG97)","v":3354.7166004879587},{"$f":"+$E$49*BE87","v":427.69790916913109},{"$f":"+BH97+BI97","v":3782.4145096570896},null,{"$f":"+BL93*BL94*BL95*0.05/3","v":0},{"$f":"+BM93*BM94*BM95*0.05/3","v":3116.9659115744239},{"$f":"+BN93*BN94*BN95*0.05/3","v":0},{"$f":"+SUM(BL97:BN97)","v":3116.9659115744239},{"$f":"+$E$49*BL87","v":429.80403846877846},{"$f":"+BO97+BP97","v":3546.7699500432022},null,{"$f":"+BS93*BS94*BS95*0.05/3","v":0},{"$f":"+BT93*BT94*BT95*0.05/3","v":3062.9537208391134},{"$f":"+BU93*BU94*BU95*0.05/3","v":0},{"$f":"+SUM(BS97:BU97)","v":3062.9537208391134},{"$f":"+$E$49*BS87","v":430.11936281089169},{"$f":"+BV97+BW97","v":3493.0730836500052}]
[null,null,null,"-M",null,null,null,{"$f":"+H93*H94*H96*0.05/3","v":-8.1970741524893906},{"$f":"+I93*I94*I96*0.05/3","v":-1801.3939860755172},{"$f":"+J93*J94*J96*0.05/3","v":-101.64251339534876},{"$f":"+SUM(H98:J98)","v":-1911.2335736233554},{"$f":"+$E$50*H87","v":-181.47034876299568},{"$f":"+K98+L98","v":-2092.7039223863512},null,{"$f":"+O93*O94*O96*0.05/3","v":-2.5188492440401249},{"$f":"+P93*P94*P96*0.05/3","v":-2634.0868053160953},{"$f":"+Q93*Q94*Q96*0.05/3","v":-148.62667770815395},{"$f":"+SUM(O98:Q98)","v":-2785.2323322682896},{"$f":"+$E$50*O87","v":-265.35486125059049},{"$f":"+R98+S98","v":-3050.5871935188802},null,{"$f":"+V93*V94*V96*0.05/3","v":0},{"$f":"+W93*W94*W96*0.05/3","v":-3013.8561013026779},{"$f":"+X93*X94*X96*0.05/3","v":-170.05491942142467},{"$f":"+SUM(V98:X98)","v":-3183.9110207241024},{"$f":"+$E$50*V87","v":-303.61238132941759},{"$f":"+Y98+Z98","v":-3487.5234020535199},null,{"$f":"+AC93*AC94*AC96*0.05/3","v":0},{"$f":"+AD93*AD94*AD96*0.05/3","v":-3175.934492910244},{"$f":"+AE93*AE94*AE96*0.05/3","v":-179.20008989352038},{"$f":"+SUM(AC98:AE98)","v":-3355.1345828037643},{"$f":"+$E$50*AC87","v":-319.93997122886412},{"$f":"+AF98+AG98","v":-3675.0745540326284},null,{"$f":"+AJ93*AJ94*AJ96*0.05/3","v":0},{"$f":"+AK93*AK94*AK96*0.05/3","v":-3220.7148368647609},{"$f":"+AL93*AL94*AL96*0.05/3","v":-181.72679240581269},{"$f":"+SUM(AJ98:AL98)","v":-3402.4416292705737},{"$f":"+$E$50*AJ87","v":-324.45109133805073},{"$f":"+AM98+AN98","v":-3726.8927206086246},null,{"$f":"+AQ93*AQ94*AQ96*0.05/3","v":-197.16725335737917},{"$f":"+AR93*AR94*AR96*0.05/3","v":-2672.3194250963479},{"$f":"+AS93*AS94*AS96*0.05/3","v":-197.16725335737917},{"$f":"+SUM(AQ98:AS98)","v":-3066.6539318111063},{"$f":"+$E$50*AQ87","v":-352.0181569323812},{"$f":"+AT98+AU98","v":-3418.6720887434876},null,{"$f":"+AX93*AX94*AX96*0.05/3","v":-233.03295380114164},{"$f":"+AY93*AY94*AY96*0.05/3","v":-2765.194892553081},{"$f":"+AZ93*AZ94*AZ96*0.05/3","v":-233.03295380114164},{"$f":"+SUM(AX98:AZ98)","v":-3231.260800155364},{"$f":"+$E$50*AX87","v":-416.05200409673654},{"$f":"+BA98+BB98","v":-3647.3128042521007},null,{"$f":"+BE93*BE94*BE96*0.05/3","v":-239.55588754977177},{"$f":"+BF93*BF94*BF96*0.05/3","v":-2329.7195091209765},{"$f":"+BG93*BG94*BG96*0.05/3","v":-239.55588754977177},{"$f":"+SUM(BE98:BG98)","v":-2808.83128422052},{"$f":"+$E$50*BE87","v":-427.69790916913109},{"$f":"+BH98+BI98","v":-3236.529193389651},null,{"$f":"+BL93*BL94*BL96*0.05/3","v":-240.73554184046438},{"$f":"+BM93*BM94*BM96*0.05/3","v":-2086.9213875225919},{"$f":"+BN93*BN94*BN96*0.05/3","v":-240.73554184046438},{"$f":"+SUM(BL98:BN98)","v":-2568.3924712035209},{"$f":"+$E$50*BL87","v":-429.80403846877846},{"$f":"+BO98+BP98","v":-2998.1965096722993},null,{"$f":"+BS93*BS94*BS96*0.05/3","v":-240.91215669179186},{"$f":"+BT93*BT94*BT96*0.05/3","v":-2032.1535079595008},{"$f":"+BU93*BU94*BU96*0.05/3","v":-240.91215669179186},{"$f":"+SUM(BS98:BU98)","v":-2513.9778213430845},{"$f":"+$E$50*BS87","v":-430.11936281089169},{"$f":"+BV98+BW98","v":-2944.0971841539763}]
[null,null,null,"∑+ΔH/P",null,null,null,{"$f":"+L127","v":7.392195503753638},{"$f":"+L151","v":0},{"$f":"+L175","v":0},null,null,null,null,{"$f":"+S127","v":8.4369744868519057},{"$f":"+S151","v":0},{"$f":"+S175","v":0},null,null,null,null,{"$f":"+Z127","v":9.3644649914622171},{"$f":"+Z151","v":0},{"$f":"+Z175","v":0},null,null,null,null,{"$f":"+AG127","v":9.3644649914622171},{"$f":"+AG151","v":0},{"$f":"+AG175","v":0},null,null,null,null,{"$f":"+AN127","v":9.3644649914622171},{"$f":"+AN151","v":0},{"$f":"+AN175","v":0},null,null,null,null,{"$f":"+AU127","v":0},{"$f":"+AU151","v":6.7579730294100582},{"$f":"+AU175","v":0},null,null,null,null,{"$f":"+BB127","v":0},{"$f":"+BB151","v":14.194379857040774},{"$f":"+BB175","v":0},null,null,null,null,{"$f":"+BI127","v":0},{"$f":"+BI151","v":21.499133690263605},{"$f":"+BI175","v":0},null,null,null,null,{"$f":"+BP127","v":0},{"$f":"+BP151","v":18.998602793478174},{"$f":"+BP175","v":0},null,null,null,null,{"$f":"+BW127","v":0},{"$f":"+BW151","v":19.824720674706295},{"$f":"+BW175","v":0}]
[null,null,null,"∑-ΔH/P",null,null,null,{"$f":"+M127","v":1.9722694877085776},{"$f":"+M151","v":66.385965301037913},{"$f":"+M175","v":9.3644649914622171},null,null,null,null,{"$f":"+T127","v":0.92749050461031057},{"$f":"+T151","v":66.385965301037913},{"$f":"+T175","v":9.3644649914622171},null,null,null,null,{"$f":"+AA127","v":0},{"$f":"+AA151","v":66.385965301037913},{"$f":"+AA175","v":9.3644649914622171},null,null,null,null,{"$f":"+AH127","v":0},{"$f":"+AH151","v":66.385965301037913},{"$f":"+AH175","v":9.3644649914622171},null,null,null,null,{"$f":"+AO127","v":0},{"$f":"+AO151","v":66.385965301037913},{"$f":"+AO175","v":9.3644649914622171},null,null,null,null,{"$f":"+AV127","v":9.3644649914622171},{"$f":"+AV151","v":59.627992271627839},{"$f":"+AV175","v":9.3644649914622171},null,null,null,null,{"$f":"+BC127","v":9.3644649914622171},{"$f":"+BC151","v":52.19158544399712},{"$f":"+BC175","v":9.3644649914622171},null,null,null,null,{"$f":"+BJ127","v":9.3644649914622171},{"$f":"+BJ151","v":44.886831610774301},{"$f":"+BJ175","v":9.3644649914622171},null,null,null,null,{"$f":"+BQ127","v":9.3644649914622171},{"$f":"+BQ151","v":47.387362507559722},{"$f":"+BQ175","v":9.3644649914622171},null,null,null,null,{"$f":"+BX127","v":9.3644649914622171},{"$f":"+BX151","v":46.561244626331607},{"$f":"+BX175","v":9.3644649914622171}]
[null,null,null,"+H",null,null,null,{"$f":"+H93*H94*H99*0.05/3","v":94.620102448046566},{"$f":"+I93*I94*I99*0.05/3","v":0},{"$f":"+J93*J94*J99*0.05/3","v":0},{"$f":"+SUM(H101:J101)","v":94.620102448046566},{"$f":"+$E$49","v":-214.00465407158202},{"$f":"+K101+L101","v":-119.38455162353546},null,{"$f":"+O93*O94*O99*0.05/3","v":107.9932734317044},{"$f":"+P93*P94*P99*0.05/3","v":0},{"$f":"+Q93*Q94*Q99*0.05/3","v":0},{"$f":"+SUM(O101:Q101)","v":107.9932734317044},{"$f":"+$E$49","v":-214.00465407158202},{"$f":"+R101+S101","v":-106.01138063987763},null,{"$f":"+V93*V94*V99*0.05/3","v":119.86515189071639},{"$f":"+W93*W94*W99*0.05/3","v":0},{"$f":"+X93*X94*X99*0.05/3","v":0},{"$f":"+SUM(V101:X101)","v":119.86515189071639},{"$f":"+$E$49","v":-214.00465407158202},{"$f":"+Y101+Z101","v":-94.139502180865634},null,{"$f":"+AC93*AC94*AC99*0.05/3","v":119.86515189071639},{"$f":"+AD93*AD94*AD99*0.05/3","v":0},{"$f":"+AE93*AE94*AE99*0.05/3","v":0},{"$f":"+SUM(AC101:AE101)","v":119.86515189071639},{"$f":"+$E$49","v":-214.00465407158202},{"$f":"+AF101+AG101","v":-94.139502180865634},null,{"$f":"+AJ93*AJ94*AJ99*0.05/3","v":119.86515189071639},{"$f":"+AK93*AK94*AK99*0.05/3","v":0},{"$f":"+AL93*AL94*AL99*0.05/3","v":0},{"$f":"+SUM(AJ101:AL101)","v":119.86515189071639},{"$f":"+$E$49","v":-214.00465407158202},{"$f":"+AM101+AN101","v":-94.139502180865634},null,{"$f":"+AQ93*AQ94*AQ99*0.05/3","v":0},{"$f":"+AR93*AR94*AR99*0.05/3","v":216.25513694112189},{"$f":"+AS93*AS94*AS99*0.05/3","v":0},{"$f":"+SUM(AQ101:AS101)","v":216.25513694112189},{"$f":"+$E$49","v":-214.00465407158202},{"$f":"+AT101+AU101","v":2.2504828695398658},null,{"$f":"+AX93*AX94*AX99*0.05/3","v":0},{"$f":"+AY93*AY94*AY99*0.05/3","v":454.22015542530477},{"$f":"+AZ93*AZ94*AZ99*0.05/3","v":0},{"$f":"+SUM(AX101:AZ101)","v":454.22015542530477},{"$f":"+$E$49","v":-214.00465407158202},{"$f":"+BA101+BB101","v":240.21550135372274},null,{"$f":"+BE93*BE94*BE99*0.05/3","v":0},{"$f":"+BF93*BF94*BF99*0.05/3","v":687.97227808843536},{"$f":"+BG93*BG94*BG99*0.05/3","v":0},{"$f":"+SUM(BE101:BG101)","v":687.97227808843536},{"$f":"+$E$49","v":-214.00465407158202},{"$f":"+BH101+BI101","v":473.96762401685334},null,{"$f":"+BL93*BL94*BL99*0.05/3","v":0},{"$f":"+BM93*BM94*BM99*0.05/3","v":607.95528939130156},{"$f":"+BN93*BN94*BN99*0.05/3","v":0},{"$f":"+SUM(BL101:BN101)","v":607.95528939130156},{"$f":"+$E$49","v":-214.00465407158202},{"$f":"+BO101+BP101","v":393.95063531971954},null,{"$f":"+BS93*BS94*BS99*0.05/3","v":0},{"$f":"+BT93*BT94*BT99*0.05/3","v":634.39106159060157},{"$f":"+BU93*BU94*BU99*0.05/3","v":0},{"$f":"+SUM(BS101:BU101)","v":634.39106159060157},{"$f":"+$E$49","v":-214.00465407158202},{"$f":"+BV101+BW101","v":420.38640751901954}]
[null,null,null,"-H",null,null,null,{"$f":"+H93*H94*H100*0.05/3","v":25.245049442669796},{"$f":"+I93*I94*I100*0.05/3","v":2124.3508896332132},{"$f":"+J93*J94*J100*0.05/3","v":119.86515189071639},{"$f":"+SUM(H102:J102)","v":2269.4610909665994},{"$f":"+$E$50","v":214.00465407158202},{"$f":"+K102+L102","v":2483.4657450381815},null,{"$f":"+O93*O94*O100*0.05/3","v":11.871878459011976},{"$f":"+P93*P94*P100*0.05/3","v":2124.3508896332132},{"$f":"+Q93*Q94*Q100*0.05/3","v":119.86515189071639},{"$f":"+SUM(O102:Q102)","v":2256.0879199829415},{"$f":"+$E$50","v":214.00465407158202},{"$f":"+R102+S102","v":2470.0925740545235},null,{"$f":"+V93*V94*V100*0.05/3","v":0},{"$f":"+W93*W94*W100*0.05/3","v":2124.3508896332132},{"$f":"+X93*X94*X100*0.05/3","v":119.86515189071639},{"$f":"+SUM(V102:X102)","v":2244.2160415239296},{"$f":"+$E$50","v":214.00465407158202},{"$f":"+Y102+Z102","v":2458.2206955955116},null,{"$f":"+AC93*AC94*AC100*0.05/3","v":0},{"$f":"+AD93*AD94*AD100*0.05/3","v":2124.3508896332132},{"$f":"+AE93*AE94*AE100*0.05/3","v":119.86515189071639},{"$f":"+SUM(AC102:AE102)","v":2244.2160415239296},{"$f":"+$E$50","v":214.00465407158202},{"$f":"+AF102+AG102","v":2458.2206955955116},null,{"$f":"+AJ93*AJ94*AJ100*0.05/3","v":0},{"$f":"+AK93*AK94*AK100*0.05/3","v":2124.3508896332132},{"$f":"+AL93*AL94*AL100*0.05/3","v":119.86515189071639},{"$f":"+SUM(AJ102:AL102)","v":2244.2160415239296},{"$f":"+$E$50","v":214.00465407158202},{"$f":"+AM102+AN102","v":2458.2206955955116},null,{"$f":"+AQ93*AQ94*AQ100*0.05/3","v":119.86515189071639},{"$f":"+AR93*AR94*AR100*0.05/3","v":1908.0957526920911},{"$f":"+AS93*AS94*AS100*0.05/3","v":119.86515189071639},{"$f":"+SUM(AQ102:AS102)","v":2147.8260564735237},{"$f":"+$E$50","v":214.00465407158202},{"$f":"+AT102+AU102","v":2361.8307105451058},null,{"$f":"+AX93*AX94*AX100*0.05/3","v":119.86515189071639},{"$f":"+AY93*AY94*AY100*0.05/3","v":1670.1307342079078},{"$f":"+AZ93*AZ94*AZ100*0.05/3","v":119.86515189071639},{"$f":"+SUM(AX102:AZ102)","v":1909.8610379893405},{"$f":"+$E$50","v":214.00465407158202},{"$f":"+BA102+BB102","v":2123.8656920609224},null,{"$f":"+BE93*BE94*BE100*0.05/3","v":119.86515189071639},{"$f":"+BF93*BF94*BF100*0.05/3","v":1436.3786115447776},{"$f":"+BG93*BG94*BG100*0.05/3","v":119.86515189071639},{"$f":"+SUM(BE102:BG102)","v":1676.1089153262103},{"$f":"+$E$50","v":214.00465407158202},{"$f":"+BH102+BI102","v":1890.1135693977924},null,{"$f":"+BL93*BL94*BL100*0.05/3","v":119.86515189071639},{"$f":"+BM93*BM94*BM100*0.05/3","v":1516.3956002419111},{"$f":"+BN93*BN94*BN100*0.05/3","v":119.86515189071639},{"$f":"+SUM(BL102:BN102)","v":1756.1259040233438},{"$f":"+$E$50","v":214.00465407158202},{"$f":"+BO102+BP102","v":1970.1305580949258},null,{"$f":"+BS93*BS94*BS100*0.05/3","v":119.86515189071639},{"$f":"+BT93*BT94*BT100*0.05/3","v":1489.9598280426117},{"$f":"+BU93*BU94*BU100*0.05/3","v":119.86515189071639},{"$f":"+SUM(BS102:BU102)","v":1729.6901318240443},{"$f":"+$E$50","v":214.00465407158202},{"$f":"+BV102+BW102","v":1943.6947858956264}]
[]
[]
[null,null,null,"k/L","H/P","ΔH/P",null,"mhH/P","mp","M/P","ΔM/P","Δ+H/P","Δ-H/P",null,"mhH/P","mp","M/P","ΔM/P","Δ+H/P","Δ-H/P",null,"mhH/P","mp","M/P","ΔM/P","Δ+H/P","Δ-H/P",null,"mhH/P","mp","M/P","ΔM/P","Δ+H/P","Δ-H/P",null,"mhH/P","mp","M/P","ΔM/P","Δ+H/P","Δ-H/P",null,"mhH/P","mp","M/P","ΔM/P","Δ+H/P","Δ-H/P",null,"mhH/P","mp","M/P","ΔM/P","Δ+H/P","Δ-H/P",null,"mhH/P","mp","M/P","ΔM/P","Δ+H/P","Δ-H/P",null,"mhH/P","mp","M/P","ΔM/P","Δ+H/P","Δ-H/P",null,"mhH/P","mp","M/P","ΔM/P","Δ+H/P","Δ-H/P"]
[null,null,null,0,{"$f":"+F73","v":0},null,null,{"$f":"+H$87*$E106","v":0},{"$f":"+IF(H$86<$D106,SINH(H$88-H$88*$D106)/(H$89*SINH(H$88))*SINH(H$88*H$86),SINH(H$88*$D106)/(H$89*SINH(H$88))*SINH(H$88-H$88*H$86))","v":0},{"$f":"+H106+I106","v":0},null,null,null,null,{"$f":"+O$87*$E106","v":0},{"$f":"+IF(O$86<$D106,SINH(O$88-O$88*$D106)/(O$89*SINH(O$88))*SINH(O$88*O$86),SINH(O$88*$D106)/(O$89*SINH(O$88))*SINH(O$88-O$88*O$86))","v":0},{"$f":"+O106+P106","v":0},null,null,null,null,{"$f":"+V$87*$E106","v":0},{"$f":"+IF(V$86<$D106,SINH(V$88-V$88*$D106)/(V$89*SINH(V$88))*SINH(V$88*V$86),SINH(V$88*$D106)/(V$89*SINH(V$88))*SINH(V$88-V$88*V$86))","v":0},{"$f":"+V106+W106","v":0},null,null,null,null,{"$f":"+AC$87*$E106","v":0},{"$f":"+IF(AC$86<$D106,SINH(AC$88-AC$88*$D106)/(AC$89*SINH(AC$88))*SINH(AC$88*AC$86),SINH(AC$88*$D106)/(AC$89*SINH(AC$88))*SINH(AC$88-AC$88*AC$86))","v":0},{"$f":"+AC106+AD106","v":0},null,null,null,null,{"$f":"+AJ$87*$E106","v":0},{"$f":"+IF(AJ$86<$D106,SINH(AJ$88-AJ$88*$D106)/(AJ$89*SINH(AJ$88))*SINH(AJ$88*AJ$86),SINH(AJ$88*$D106)/(AJ$89*SINH(AJ$88))*SINH(AJ$88-AJ$88*AJ$86))","v":0},{"$f":"+AJ106+AK106","v":0},null,null,null,null,{"$f":"+AQ$87*$E106","v":0},null,{"$f":"+AQ106+AR106","v":0},null,null,null,null,{"$f":"+AX$87*$E106","v":0},null,{"$f":"+AX106+AY106","v":0},null,null,null,null,{"$f":"+BE$87*$E106","v":0},null,{"$f":"+BE106+BF106","v":0},null,null,null,null,{"$f":"+BL$87*$E106","v":0},null,{"$f":"+BL106+BM106","v":0},null,null,null,null,{"$f":"+BS$87*$E106","v":0},null,{"$f":"+BS106+BT106","v":0}]
[null,null,null,{"$f":"+D106+0.05","v":0.05},{"$f":"+F74","v":4.0456810903684283E-2},null,null,{"$f":"+H$87*$E107","v":-3.4306317385389376E-2},7.6067361354557956,{"$f":"+H107+I107","v":7.5724298180704066},null,null,null,null,{"$f":"+O$87*$E107","v":-5.0164383062424669E-2},3.5290185928078923,{"$f":"+O107+P107","v":3.4788542097454678},null,null,null,null,{"$f":"+V$87*$E107","v":-5.7396829768725267E-2},1.6372078478333663,{"$f":"+V107+W107","v":1.579811018064641},null,null,null,null,{"$f":"+AC$87*$E107","v":-6.048350197190952E-2},0.75949880554657179,{"$f":"+AC107+AD107","v":0.69901530357466224},null,null,null,null,{"$f":"+AJ$87*$E107","v":-6.1336313019467972E-2},0.35223035692865617,{"$f":"+AJ107+AK107","v":0.29089404390918822},null,null,null,null,-6.6547767717767395E-2,null,{"$f":"+AQ107+AR107","v":-6.6547767717767395E-2},null,null,null,null,-7.8653136441651395E-2,null,{"$f":"+AX107+AY107","v":-7.8653136441651395E-2},null,null,null,null,-8.0854752950227551E-2,null,{"$f":"+BE107+BF107","v":-8.0854752950227551E-2},null,null,null,null,-8.125290912670978E-2,null,{"$f":"+BL107+BM107","v":-8.125290912670978E-2},null,null,null,null,-8.1312520060581969E-2,null,{"$f":"+BS107+BT107","v":-8.1312520060581969E-2}]
[null,null,null,0.1,7.9204449703107471E-2,{"$f":"+E106+4*E107+E108","v":0.2410316933178446},null,-6.7163301534537548E-2,16.349014233242162,16.281850931707623,{"$f":"+J106+4*J107+J108","v":46.571570203989253},{"$f":"+IF(K108>0,$F108,\"\")","v":0.2410316933178446},{"$f":"+IF(K108<0,$F108,\"\")","v":""},null,-9.8209479847888845E-2,7.5848529744926294,7.4866434946447402,{"$f":"+Q106+4*Q107+Q108","v":21.402060333626611},{"$f":"+IF(R108>0,$F108,\"\")","v":0.2410316933178446},{"$f":"+IF(R108<0,$F108,\"\")","v":""},null,-0.11236882529761691,3.5188198894189209,3.4064510641213039,{"$f":"+X106+4*X107+X108","v":9.7256951363798674},{"$f":"+IF(Y108>0,$F108,\"\")","v":0.2410316933178446},{"$f":"+IF(Y108<0,$F108,\"\")","v":""},null,-0.11841176758115768,1.6323764306920177,1.5139646631108601,{"$f":"+AE106+4*AE107+AE108","v":4.310025877409509},{"$f":"+IF(AF108>0,$F108,\"\")","v":0.2410316933178446},{"$f":"+IF(AF108<0,$F108,\"\")","v":""},null,-0.12008136111099388,0.75704205013304438,0.6369606890220505,{"$f":"+AL106+4*AL107+AL108","v":1.8005368646588034},{"$f":"+IF(AM108>0,$F108,\"\")","v":0.2410316933178446},{"$f":"+IF(AM108<0,$F108,\"\")","v":""},null,-0.13028410305509233,null,-0.13028410305509233,{"$f":"+AS106+4*AS107+AS108","v":-0.39647517392616194},{"$f":"+IF(AT108>0,$F108,\"\")","v":""},{"$f":"+IF(AT108<0,$F108,\"\")","v":0.2410316933178446},null,-0.15398342702086557,null,-0.15398342702086557,{"$f":"+AZ106+4*AZ107+AZ108","v":-0.46859597278747112},{"$f":"+IF(BA108>0,$F108,\"\")","v":""},{"$f":"+IF(BA108<0,$F108,\"\")","v":0.2410316933178446},null,-0.15829364871466622,null,-0.15829364871466622,{"$f":"+BG106+4*BG107+BG108","v":-0.48171266051557643},{"$f":"+IF(BH108>0,$F108,\"\")","v":""},{"$f":"+IF(BH108<0,$F108,\"\")","v":0.2410316933178446},null,-0.15907314023042721,null,-0.15907314023042721,{"$f":"+BN106+4*BN107+BN108","v":-0.48408477673726635},{"$f":"+IF(BO108>0,$F108,\"\")","v":""},{"$f":"+IF(BO108<0,$F108,\"\")","v":0.2410316933178446},null,-0.15918984372504708,null,-0.15918984372504708,{"$f":"+BU106+4*BU107+BU108","v":-0.48443992396737495},{"$f":"+IF(BV108>0,$F108,\"\")","v":""},{"$f":"+IF(BV108<0,$F108,\"\")","v":0.2410316933178446}]
[null,null,null,0.15000000000000002,0.11503334029218562,null,null,-9.7545263549328229E-2,11.135754728263686,11.038209464714358,null,null,null,null,-0.14263547764813908,12.772962576097052,12.630327098448914,null,null,null,null,-0.16319993847753206,5.9257252461878327,5.7625253077103009,null,null,null,null,-0.17197646351715129,2.7489370103085955,2.5769605467914443,null,null,null,null,-0.17440131365356656,1.274865815777793,1.1004645021242265,null,null,null,null,-0.18921936352788804,null,-0.18921936352788804,null,null,null,null,-0.22363930342607008,null,-0.22363930342607008,null,null,null,null,-0.22989929513987248,null,-0.22989929513987248,null,null,null,null,-0.23103139710034967,null,-0.23103139710034967,null,null,null,null,-0.23120089253728809,null,-0.23120089253728809]
[null,null,null,0.2,0.14712100042061604,{"$f":"+E108+4*E109+E110","v":0.686458811292466},null,-0.12475475999582621,7.5848529744926294,7.4600982144968029,{"$f":"+J108+4*J109+J110","v":67.894787005061858},{"$f":"+IF(K110>0,$F110,\"\")","v":0.686458811292466},{"$f":"+IF(K110<0,$F110,\"\")","v":""},null,-0.18242254040233377,19.867834122661073,19.685411582258737,{"$f":"+Q108+4*Q109+Q110","v":77.693363470699126},{"$f":"+IF(R110>0,$F110,\"\")","v":0.686458811292466},{"$f":"+IF(R110<0,$F110,\"\")","v":""},null,-0.20872329844905452,9.2172294051846482,9.0085061067355934,{"$f":"+X108+4*X109+X110","v":35.465058401698101},{"$f":"+IF(Y110>0,$F110,\"\")","v":0.686458811292466},{"$f":"+IF(Y110<0,$F110,\"\")","v":""},null,-0.21994796723434476,4.2758619395519668,4.0559139723176223,{"$f":"+AE108+4*AE109+AE110","v":15.877720822594259},{"$f":"+IF(AF110>0,$F110,\"\")","v":0.686458811292466},{"$f":"+IF(AF110<0,$F110,\"\")","v":""},null,-0.22304921055244145,1.9830029568804808,1.7599537463280392,{"$f":"+AL108+4*AL109+AL110","v":6.7987724438469961},{"$f":"+IF(AM110>0,$F110,\"\")","v":0.686458811292466},{"$f":"+IF(AM110<0,$F110,\"\")","v":""},null,-0.24200064077480501,null,-0.24200064077480501,{"$f":"+AS108+4*AS109+AS110","v":-1.1291621979414495},{"$f":"+IF(AT110>0,$F110,\"\")","v":""},{"$f":"+IF(AT110<0,$F110,\"\")","v":0.686458811292466},null,-0.28602175656067791,null,-0.28602175656067791,{"$f":"+AZ108+4*AZ109+AZ110","v":-1.3345623972858238},{"$f":"+IF(BA110>0,$F110,\"\")","v":""},{"$f":"+IF(BA110<0,$F110,\"\")","v":0.686458811292466},null,-0.2940279245222453,null,-0.2940279245222453,{"$f":"+BG108+4*BG109+BG110","v":-1.3719187537964013},{"$f":"+IF(BH110>0,$F110,\"\")","v":""},{"$f":"+IF(BH110<0,$F110,\"\")","v":0.686458811292466},null,-0.29547581756421459,null,-0.29547581756421459,{"$f":"+BN108+4*BN109+BN110","v":-1.3786745461960406},{"$f":"+IF(BO110>0,$F110,\"\")","v":""},{"$f":"+IF(BO110<0,$F110,\"\")","v":0.686458811292466},null,-0.29569259244170465,null,-0.29569259244170465,{"$f":"+BU108+4*BU109+BU110","v":-1.379686006315904},{"$f":"+IF(BV110>0,$F110,\"\")","v":""},{"$f":"+IF(BV110<0,$F110,\"\")","v":0.686458811292466}]
[null,null,null,0.25,0.17490926063615897,null,null,-0.14831847777901383,5.1662264406412612,5.0179079628622478,null,null,null,null,-0.21687856644475931,13.532461381643628,13.315582815198869,null,null,null,null,-0.24814701983326551,13.884691738572279,13.636544718739014,null,null,null,null,-0.26149180754207563,6.4410922564190534,6.179600448876978,null,null,null,null,-0.26517881466050408,2.9871649671077316,2.7219861524472275,null,null,null,null,-0.28770979690446974,null,-0.28770979690446974,null,null,null,null,-0.34004563470106219,null,-0.34004563470106219,null,null,null,null,-0.34956401015176658,null,-0.34956401015176658,null,null,null,null,-0.35128538168082807,null,-0.35128538168082807,null,null,null,null,-0.35154310106445025,null,-0.35154310106445025]
[null,null,null,0.3,0.19802094013301513,{"$f":"+E110+4*E111+E112","v":1.044778983098267},null,-0.16791657744179123,3.5188198894189209,3.3509033119771297,{"$f":"+J110+4*J111+J112","v":30.882633377922925},{"$f":"+IF(K112>0,$F112,\"\")","v":1.044778983098267},{"$f":"+IF(K112<0,$F112,\"\")","v":""},null,-0.24553587080462166,9.2172294051846482,8.9716935343800266,{"$f":"+Q110+4*Q111+Q112","v":81.919436377434238},{"$f":"+IF(R112>0,$F112,\"\")","v":1.044778983098267},{"$f":"+IF(R112<0,$F112,\"\")","v":""},null,-0.28093598920874308,20.624876172794117,20.343940183585374,{"$f":"+X110+4*X111+X112","v":83.898625165277025},{"$f":"+IF(Y112>0,$F112,\"\")","v":1.044778983098267},{"$f":"+IF(Y112<0,$F112,\"\")","v":""},null,-0.29604409382460467,9.5678559313731117,9.2718118375485066,{"$f":"+AE110+4*AE111+AE112","v":38.046127605374039},{"$f":"+IF(AF112>0,$F112,\"\")","v":1.044778983098267},{"$f":"+IF(AF112<0,$F112,\"\")","v":""},null,-0.30021828456335037,4.4372542591745532,4.1370359746112024,{"$f":"+AL110+4*AL111+AL112","v":16.784934330728152},{"$f":"+IF(AM112>0,$F112,\"\")","v":1.044778983098267},{"$f":"+IF(AM112<0,$F112,\"\")","v":""},null,-0.32572640385813867,null,-0.32572640385813867,{"$f":"+AS110+4*AS111+AS112","v":-1.7185662322508226},{"$f":"+IF(AT112>0,$F112,\"\")","v":""},{"$f":"+IF(AT112<0,$F112,\"\")","v":1.044778983098267},null,-0.38497765085007613,null,-0.38497765085007613,{"$f":"+AZ110+4*AZ111+AZ112","v":-2.0311819462150029},{"$f":"+IF(BA112>0,$F112,\"\")","v":""},{"$f":"+IF(BA112<0,$F112,\"\")","v":1.044778983098267},null,-0.39575373925404161,null,-0.39575373925404161,{"$f":"+BG110+4*BG111+BG112","v":-2.0880377043833533},{"$f":"+IF(BH112>0,$F112,\"\")","v":""},{"$f":"+IF(BH112<0,$F112,\"\")","v":1.044778983098267},null,-0.39770256464649484,null,-0.39770256464649484,{"$f":"+BN110+4*BN111+BN112","v":-2.0983199089340214},{"$f":"+IF(BO112>0,$F112,\"\")","v":""},{"$f":"+IF(BO112<0,$F112,\"\")","v":1.044778983098267},null,-0.39799433784620852,null,-0.39799433784620852,{"$f":"+BU110+4*BU111+BU112","v":-2.0998593345457142},{"$f":"+IF(BV112>0,$F112,\"\")","v":""},{"$f":"+IF(BV112<0,$F112,\"\")","v":1.044778983098267}]
[null,null,null,0.35,0.2162035407850155,null,null,-0.18333494717796109,2.3967066533799395,2.2133717062019782,null,null,null,null,-0.26808136867763804,6.2779556031164914,6.0098742344388532,null,null,null,null,-0.3067319827896543,14.047828391874852,13.741096409085197,null,null,null,null,-0.32322733782789204,14.12291969537142,13.799692357543528,null,null,null,null,-0.32778480946206684,6.5497417623922649,6.2219569529301983,null,null,null,null,-0.35563512522460833,null,-0.35563512522460833,null,null,null,null,-0.42032691684512785,null,-0.42032691684512785,null,null,null,null,-0.43209248298770186,null,-0.43209248298770186,null,null,null,null,-0.43422025265659198,null,-0.43422025265659198,null,null,null,null,-0.43453881693995461,null,-0.43453881693995461]
[null,null,null,0.39999999999999997,0.22929155394678219,{"$f":"+E112+4*E113+E114","v":1.2921266572198593},null,-0.19443323998558404,1.6323764306920177,1.4379431907064335,{"$f":"+J112+4*J113+J114","v":13.642333327491475},{"$f":"+IF(K114>0,$F114,\"\")","v":1.2921266572198593},{"$f":"+IF(K114<0,$F114,\"\")","v":""},null,-0.28430983778104751,4.2758619395519668,3.9915521017709192,{"$f":"+Q112+4*Q113+Q114","v":37.00274257390636},{"$f":"+IF(R114>0,$F114,\"\")","v":1.2921266572198593},{"$f":"+IF(R114<0,$F114,\"\")","v":""},null,-0.32530019038380126,9.5678559313731135,9.242555740989312,{"$f":"+X112+4*X113+X114","v":84.550881560915471},{"$f":"+IF(Y114>0,$F114,\"\")","v":1.2921266572198593},{"$f":"+IF(Y114<0,$F114,\"\")","v":""},null,-0.3427941017965766,20.786268492416703,20.443474390620125,{"$f":"+AE112+4*AE113+AE114","v":84.914055658342747},{"$f":"+IF(AF114>0,$F114,\"\")","v":1.2921266572198593},{"$f":"+IF(AF114<0,$F114,\"\")","v":""},null,-0.34762746275483869,9.6399819418147388,9.2923544790599006,{"$f":"+AL112+4*AL113+AL114","v":38.317218265391894},{"$f":"+IF(AM114>0,$F114,\"\")","v":1.2921266572198593},{"$f":"+IF(AM114<0,$F114,\"\")","v":""},null,-0.37716371436253804,null,-0.37716371436253804,{"$f":"+AS112+4*AS113+AS114","v":-2.1254306191191099},{"$f":"+IF(AT114>0,$F114,\"\")","v":""},{"$f":"+IF(AT114<0,$F114,\"\")","v":1.2921266572198593},null,-0.44577166303170429,null,-0.44577166303170429,{"$f":"+AZ112+4*AZ113+AZ114","v":-2.5120569812622917},{"$f":"+IF(BA114>0,$F114,\"\")","v":""},{"$f":"+IF(BA114<0,$F114,\"\")","v":1.2921266572198593},null,-0.45824946489424168,null,-0.45824946489424168,{"$f":"+BG112+4*BG113+BG114","v":-2.5823731360990907},{"$f":"+IF(BH114>0,$F114,\"\")","v":""},{"$f":"+IF(BH114<0,$F114,\"\")","v":1.2921266572198593},null,-0.46050604039734955,null,-0.46050604039734955,{"$f":"+BN112+4*BN113+BN114","v":-2.5950896156702123},{"$f":"+IF(BO114>0,$F114,\"\")","v":""},{"$f":"+IF(BO114<0,$F114,\"\")","v":1.2921266572198593},null,-0.46084388916383573,null,-0.46084388916383573,{"$f":"+BU112+4*BU113+BU114","v":-2.5969934947698627},{"$f":"+IF(BV114>0,$F114,\"\")","v":""},{"$f":"+IF(BV114<0,$F114,\"\")","v":1.2921266572198593}]
[null,null,null,0.44999999999999996,0.23718175314055062,null,null,-0.20112392251169273,1.1117291624752279,0.91060523996353515,null,null,null,null,-0.29409328254483114,2.9120736636111593,2.617980381066328,null,null,null,null,-0.3364941626680778,6.5161835599156248,6.1796893972475466,null,null,null,null,-0.35459006069287191,14.15647789784806,13.801887837155189,null,null,null,null,-0.35958974343699851,14.169289260692242,13.809699517255243,null,null,null,null,-0.39014237312147643,null,-0.39014237312147643,null,null,null,null,-0.46111120413435608,null,-0.46111120413435608,null,null,null,null,-0.47401838222336645,null,-0.47401838222336645,null,null,null,null,-0.47635260921388772,null,-0.47635260921388772,null,null,null,null,-0.47670208376431167,null,-0.47670208376431167]
[null,null,null,0.49999999999999994,0.23981778429368636,{"$f":"+E114+4*E115+E116","v":1.417836350802671},null,-0.20335920797679133,0.75704205013304471,0.55368284215625341,{"$f":"+J114+4*J115+J116","v":5.6340469927168275},{"$f":"+IF(K116>0,$F116,\"\")","v":1.417836350802671},{"$f":"+IF(K116<0,$F116,\"\")","v":""},null,-0.29736182679181089,1.9830029568804817,1.6856411300886709,{"$f":"+Q114+4*Q115+Q116","v":16.149114756124902},{"$f":"+IF(R116>0,$F116,\"\")","v":1.417836350802671},{"$f":"+IF(R116<0,$F116,\"\")","v":""},null,-0.34023394907194909,4.437254259174555,4.0970203101026055,{"$f":"+X114+4*X115+X116","v":38.058333640082104},{"$f":"+IF(Y116>0,$F116,\"\")","v":1.417836350802671},{"$f":"+IF(Y116<0,$F116,\"\")","v":""},null,-0.3585309643846698,9.6399819418147477,9.2814509774300777,{"$f":"+AE114+4*AE115+AE116","v":84.932476716670962},{"$f":"+IF(AF116>0,$F116,\"\")","v":1.417836350802671},{"$f":"+IF(AF116<0,$F116,\"\")","v":""},null,-0.36358621345839304,20.813803712484425,20.450217499026031,{"$f":"+AL114+4*AL115+AL116","v":84.981370047106907},{"$f":"+IF(AM116>0,$F116,\"\")","v":1.417836350802671},{"$f":"+IF(AM116<0,$F116,\"\")","v":""},null,-0.39447840418663632,null,-0.39447840418663632,{"$f":"+AS114+4*AS115+AS116","v":-2.3322116110350803},{"$f":"+IF(AT116>0,$F116,\"\")","v":""},{"$f":"+IF(AT116<0,$F116,\"\")","v":1.417836350802671},null,-0.46623598073737665,null,-0.46623598073737665,{"$f":"+AZ114+4*AZ115+AZ116","v":-2.7564524603065053},{"$f":"+IF(BA116>0,$F116,\"\")","v":""},{"$f":"+IF(BA116<0,$F116,\"\")","v":1.417836350802671},null,-0.47928660883082957,null,-0.47928660883082957,{"$f":"+BG114+4*BG115+BG116","v":-2.8336096026185369},{"$f":"+IF(BH116>0,$F116,\"\")","v":""},{"$f":"+IF(BH116<0,$F116,\"\")","v":1.417836350802671},null,-0.48164677835269665,null,-0.48164677835269665,{"$f":"+BN114+4*BN115+BN116","v":-2.8475632556055972},{"$f":"+IF(BO116>0,$F116,\"\")","v":""},{"$f":"+IF(BO116<0,$F116,\"\")","v":1.417836350802671},null,-0.48200013695317906,null,-0.48200013695317906,{"$f":"+BU114+4*BU115+BU116","v":-2.8496523611742615},{"$f":"+IF(BV116>0,$F116,\"\")","v":""},{"$f":"+IF(BV116<0,$F116,\"\")","v":1.417836350802671}]
[null,null,null,0.54999999999999993,{"$f":"+E115","v":0.23718175314055062},null,null,{"$f":"+H115","v":-0.20112392251169273},0.51536701023122089,0.31424308771952814,null,null,null,null,{"$f":"+O115","v":-0.29409328254483114},1.3499571192743651,1.0558638367295341,null,null,null,null,{"$f":"+V115","v":-0.3364941626680778},3.0207231695843713,2.6842290069162935,null,null,null,null,{"$f":"+AC115","v":-0.35459006069287191},6.5625531252364544,6.2079630645435824,null,null,null,null,{"$f":"+AJ115","v":-0.35958974343699851},14.169289260692247,13.809699517255249,null,null,null,null,{"$f":"+AQ115","v":-0.39014237312147643},null,-0.39014237312147643,null,null,null,null,{"$f":"+AX115","v":-0.46111120413435608},null,-0.46111120413435608,null,null,null,null,{"$f":"+BE115","v":-0.47401838222336645},null,-0.47401838222336645,null,null,null,null,{"$f":"+BL115","v":-0.47635260921388772},null,-0.47635260921388772,null,null,null,null,{"$f":"+BS115","v":-0.47670208376431167},null,-0.47670208376431167]
[null,null,null,0.6,{"$f":"+E114","v":0.22929155394678219},{"$f":"+E116+4*E117+E118","v":1.417836350802671},null,{"$f":"+H114","v":-0.19443323998558404},0.35062652618846318,0.15619328620287914,{"$f":"+J116+4*J117+J118","v":1.9668484792372452},{"$f":"+IF(K118>0,$F118,\"\")","v":1.417836350802671},{"$f":"+IF(K118<0,$F118,\"\")","v":""},null,{"$f":"+O114","v":-0.28430983778104751},0.91843436975563164,0.63412453197458407,{"$f":"+Q116+4*Q117+Q118","v":6.5432210089813916},{"$f":"+IF(R118>0,$F118,\"\")","v":1.417836350802671},{"$f":"+IF(R118<0,$F118,\"\")","v":""},null,{"$f":"+V114","v":-0.32530019038380126},2.0551289673221098,1.7298287769383085,{"$f":"+X116+4*X117+X118","v":16.563765114706086},{"$f":"+IF(Y118>0,$F118,\"\")","v":1.417836350802671},{"$f":"+IF(Y118<0,$F118,\"\")","v":""},null,{"$f":"+AC114","v":-0.3427941017965766},4.4647894792422749,4.1219953774456979,{"$f":"+AE116+4*AE117+AE118","v":38.235298613050105},{"$f":"+IF(AF118>0,$F118,\"\")","v":1.417836350802671},{"$f":"+IF(AF118<0,$F118,\"\")","v":""},null,{"$f":"+AJ114","v":-0.34762746275483869},9.6399819418147388,9.2923544790599006,{"$f":"+AL116+4*AL117+AL118","v":84.981370047106921},{"$f":"+IF(AM118>0,$F118,\"\")","v":1.417836350802671},{"$f":"+IF(AM118<0,$F118,\"\")","v":""},null,{"$f":"+AQ114","v":-0.37716371436253804},null,-0.37716371436253804,{"$f":"+AS116+4*AS117+AS118","v":-2.3322116110350799},{"$f":"+IF(AT118>0,$F118,\"\")","v":""},{"$f":"+IF(AT118<0,$F118,\"\")","v":1.417836350802671},null,{"$f":"+AX114","v":-0.44577166303170429},null,-0.44577166303170429,{"$f":"+AZ116+4*AZ117+AZ118","v":-2.7564524603065053},{"$f":"+IF(BA118>0,$F118,\"\")","v":""},{"$f":"+IF(BA118<0,$F118,\"\")","v":1.417836350802671},null,{"$f":"+BE114","v":-0.45824946489424168},null,-0.45824946489424168,{"$f":"+BG116+4*BG117+BG118","v":-2.8336096026185369},{"$f":"+IF(BH118>0,$F118,\"\")","v":""},{"$f":"+IF(BH118<0,$F118,\"\")","v":1.417836350802671},null,{"$f":"+BL114","v":-0.46050604039734955},null,-0.46050604039734955,{"$f":"+BN116+4*BN117+BN118","v":-2.8475632556055972},{"$f":"+IF(BO118>0,$F118,\"\")","v":""},{"$f":"+IF(BO118<0,$F118,\"\")","v":1.417836350802671},null,{"$f":"+BS114","v":-0.46084388916383573},null,-0.46084388916383573,{"$f":"+BU116+4*BU117+BU118","v":-2.8496523611742615},{"$f":"+IF(BV118>0,$F118,\"\")","v":""},{"$f":"+IF(BV118<0,$F118,\"\")","v":1.417836350802671}]
[null,null,null,0.65,{"$f":"+E113","v":0.2162035407850155},null,null,{"$f":"+H113","v":-0.18333494717796109},0.23822795679913691,5.4893009621175826E-2,null,null,null,null,{"$f":"+O113","v":-0.26808136867763804},0.62401651620443288,0.35593514752679484,null,null,null,null,{"$f":"+V113","v":-0.3067319827896543},1.3963266845951929,1.0895947018055385,null,null,null,null,{"$f":"+AC113","v":-0.32322733782789204},3.033534532428559,2.7103071946006669,null,null,null,null,{"$f":"+AJ113","v":-0.32778480946206684},6.5497417623922614,6.2219569529301948,null,null,null,null,{"$f":"+AQ113","v":-0.35563512522460833},null,-0.35563512522460833,null,null,null,null,{"$f":"+AX113","v":-0.42032691684512785},null,-0.42032691684512785,null,null,null,null,{"$f":"+BE113","v":-0.43209248298770186},null,-0.43209248298770186,null,null,null,null,{"$f":"+BL113","v":-0.43422025265659198},null,-0.43422025265659198,null,null,null,null,{"$f":"+BS113","v":-0.43453881693995461},null,-0.43453881693995461]
[null,null,null,0.70000000000000007,{"$f":"+E112","v":0.19802094013301513},{"$f":"+E118+4*E119+E120","v":1.2921266572198593},null,{"$f":"+H112","v":-0.16791657744179123},0.1613923196225874,-6.5242578192038214E-3,{"$f":"+J118+4*J119+J120","v":0.36924106686837865},{"$f":"+IF(K120>0,$F120,\"\")","v":1.2921266572198593},{"$f":"+IF(K120<0,$F120,\"\")","v":""},null,{"$f":"+O112","v":-0.24553587080462166},0.42275253663009293,0.17721666582547127,{"$f":"+Q118+4*Q119+Q120","v":2.2350817879072347},{"$f":"+IF(R120>0,$F120,\"\")","v":1.2921266572198593},{"$f":"+IF(R120<0,$F120,\"\")","v":""},null,{"$f":"+V112","v":-0.28093598920874308},0.94596958982335366,0.66503360061461059,{"$f":"+X118+4*X119+X120","v":6.7532411847750735},{"$f":"+IF(Y120>0,$F120,\"\")","v":1.2921266572198593},{"$f":"+IF(Y120<0,$F120,\"\")","v":""},null,{"$f":"+AC112","v":-0.29604409382460467},2.0551289673221089,1.7590848734975042,{"$f":"+AE118+4*AE119+AE120","v":16.722309029345869},{"$f":"+IF(AF120>0,$F120,\"\")","v":1.2921266572198593},{"$f":"+IF(AF120<0,$F120,\"\")","v":""},null,{"$f":"+AJ112","v":-0.30021828456335037},4.4372542591745496,4.1370359746111989,{"$f":"+AL118+4*AL119+AL120","v":38.31721826539188},{"$f":"+IF(AM120>0,$F120,\"\")","v":1.2921266572198593},{"$f":"+IF(AM120<0,$F120,\"\")","v":""},null,{"$f":"+AQ112","v":-0.32572640385813867},null,-0.32572640385813867,{"$f":"+AS118+4*AS119+AS120","v":-2.1254306191191104},{"$f":"+IF(AT120>0,$F120,\"\")","v":""},{"$f":"+IF(AT120<0,$F120,\"\")","v":1.2921266572198593},null,{"$f":"+AX112","v":-0.38497765085007613},null,-0.38497765085007613,{"$f":"+AZ118+4*AZ119+AZ120","v":-2.5120569812622917},{"$f":"+IF(BA120>0,$F120,\"\")","v":""},{"$f":"+IF(BA120<0,$F120,\"\")","v":1.2921266572198593},null,{"$f":"+BE112","v":-0.39575373925404161},null,-0.39575373925404161,{"$f":"+BG118+4*BG119+BG120","v":-2.5823731360990907},{"$f":"+IF(BH120>0,$F120,\"\")","v":""},{"$f":"+IF(BH120<0,$F120,\"\")","v":1.2921266572198593},null,{"$f":"+BL112","v":-0.39770256464649484},null,-0.39770256464649484,{"$f":"+BN118+4*BN119+BN120","v":-2.5950896156702123},{"$f":"+IF(BO120>0,$F120,\"\")","v":""},{"$f":"+IF(BO120<0,$F120,\"\")","v":1.2921266572198593},null,{"$f":"+BS112","v":-0.39799433784620852},null,-0.39799433784620852,{"$f":"+BU118+4*BU119+BU120","v":-2.5969934947698627},{"$f":"+IF(BV120>0,$F120,\"\")","v":""},{"$f":"+IF(BV120<0,$F120,\"\")","v":1.2921266572198593}]
[null,null,null,0.75000000000000011,{"$f":"+E111","v":0.17490926063615897},null,null,{"$f":"+H111","v":-0.14831847777901383},0.10864950597321216,-3.9668971805801673E-2,null,null,null,null,{"$f":"+O111","v":-0.21687856644475931},0.28459752211996558,6.7718955675206277E-2,null,null,null,null,{"$f":"+V111","v":-0.24814701983326551},0.63682787904862126,0.38868085921535578,null,null,null,null,{"$f":"+AC111","v":-0.26149180754207563},1.3835153217510034,1.1220235142089279,null,null,null,null,{"$f":"+AJ111","v":-0.26517881466050408},2.9871649671077285,2.7219861524472244,null,null,null,null,{"$f":"+AQ111","v":-0.28770979690446974},null,-0.28770979690446974,null,null,null,null,{"$f":"+AX111","v":-0.34004563470106219},null,-0.34004563470106219,null,null,null,null,{"$f":"+BE111","v":-0.34956401015176658},null,-0.34956401015176658,null,null,null,null,{"$f":"+BL111","v":-0.35128538168082807},null,-0.35128538168082807,null,null,null,null,{"$f":"+BS111","v":-0.35154310106445025},null,-0.35154310106445025]
[null,null,null,0.80000000000000016,{"$f":"+E110","v":0.14712100042061604},{"$f":"+E120+4*E121+E122","v":1.044778983098267},null,{"$f":"+H110","v":-0.12475475999582621},7.2126010441629806E-2,-5.26287495541964E-2,{"$f":"+J120+4*J121+J122","v":-0.21782889459660693},{"$f":"+IF(K122>0,$F122,\"\")","v":""},{"$f":"+IF(K122<0,$F122,\"\")","v":1.044778983098267},null,{"$f":"+O110","v":-0.18242254040233377},0.18892753969030995,6.504999287976182E-3,{"$f":"+Q120+4*Q121+Q122","v":0.45459748781427256},{"$f":"+IF(R122>0,$F122,\"\")","v":1.044778983098267},{"$f":"+IF(R122<0,$F122,\"\")","v":""},null,{"$f":"+V110","v":-0.20872329844905452},0.42275253663009249,0.21402923818103797,{"$f":"+X120+4*X121+X122","v":2.4337862756570718},{"$f":"+IF(Y122>0,$F122,\"\")","v":1.044778983098267},{"$f":"+IF(Y122<0,$F122,\"\")","v":""},null,{"$f":"+AC110","v":-0.21994796723434476},0.91843436975563042,0.69848640252128569,{"$f":"+AE120+4*AE121+AE122","v":6.9456653328545013},{"$f":"+IF(AF122>0,$F122,\"\")","v":1.044778983098267},{"$f":"+IF(AF122<0,$F122,\"\")","v":""},null,{"$f":"+AJ110","v":-0.22304921055244145},1.9830029568804772,1.7599537463280357,{"$f":"+AL120+4*AL121+AL122","v":16.784934330728134},{"$f":"+IF(AM122>0,$F122,\"\")","v":1.044778983098267},{"$f":"+IF(AM122<0,$F122,\"\")","v":""},null,{"$f":"+AQ110","v":-0.24200064077480501},null,-0.24200064077480501,{"$f":"+AS120+4*AS121+AS122","v":-1.7185662322508226},{"$f":"+IF(AT122>0,$F122,\"\")","v":""},{"$f":"+IF(AT122<0,$F122,\"\")","v":1.044778983098267},null,{"$f":"+AX110","v":-0.28602175656067791},null,-0.28602175656067791,{"$f":"+AZ120+4*AZ121+AZ122","v":-2.0311819462150029},{"$f":"+IF(BA122>0,$F122,\"\")","v":""},{"$f":"+IF(BA122<0,$F122,\"\")","v":1.044778983098267},null,{"$f":"+BE110","v":-0.2940279245222453},null,-0.2940279245222453,{"$f":"+BG120+4*BG121+BG122","v":-2.0880377043833533},{"$f":"+IF(BH122>0,$F122,\"\")","v":""},{"$f":"+IF(BH122<0,$F122,\"\")","v":1.044778983098267},null,{"$f":"+BL110","v":-0.29547581756421459},null,-0.29547581756421459,{"$f":"+BN120+4*BN121+BN122","v":-2.0983199089340219},{"$f":"+IF(BO122>0,$F122,\"\")","v":""},{"$f":"+IF(BO122<0,$F122,\"\")","v":1.044778983098267},null,{"$f":"+BS110","v":-0.29569259244170465},null,-0.29569259244170465,{"$f":"+BU120+4*BU121+BU122","v":-2.0998593345457142},{"$f":"+IF(BV122>0,$F122,\"\")","v":""},{"$f":"+IF(BV122<0,$F122,\"\")","v":1.044778983098267}]
[null,null,null,0.8500000000000002,{"$f":"+E109","v":0.11503334029218562},null,null,{"$f":"+H109","v":-9.7545263549328229E-2},4.6369565320828712E-2,-5.1175698228499517E-2,null,null,null,null,{"$f":"+O109","v":-0.14263547764813908},0.12146086881740091,-2.117460883073817E-2,null,null,null,null,{"$f":"+V109","v":-0.16319993847753206},0.27178615927577632,0.10858622079824426,null,null,null,null,{"$f":"+AC109","v":-0.17197646351715129},0.59045831372779201,0.41848185021064072,null,null,null,null,{"$f":"+AJ109","v":-0.17440131365356656},1.2748658157777899,1.1004645021242234,null,null,null,null,{"$f":"+AQ109","v":-0.18921936352788804},null,-0.18921936352788804,null,null,null,null,{"$f":"+AX109","v":-0.22363930342607008},null,-0.22363930342607008,null,null,null,null,{"$f":"+BE109","v":-0.22989929513987248},null,-0.22989929513987248,null,null,null,null,{"$f":"+BL109","v":-0.23103139710034967},null,-0.23103139710034967,null,null,null,null,{"$f":"+BS109","v":-0.23120089253728809},null,-0.23120089253728809]
[null,null,null,0.90000000000000024,{"$f":"+E108","v":7.9204449703107471E-2},{"$f":"+E122+4*E123+E124","v":0.686458811292466},null,{"$f":"+H108","v":-6.7163301534537548E-2},2.7535220067722629E-2,-3.9628081466814916E-2,{"$f":"+J122+4*J123+J124","v":-0.29695962393500935},{"$f":"+IF(K124>0,$F124,\"\")","v":""},{"$f":"+IF(K124<0,$F124,\"\")","v":0.686458811292466},null,{"$f":"+O108","v":-9.8209479847888845E-2},7.2126010441629709E-2,-2.6083469406259135E-2,{"$f":"+Q122+4*Q123+Q124","v":-0.10427690544123563},{"$f":"+IF(R124>0,$F124,\"\")","v":""},{"$f":"+IF(R124<0,$F124,\"\")","v":0.686458811292466},null,{"$f":"+V108","v":-0.11236882529761691},0.16139231962258702,4.9023494324970107E-2,{"$f":"+X122+4*X123+X124","v":0.69739761569898517},{"$f":"+IF(Y124>0,$F124,\"\")","v":0.686458811292466},{"$f":"+IF(Y124<0,$F124,\"\")","v":""},null,{"$f":"+AC108","v":-0.11841176758115768},0.3506265261884623,0.23221475860730462,{"$f":"+AE122+4*AE123+AE124","v":2.6046285619711531},{"$f":"+IF(AF124>0,$F124,\"\")","v":0.686458811292466},{"$f":"+IF(AF124<0,$F124,\"\")","v":""},null,{"$f":"+AJ108","v":-0.12008136111099388},0.75704205013304204,0.63696068902204817,{"$f":"+AL122+4*AL123+AL124","v":6.7987724438469783},{"$f":"+IF(AM124>0,$F124,\"\")","v":0.686458811292466},{"$f":"+IF(AM124<0,$F124,\"\")","v":""},null,{"$f":"+AQ108","v":-0.13028410305509233},null,-0.13028410305509233,{"$f":"+AS122+4*AS123+AS124","v":-1.1291621979414495},{"$f":"+IF(AT124>0,$F124,\"\")","v":""},{"$f":"+IF(AT124<0,$F124,\"\")","v":0.686458811292466},null,{"$f":"+AX108","v":-0.15398342702086557},null,-0.15398342702086557,{"$f":"+AZ122+4*AZ123+AZ124","v":-1.3345623972858238},{"$f":"+IF(BA124>0,$F124,\"\")","v":""},{"$f":"+IF(BA124<0,$F124,\"\")","v":0.686458811292466},null,{"$f":"+BE108","v":-0.15829364871466622},null,-0.15829364871466622,{"$f":"+BG122+4*BG123+BG124","v":-1.3719187537964015},{"$f":"+IF(BH124>0,$F124,\"\")","v":""},{"$f":"+IF(BH124<0,$F124,\"\")","v":0.686458811292466},null,{"$f":"+BL108","v":-0.15907314023042721},null,-0.15907314023042721,{"$f":"+BN122+4*BN123+BN124","v":-1.3786745461960406},{"$f":"+IF(BO124>0,$F124,\"\")","v":""},{"$f":"+IF(BO124<0,$F124,\"\")","v":0.686458811292466},null,{"$f":"+BS108","v":-0.15918984372504708},null,-0.15918984372504708,{"$f":"+BU122+4*BU123+BU124","v":-1.3796860063159042},{"$f":"+IF(BV124>0,$F124,\"\")","v":""},{"$f":"+IF(BV124<0,$F124,\"\")","v":0.686458811292466}]
[null,null,null,0.95000000000000029,{"$f":"+E107","v":4.0456810903684283E-2},null,null,{"$f":"+H107","v":-3.4306317385389376E-2},1.2811362844188809E-2,-2.1494954541200567E-2,null,null,null,null,{"$f":"+O107","v":-5.0164383062424669E-2},3.3558202476639709E-2,-1.660618058578496E-2,null,null,null,null,{"$f":"+V107","v":-5.7396829768725267E-2},7.5091303496571865E-2,1.7694473727846598E-2,null,null,null,null,{"$f":"+AC107","v":-6.048350197190952E-2},0.16313665330256366,0.10265315133065414,null,null,null,null,{"$f":"+AJ107","v":-6.1336313019467972E-2},0.35223035692865395,0.290894043909186,null,null,null,null,{"$f":"+AQ107","v":-6.6547767717767395E-2},null,-6.6547767717767395E-2,null,null,null,null,{"$f":"+AX107","v":-7.8653136441651395E-2},null,-7.8653136441651395E-2,null,null,null,null,{"$f":"+BE107","v":-8.0854752950227551E-2},null,-8.0854752950227551E-2,null,null,null,null,{"$f":"+BL107","v":-8.125290912670978E-2},null,-8.125290912670978E-2,null,null,null,null,{"$f":"+BS107","v":-8.1312520060581969E-2},null,-8.1312520060581969E-2]
[null,null,null,1.0000000000000002,{"$f":"+E106","v":0},{"$f":"+E124+4*E125+E126","v":0.2410316933178446},null,{"$f":"+H106","v":0},-5.7831797697263339E-17,-5.7831797697263339E-17,{"$f":"+J124+4*J125+J126","v":-0.12560789963161723},{"$f":"+IF(K126>0,$F126,\"\")","v":""},{"$f":"+IF(K126<0,$F126,\"\")","v":0.2410316933178446},null,{"$f":"+O106","v":0},-1.5148514645287238E-16,-1.5148514645287238E-16,{"$f":"+Q124+4*Q125+Q126","v":-9.250819174939913E-2},{"$f":"+IF(R126>0,$F126,\"\")","v":""},{"$f":"+IF(R126<0,$F126,\"\")","v":0.2410316933178446},null,{"$f":"+V106","v":0},-3.3896979778442267E-16,-3.3896979778442267E-16,{"$f":"+X124+4*X125+X126","v":0.11980138923635616},{"$f":"+IF(Y126>0,$F126,\"\")","v":0.2410316933178446},{"$f":"+IF(Y126<0,$F126,\"\")","v":""},null,{"$f":"+AC106","v":0},-7.3641548097140181E-16,-7.3641548097140181E-16,{"$f":"+AE124+4*AE125+AE126","v":0.64282736392992035},{"$f":"+IF(AF126>0,$F126,\"\")","v":0.2410316933178446},{"$f":"+IF(AF126<0,$F126,\"\")","v":""},null,{"$f":"+AJ106","v":0},-1.5900037328169646E-15,-1.5900037328169646E-15,{"$f":"+AL124+4*AL125+AL126","v":1.8005368646587907},{"$f":"+IF(AM126>0,$F126,\"\")","v":0.2410316933178446},{"$f":"+IF(AM126<0,$F126,\"\")","v":""},null,{"$f":"+AQ106","v":0},null,0,{"$f":"+AS124+4*AS125+AS126","v":-0.39647517392616194},{"$f":"+IF(AT126>0,$F126,\"\")","v":""},{"$f":"+IF(AT126<0,$F126,\"\")","v":0.2410316933178446},null,{"$f":"+AX106","v":0},null,0,{"$f":"+AZ124+4*AZ125+AZ126","v":-0.46859597278747112},{"$f":"+IF(BA126>0,$F126,\"\")","v":""},{"$f":"+IF(BA126<0,$F126,\"\")","v":0.2410316933178446},null,{"$f":"+BE106","v":0},null,0,{"$f":"+BG124+4*BG125+BG126","v":-0.48171266051557643},{"$f":"+IF(BH126>0,$F126,\"\")","v":""},{"$f":"+IF(BH126<0,$F126,\"\")","v":0.2410316933178446},null,{"$f":"+BL106","v":0},null,0,{"$f":"+BN124+4*BN125+BN126","v":-0.48408477673726635},{"$f":"+IF(BO126>0,$F126,\"\")","v":""},{"$f":"+IF(BO126<0,$F126,\"\")","v":0.2410316933178446},null,{"$f":"+BS106","v":0},null,0,{"$f":"+BU124+4*BU125+BU126","v":-0.48443992396737495},{"$f":"+IF(BV126>0,$F126,\"\")","v":""},{"$f":"+IF(BV126<0,$F126,\"\")","v":0.2410316933178446}]
[null,null,null,null,null,null,null,null,null,null,{"$f":"+SUMIF(K106:K126,\">0\")","v":166.96146045328797},{"$f":"+SUM(L106:L126)","v":7.392195503753638},{"$f":"+SUM(M106:M126)","v":1.9722694877085776},null,null,null,null,{"$f":"+SUMIF(R106:R126,\">0\")","v":243.39961779649411},{"$f":"+SUM(S106:S126)","v":8.4369744868519057},{"$f":"+SUM(T106:T126)","v":0.92749050461031057},null,null,null,null,{"$f":"+SUMIF(Y106:Y126,\">0\")","v":278.26658548442612},{"$f":"+SUM(Z106:Z126)","v":9.3644649914622171},{"$f":"+SUM(AA106:AA126)","v":0},null,null,null,null,{"$f":"+SUMIF(AF106:AF126,\">0\")","v":293.23113558154307},{"$f":"+SUM(AG106:AG126)","v":9.3644649914622171},{"$f":"+SUM(AH106:AH126)","v":0},null,null,null,null,{"$f":"+SUMIF(AM106:AM126,\">0\")","v":297.36566390346547},{"$f":"+SUM(AN106:AN126)","v":9.3644649914622171},{"$f":"+SUM(AO106:AO126)","v":0},null,null,null,null,{"$f":"+SUMIF(AT106:AT126,\">0\")","v":0},{"$f":"+SUM(AU106:AU126)","v":0},{"$f":"+SUM(AV106:AV126)","v":9.3644649914622171},null,null,null,null,{"$f":"+SUMIF(BA106:BA126,\">0\")","v":0},{"$f":"+SUM(BB106:BB126)","v":0},{"$f":"+SUM(BC106:BC126)","v":9.3644649914622171},null,null,null,null,{"$f":"+SUMIF(BH106:BH126,\">0\")","v":0},{"$f":"+SUM(BI106:BI126)","v":0},{"$f":"+SUM(BJ106:BJ126)","v":9.3644649914622171},null,null,null,null,{"$f":"+SUMIF(BO106:BO126,\">0\")","v":0},{"$f":"+SUM(BP106:BP126)","v":0},{"$f":"+SUM(BQ106:BQ126)","v":9.3644649914622171},null,null,null,null,{"$f":"+SUMIF(BV106:BV126,\">0\")","v":0},{"$f":"+SUM(BW106:BW126)","v":0},{"$f":"+SUM(BX106:BX126)","v":9.3644649914622171}]
[null,null,null,null,null,null,null,null,null,null,{"$f":"+SUMIF(K106:K126,\"<0\")","v":-0.64039641816323356},null,null,null,null,null,null,{"$f":"+SUMIF(R106:R126,\"<0\")","v":-0.19678509719063475},null,null,null,null,null,null,{"$f":"+SUMIF(Y106:Y126,\"<0\")","v":0},null,null,null,null,null,null,{"$f":"+SUMIF(AF106:AF126,\"<0\")","v":0},null,null,null,null,null,null,{"$f":"+SUMIF(AM106:AM126,\"<0\")","v":0},null,null,null,null,null,null,{"$f":"+SUMIF(AT106:AT126,\"<0\")","v":-15.403691668545246},null,null,null,null,null,null,{"$f":"+SUMIF(BA106:BA126,\"<0\")","v":-18.205699515714191},null,null,null,null,null,null,{"$f":"+SUMIF(BH106:BH126,\"<0\")","v":-18.715303714825918},null,null,null,null,null,null,{"$f":"+SUMIF(BO106:BO126,\"<0\")","v":-18.807464206286276},null,null,null,null,null,null,{"$f":"+SUMIF(BV106:BV126,\"<0\")","v":-18.821262241546236}]
[]
[null,null,null,0,{"$f":"+E73","v":0},null,null,{"$f":"+H$87*$E130","v":0},null,{"$f":"+H130+I130","v":0},null,null,null,null,{"$f":"+O$87*$E130","v":0},null,{"$f":"+O130+P130","v":0},null,null,null,null,{"$f":"+V$87*$E130","v":0},null,{"$f":"+V130+W130","v":0},null,null,null,null,{"$f":"+AC$87*$E130","v":0},null,{"$f":"+AC130+AD130","v":0},null,null,null,null,{"$f":"+AJ$87*$E130","v":0},null,{"$f":"+AJ130+AK130","v":0},null,null,null,null,{"$f":"+AQ$87*$E130","v":0},{"$f":"+IF(AQ$86<$D130,SINH(AQ$88-AQ$88*$D130)/(AQ$89*SINH(AQ$88))*SINH(AQ$88*AQ$86),SINH(AQ$88*$D130)/(AQ$89*SINH(AQ$88))*SINH(AQ$88-AQ$88*AQ$86))","v":0},{"$f":"+AQ130+AR130","v":0},null,null,null,null,{"$f":"+AX$87*$E130","v":0},{"$f":"+IF(AX$86<$D130,SINH(AX$88-AX$88*$D130)/(AX$89*SINH(AX$88))*SINH(AX$88*AX$86),SINH(AX$88*$D130)/(AX$89*SINH(AX$88))*SINH(AX$88-AX$88*AX$86))","v":0},{"$f":"+AX130+AY130","v":0},null,null,null,null,{"$f":"+BE$87*$E130","v":0},{"$f":"+IF(BE$86<$D130,SINH(BE$88-BE$88*$D130)/(BE$89*SINH(BE$88))*SINH(BE$88*BE$86),SINH(BE$88*$D130)/(BE$89*SINH(BE$88))*SINH(BE$88-BE$88*BE$86))","v":0},{"$f":"+BE130+BF130","v":0},null,null,null,null,{"$f":"+BL$87*$E130","v":0},{"$f":"+IF(BL$86<$D130,SINH(BL$88-BL$88*$D130)/(BL$89*SINH(BL$88))*SINH(BL$88*BL$86),SINH(BL$88*$D130)/(BL$89*SINH(BL$88))*SINH(BL$88-BL$88*BL$86))","v":0},{"$f":"+BL130+BM130","v":0},null,null,null,null,{"$f":"+BS$87*$E130","v":0},{"$f":"+IF(BS$86<$D130,SINH(BS$88-BS$88*$D130)/(BS$89*SINH(BS$88))*SINH(BS$88*BS$86),SINH(BS$88*$D130)/(BS$89*SINH(BS$88))*SINH(BS$88-BS$88*BS$86))","v":0},{"$f":"+BS130+BT130","v":0}]
[null,null,null,{"$f":"+D130+0.05","v":0.05},{"$f":"+E74","v":0.30005566155649238},null,null,{"$f":"+H$87*$E131","v":-0.25443935220565245},null,-0.25443935220565245,null,null,null,null,{"$f":"+O$87*$E131","v":-0.372053723715489},null,-0.372053723715489,null,null,null,null,{"$f":"+V$87*$E131","v":-0.42569454543763502},null,-0.42569454543763502,null,null,null,null,{"$f":"+AC$87*$E131","v":-0.44858743909995141},null,-0.44858743909995141,null,null,null,null,{"$f":"+AJ$87*$E131","v":-0.45491247504178667},null,-0.45491247504178667,null,null,null,null,-0.49356422371502473,8.1893563486670544,7.69579212495203,null,null,null,null,-0.58334600185561225,1.4896939952366361,0.9063479933810239,null,null,null,null,-0.59967471099552017,0.27098444674655991,-0.32869026424896025,null,null,null,null,-0.60262771228921086,4.9293727787868814E-2,-0.55333398450134208,null,null,null,null,-0.60306982816041987,8.966830156771079E-3,-0.59410299800364874]
[null,null,null,0.1,0.58126597667622737,{"$f":"+E130+4*E131+E132","v":1.7814886229021969},null,-0.4928983435856289,null,-0.4928983435856289,{"$f":"+J130+4*J131+J132","v":-1.5106557524082387},{"$f":"+IF(K132>0,$F132,\"\")","v":""},{"$f":"+IF(K132<0,$F132,\"\")","v":1.7814886229021969},null,-0.72074017857115036,null,-0.72074017857115036,{"$f":"+Q130+4*Q131+Q132","v":-2.2089550734331063},{"$f":"+IF(R132>0,$F132,\"\")","v":""},{"$f":"+IF(R132<0,$F132,\"\")","v":1.7814886229021969},null,-0.82465284752830081,null,-0.82465284752830081,{"$f":"+X130+4*X131+X132","v":-2.5274310292788407},{"$f":"+IF(Y132>0,$F132,\"\")","v":""},{"$f":"+IF(Y132<0,$F132,\"\")","v":1.7814886229021969},null,-0.86900081991630407,null,-0.86900081991630407,{"$f":"+AE130+4*AE131+AE132","v":-2.6633505763161098},{"$f":"+IF(AF132>0,$F132,\"\")","v":""},{"$f":"+IF(AF132<0,$F132,\"\")","v":1.7814886229021969},null,-0.88125364052689248,null,-0.88125364052689248,{"$f":"+AL130+4*AL131+AL132","v":-2.7009035406940392},{"$f":"+IF(AM132>0,$F132,\"\")","v":""},{"$f":"+IF(AM132<0,$F132,\"\")","v":1.7814886229021969},null,-0.95612956963367879,22.693898065646486,21.737768496012809,{"$f":"+AS130+4*AS131+AS132","v":52.520936995820932},{"$f":"+IF(AT132>0,$F132,\"\")","v":1.7814886229021969},{"$f":"+IF(AT132<0,$F132,\"\")","v":""},null,-1.1300542764294264,4.1281588243999776,2.9981045479705513,{"$f":"+AZ130+4*AZ131+AZ132","v":6.6234965214946468},{"$f":"+IF(BA132>0,$F132,\"\")","v":1.7814886229021969},{"$f":"+IF(BA132<0,$F132,\"\")","v":""},null,-1.1616861510517407,0.7509373325588643,-0.41074881849287637,{"$f":"+BG130+4*BG131+BG132","v":-1.7255098754887173},{"$f":"+IF(BH132>0,$F132,\"\")","v":""},{"$f":"+IF(BH132<0,$F132,\"\")","v":1.7814886229021969},null,-1.1674066869423128,0.13660009237181392,-1.0308065945704987,{"$f":"+BN130+4*BN131+BN132","v":-3.244142532575867},{"$f":"+IF(BO132>0,$F132,\"\")","v":""},{"$f":"+IF(BO132<0,$F132,\"\")","v":1.7814886229021969},null,-1.1682631510808308,2.4848391117190709E-2,-1.1434147599636402,{"$f":"+BU130+4*BU131+BU132","v":-3.5198267519782354},{"$f":"+IF(BV132>0,$F132,\"\")","v":""},{"$f":"+IF(BV132<0,$F132,\"\")","v":1.7814886229021969}]
[null,null,null,0.15000000000000002,0.83468246526164092,null,null,-0.70778889708969617,null,-0.70778889708969617,null,null,null,null,-1.0349637054328675,null,-1.0349637054328675,null,null,null,null,-1.1841795311948202,null,-1.1841795311948202,null,null,null,null,-1.2478620386999728,null,-1.2478620386999728,null,null,null,null,-1.2654567628435318,null,-1.2654567628435318,null,null,null,null,-1.372976603335452,9.6790503439037039,8.3060737405682517,null,null,null,null,-1.6227278512380026,9.9500347906502604,8.3273069394122583,null,null,null,null,-1.6681503809404543,1.8099721697710669,0.14182178883061258,null,null,null,null,-1.6763649181598246,0.32924500469119961,-1.3471199134686249,null,null,null,null,-1.6775947778578477,5.9891677288765356E-2,-1.6177031005690823]
[null,null,null,0.2,1.0564885687850705,{"$f":"+E132+4*E133+E134","v":4.9764844065078613},null,-0.89587467091914907,null,-0.89587467091914907,{"$f":"+J132+4*J133+J134","v":-4.2199286028635621},{"$f":"+IF(K134>0,$F134,\"\")","v":""},{"$f":"+IF(K134<0,$F134,\"\")","v":4.9764844065078613},null,-1.3099919662916557,null,-1.3099919662916557,{"$f":"+Q132+4*Q133+Q134","v":-6.1705869665942759},{"$f":"+IF(R134>0,$F134,\"\")","v":""},{"$f":"+IF(R134<0,$F134,\"\")","v":4.9764844065078613},null,-1.4988599738996893,null,-1.4988599738996893,{"$f":"+X132+4*X133+X134","v":-7.0602309462072714},{"$f":"+IF(Y134>0,$F134,\"\")","v":""},{"$f":"+IF(Y134<0,$F134,\"\")","v":4.9764844065078613},null,-1.5794652867112786,null,-1.5794652867112786,{"$f":"+AE132+4*AE133+AE134","v":-7.4399142614274743},{"$f":"+IF(AF134>0,$F134,\"\")","v":""},{"$f":"+IF(AF134<0,$F134,\"\")","v":4.9764844065078613},null,-1.6017355819459698,null,-1.6017355819459698,{"$f":"+AL132+4*AL133+AL134","v":-7.5448162738469904},{"$f":"+IF(AM134>0,$F134,\"\")","v":""},{"$f":"+IF(AM134<0,$F134,\"\")","v":4.9764844065078613},null,-1.7378274337877369,4.1281588243999776,2.390331390612241,{"$f":"+AS132+4*AS133+AS134","v":57.352394848898051},{"$f":"+IF(AT134>0,$F134,\"\")","v":4.9764844065078613},{"$f":"+IF(AT134<0,$F134,\"\")","v":""},null,-2.053946855759949,23.44483539820537,21.39088854244542,{"$f":"+AZ132+4*AZ133+AZ134","v":57.698220848065006},{"$f":"+IF(BA134>0,$F134,\"\")","v":4.9764844065078613},{"$f":"+IF(BA134<0,$F134,\"\")","v":""},null,-2.1114398370949505,4.2647589167717967,2.1533190796768462,{"$f":"+BG132+4*BG133+BG134","v":2.3098574165064201},{"$f":"+IF(BH134>0,$F134,\"\")","v":4.9764844065078613},{"$f":"+IF(BH134<0,$F134,\"\")","v":""},null,-2.121837281669761,0.77578572367605436,-1.3460515579937067,{"$f":"+BN132+4*BN133+BN134","v":-7.7653378064387049},{"$f":"+IF(BO134>0,$F134,\"\")","v":""},{"$f":"+IF(BO134<0,$F134,\"\")","v":4.9764844065078613},null,-2.1233939607258661,0.14112016141661893,-1.9822737993092472,{"$f":"+BU132+4*BU133+BU134","v":-9.5965009615492161},{"$f":"+IF(BV134>0,$F134,\"\")","v":""},{"$f":"+IF(BV134<0,$F134,\"\")","v":4.9764844065078613}]
[null,null,null,0.25,1.2450565283210433,null,null,-1.0557753680837698,null,-1.0557753680837698,null,null,null,null,-1.5438066230618683,null,-1.5438066230618683,null,null,null,null,-1.7663848437933878,null,-1.7663848437933878,null,null,null,null,-1.8613770414362247,null,-1.8613770414362247,null,null,null,null,-1.887622262907457,null,-1.887622262907457,null,null,null,null,-2.0480045458712426,1.7606784419831951,-0.28732610388804747,null,null,null,null,-2.4205467216074079,9.9993285184381229,7.5787817968307145,null,null,null,null,-2.4883013702223953,10.00829534859491,7.5199939783725149,null,null,null,null,-2.5005546085708334,1.8205701192719617,-0.67998448929887179,null,null,null,null,-2.5023891323684109,0.33117282422332173,-2.1712163081450893]
[null,null,null,0.3,1.3996921455614726,{"$f":"+E134+4*E135+E136","v":7.4364068276307158},null,-1.1869023265769971,null,-1.1869023265769971,{"$f":"+J134+4*J135+J136","v":-6.3058784698312254},{"$f":"+IF(K136>0,$F136,\"\")","v":""},{"$f":"+IF(K136<0,$F136,\"\")","v":7.4364068276307158},null,-1.7355469052311914,null,-1.7355469052311914,{"$f":"+Q134+4*Q135+Q136","v":-9.2207653637703206},{"$f":"+IF(R136>0,$F136,\"\")","v":""},{"$f":"+IF(R136<0,$F136,\"\")","v":7.4364068276307158},null,-1.9857692688302711,null,-1.9857692688302711,{"$f":"+X134+4*X135+X136","v":-10.550168617903513},{"$f":"+IF(Y136>0,$F136,\"\")","v":""},{"$f":"+IF(Y136<0,$F136,\"\")","v":7.4364068276307158},null,-2.0925594666292398,null,-2.0925594666292398,{"$f":"+AE134+4*AE135+AE136","v":-11.117532919085416},{"$f":"+IF(AF136>0,$F136,\"\")","v":""},{"$f":"+IF(AF136<0,$F136,\"\")","v":7.4364068276307158},null,-2.1220643360999798,null,-2.1220643360999798,{"$f":"+AL134+4*AL135+AL136","v":-11.274288969675778},{"$f":"+IF(AM136>0,$F136,\"\")","v":""},{"$f":"+IF(AM136<0,$F136,\"\")","v":7.4364068276307158},null,-2.302366046620985,0.7509373325588643,-1.5514287140621206,{"$f":"+AS134+4*AS135+AS136","v":-0.31040173900206947},{"$f":"+IF(AT136>0,$F136,\"\")","v":""},{"$f":"+IF(AT136<0,$F136,\"\")","v":7.4364068276307158},null,-2.7211778398264381,4.2647589167717967,1.5435810769453586,{"$f":"+AZ134+4*AZ135+AZ136","v":53.24959680671364},{"$f":"+IF(BA136>0,$F136,\"\")","v":7.4364068276307158},{"$f":"+IF(BA136<0,$F136,\"\")","v":""},null,-2.7973475938371748,23.469683789322573,20.6723361954854,{"$f":"+BG134+4*BG135+BG136","v":52.905631188652308},{"$f":"+IF(BH136>0,$F136,\"\")","v":7.4364068276307158},{"$f":"+IF(BH136<0,$F136,\"\")","v":""},null,-2.8111226804166809,4.2692789858165945,1.4581563053999136,{"$f":"+BN134+4*BN135+BN136","v":-2.60783320978928},{"$f":"+IF(BO136>0,$F136,\"\")","v":""},{"$f":"+IF(BO136<0,$F136,\"\")","v":7.4364068276307158},null,-2.8131850514752683,0.77660792306948367,-2.0365771284057845,{"$f":"+BU134+4*BU135+BU136","v":-12.703716160295389},{"$f":"+IF(BV136>0,$F136,\"\")","v":""},{"$f":"+IF(BV136<0,$F136,\"\")","v":7.4364068276307158}]
[null,null,null,0.35,1.5200994549081532,null,null,-1.2890045753133605,null,-1.2890045753133605,null,null,null,null,-1.884845830545957,null,-1.884845830545957,null,null,null,null,-2.1565933571138163,null,-2.1565933571138163,null,null,null,null,-2.2725700895535264,null,-2.2725700895535264,null,null,null,null,-2.3046130899674617,null,-2.3046130899674617,null,null,null,null,-2.5004250995947963,0.32027817453442803,-2.1801469250603684,null,null,null,null,-2.9552648160135342,1.8189389999278336,-1.1363258160857006,null,null,null,null,-3.0379870074035291,10.009926467939007,6.9719394605354772,null,null,null,null,-3.052947083922656,10.010223168127022,6.9572760842043655,null,null,null,null,-3.0551868686724082,1.8209207338962878,-1.2342661347761203]
[null,null,null,0.39999999999999997,1.6061524909309408,{"$f":"+E136+4*E137+E138","v":9.0862424561250261},null,-1.3619752989030749,null,-1.3619752989030749,{"$f":"+J136+4*J137+J138","v":-7.7048959267335144},{"$f":"+IF(K138>0,$F138,\"\")","v":""},{"$f":"+IF(K138<0,$F138,\"\")","v":9.0862424561250261},null,-1.9915472082944099,null,-1.9915472082944099,{"$f":"+Q136+4*Q137+Q138","v":-11.266477435709429},{"$f":"+IF(R138>0,$F138,\"\")","v":""},{"$f":"+IF(R138<0,$F138,\"\")","v":9.0862424561250261},null,-2.278678399146433,null,-2.278678399146433,{"$f":"+X136+4*X137+X138","v":-12.890821096431969},{"$f":"+IF(Y138>0,$F138,\"\")","v":""},{"$f":"+IF(Y138<0,$F138,\"\")","v":9.0862424561250261},null,-2.4012205901173038,null,-2.4012205901173038,{"$f":"+AE136+4*AE137+AE138","v":-13.58406041496065},{"$f":"+IF(AF138>0,$F138,\"\")","v":""},{"$f":"+IF(AF138<0,$F138,\"\")","v":9.0862424561250261},null,-2.4350775491245371,null,-2.4350775491245371,{"$f":"+AL136+4*AL137+AL138","v":-13.775594245094364},{"$f":"+IF(AM138>0,$F138,\"\")","v":""},{"$f":"+IF(AM138<0,$F138,\"\")","v":9.0862424561250261},null,-2.6419745031374178,0.13660009237181392,-2.505374410765604,{"$f":"+AS136+4*AS137+AS138","v":-12.777390825069199},{"$f":"+IF(AT138>0,$F138,\"\")","v":""},{"$f":"+IF(AT138<0,$F138,\"\")","v":9.0862424561250261},null,-3.1225627575055634,0.77578572367605436,-2.3467770338295093,{"$f":"+AZ136+4*AZ137+AZ138","v":-5.3484992212269535},{"$f":"+IF(BA138>0,$F138,\"\")","v":""},{"$f":"+IF(BA138<0,$F138,\"\")","v":9.0862424561250261},null,-3.2099678633539397,4.2692789858165954,1.0593111224626557,{"$f":"+BG136+4*BG137+BG138","v":49.619405160089961},{"$f":"+IF(BH138>0,$F138,\"\")","v":9.0862424561250261},{"$f":"+IF(BH138<0,$F138,\"\")","v":""},null,-3.2257748318309889,23.470505988715981,20.244731156884992,{"$f":"+BN136+4*BN137+BN138","v":49.531991799102371},{"$f":"+IF(BO138>0,$F138,\"\")","v":9.0862424561250261},{"$f":"+IF(BO138<0,$F138,\"\")","v":""},null,-3.2281414110987785,4.2694283905646904,1.0412869794659119,{"$f":"+BU136+4*BU137+BU138","v":-5.9323546880443541},{"$f":"+IF(BV138>0,$F138,\"\")","v":""},{"$f":"+IF(BV138<0,$F138,\"\")","v":9.0862424561250261}]
[null,null,null,0.44999999999999996,1.6577981506920538,null,null,-1.4057694674439578,null,-1.4057694674439578,null,null,null,null,-2.0555851935408493,null,-2.0555851935408493,null,null,null,null,-2.3519490568030443,null,-2.3519490568030443,null,null,null,null,-2.4784315786808482,null,-2.4784315786808482,null,null,null,null,-2.513377204545872,null,-2.513377204545872,null,null,null,null,-2.7269269077546685,5.8260557944639885E-2,-2.6686663498100285,null,null,null,null,-3.222968425502494,0.33087612403532501,-2.8920923014671689,null,null,null,null,-3.3131840330831266,1.8208668194599571,-1.4923172136231695,null,null,null,null,-3.3294992729232189,10.010277082563354,6.6807778096401353,null,null,null,null,-3.3319419492915965,10.010286575799373,6.6783446265077764]
[null,null,null,0.49999999999999994,1.6750152436539913,{"$f":"+E138+4*E139+E140","v":9.9123603373531477},null,-1.4203691119145059,null,-1.4203691119145059,{"$f":"+J138+4*J139+J140","v":-8.4054222805934113},{"$f":"+IF(K140>0,$F140,\"\")","v":""},{"$f":"+IF(K140<0,$F140,\"\")","v":9.9123603373531477},null,-2.0769335110990519,null,-2.0769335110990519,{"$f":"+Q138+4*Q139+Q140","v":-12.290821493556859},{"$f":"+IF(R140>0,$F140,\"\")","v":""},{"$f":"+IF(R140<0,$F140,\"\")","v":9.9123603373531477},null,-2.3763752666741405,null,-2.3763752666741405,{"$f":"+X138+4*X139+X140","v":-14.06284989303275},{"$f":"+IF(Y140>0,$F140,\"\")","v":""},{"$f":"+IF(Y140<0,$F140,\"\")","v":9.9123603373531477},null,-2.5041713750922128,null,-2.5041713750922128,{"$f":"+AE138+4*AE139+AE140","v":-14.819118279932908},{"$f":"+IF(AF140>0,$F140,\"\")","v":""},{"$f":"+IF(AF140<0,$F140,\"\")","v":9.9123603373531477},null,-2.5394799293926913,null,-2.5394799293926913,{"$f":"+AL138+4*AL139+AL140","v":-15.028066296700716},{"$f":"+IF(AM140>0,$F140,\"\")","v":""},{"$f":"+IF(AM140<0,$F140,\"\")","v":9.9123603373531477},null,-2.7552474569431338,2.4848391117190751E-2,-2.7303990658259432,{"$f":"+AS138+4*AS139+AS140","v":-15.910438875831662},{"$f":"+IF(AT140>0,$F140,\"\")","v":""},{"$f":"+IF(AT140<0,$F140,\"\")","v":9.9123603373531477},null,-3.2564406229302092,0.14112016141661918,-3.1153204615135901,{"$f":"+AZ138+4*AZ139+AZ140","v":-17.030466701211775},{"$f":"+IF(BA140>0,$F140,\"\")","v":""},{"$f":"+IF(BA140<0,$F140,\"\")","v":9.9123603373531477},null,-3.347593166350519,0.77660792306948512,-2.5709852432810338,{"$f":"+BG138+4*BG139+BG140","v":-7.4809429753110566},{"$f":"+IF(BH140>0,$F140,\"\")","v":""},{"$f":"+IF(BH140<0,$F140,\"\")","v":9.9123603373531477},null,-3.3640778484118523,4.269428390564701,0.90535054215284871,{"$f":"+BN138+4*BN139+BN140","v":47.873192937598375},{"$f":"+IF(BO140>0,$F140,\"\")","v":9.9123603373531477},{"$f":"+IF(BO140<0,$F140,\"\")","v":""},null,-3.3665458932402519,23.47053229585433,20.103986402614076,{"$f":"+BU138+4*BU139+BU140","v":47.858651888111098},{"$f":"+IF(BV140>0,$F140,\"\")","v":9.9123603373531477},{"$f":"+IF(BV140<0,$F140,\"\")","v":""}]
[null,null,null,0.54999999999999993,{"$f":"+E139","v":1.6577981506920538},null,null,{"$f":"+H139","v":-1.4057694674439578},null,-1.4057694674439578,null,null,null,null,{"$f":"+O139","v":-2.0555851935408493},null,-2.0555851935408493,null,null,null,null,{"$f":"+V139","v":-2.3519490568030443},null,-2.3519490568030443,null,null,null,null,{"$f":"+AC139","v":-2.4784315786808482},null,-2.4784315786808482,null,null,null,null,{"$f":"+AJ139","v":-2.513377204545872},null,-2.513377204545872,null,null,null,null,{"$f":"+AQ139","v":-2.7269269077546685},1.0597949500896583E-2,-2.7163289582537717,null,null,null,null,{"$f":"+AX139","v":-3.222968425502494},6.0188377476762304E-2,-3.1627800480257315,null,null,null,null,{"$f":"+BE139","v":-3.3131840330831266},0.33122673865965291,-2.9819572944234736,null,null,null,null,{"$f":"+BL139","v":-3.3294992729232189},1.8209302271323202,-1.5085690457908987,null,null,null,null,{"$f":"+BS139","v":-3.3319419492915965},10.010286575799391,6.6783446265077941]
[null,null,null,0.6,{"$f":"+E138","v":1.6061524909309408},{"$f":"+E140+4*E141+E142","v":9.9123603373531477},null,{"$f":"+H138","v":-1.3619752989030749},null,-1.3619752989030749,{"$f":"+J140+4*J141+J142","v":-8.4054222805934131},{"$f":"+IF(K142>0,$F142,\"\")","v":""},{"$f":"+IF(K142<0,$F142,\"\")","v":9.9123603373531477},null,{"$f":"+O138","v":-1.9915472082944099},null,-1.9915472082944099,{"$f":"+Q140+4*Q141+Q142","v":-12.290821493556859},{"$f":"+IF(R142>0,$F142,\"\")","v":""},{"$f":"+IF(R142<0,$F142,\"\")","v":9.9123603373531477},null,{"$f":"+V138","v":-2.278678399146433},null,-2.278678399146433,{"$f":"+X140+4*X141+X142","v":-14.06284989303275},{"$f":"+IF(Y142>0,$F142,\"\")","v":""},{"$f":"+IF(Y142<0,$F142,\"\")","v":9.9123603373531477},null,{"$f":"+AC138","v":-2.4012205901173038},null,-2.4012205901173038,{"$f":"+AE140+4*AE141+AE142","v":-14.819118279932908},{"$f":"+IF(AF142>0,$F142,\"\")","v":""},{"$f":"+IF(AF142<0,$F142,\"\")","v":9.9123603373531477},null,{"$f":"+AJ138","v":-2.4350775491245371},null,-2.4350775491245371,{"$f":"+AL140+4*AL141+AL142","v":-15.028066296700716},{"$f":"+IF(AM142>0,$F142,\"\")","v":""},{"$f":"+IF(AM142<0,$F142,\"\")","v":9.9123603373531477},null,{"$f":"+AQ138","v":-2.6419745031374178},4.520069044805097E-3,-2.6374544340926125,{"$f":"+AS140+4*AS141+AS142","v":-16.233169332933642},{"$f":"+IF(AT142>0,$F142,\"\")","v":""},{"$f":"+IF(AT142<0,$F142,\"\")","v":9.9123603373531477},null,{"$f":"+AX138","v":-3.1225627575055634},2.5670590510621115E-2,-3.0968921669949423,{"$f":"+AZ140+4*AZ141+AZ142","v":-18.863332820611458},{"$f":"+IF(BA142>0,$F142,\"\")","v":""},{"$f":"+IF(BA142<0,$F142,\"\")","v":9.9123603373531477},null,{"$f":"+BE138","v":-3.2099678633539397},0.14126956616471753,-3.068698297189222,{"$f":"+BG140+4*BG141+BG142","v":-17.567512718164149},{"$f":"+IF(BH142>0,$F142,\"\")","v":""},{"$f":"+IF(BH142<0,$F142,\"\")","v":9.9123603373531477},null,{"$f":"+BL138","v":-3.2257748318309889},0.77663423020787159,-2.4491406016231174,{"$f":"+BN140+4*BN141+BN142","v":-7.578066242633863},{"$f":"+IF(BO142>0,$F142,\"\")","v":""},{"$f":"+IF(BO142<0,$F142,\"\")","v":9.9123603373531477},null,{"$f":"+BS138","v":-3.2281414110987785},4.2694283905646984,1.0412869794659199,{"$f":"+BU140+4*BU141+BU142","v":47.858651888111176},{"$f":"+IF(BV142>0,$F142,\"\")","v":9.9123603373531477},{"$f":"+IF(BV142<0,$F142,\"\")","v":""}]
[null,null,null,0.65,{"$f":"+E137","v":1.5200994549081532},null,null,{"$f":"+H137","v":-1.2890045753133605},null,-1.2890045753133605,null,null,null,null,{"$f":"+O137","v":-1.884845830545957},null,-1.884845830545957,null,null,null,null,{"$f":"+V137","v":-2.1565933571138163},null,-2.1565933571138163,null,null,null,null,{"$f":"+AC137","v":-2.2725700895535264},null,-2.2725700895535264,null,null,null,null,{"$f":"+AJ137","v":-2.3046130899674617},null,-2.3046130899674617,null,null,null,null,{"$f":"+AQ137","v":-2.5004250995947963},1.9278195321223667E-3,-2.4984972800626739,null,null,null,null,{"$f":"+AX137","v":-2.9552648160135342},1.0948564125224412E-2,-2.9443162518883099,null,null,null,null,{"$f":"+BE137","v":-3.0379870074035291},6.0251785149122356E-2,-2.9777352222544069,null,null,null,null,{"$f":"+BL137","v":-3.052947083922656},0.33123623189568163,-2.7217108520269742,null,null,null,null,{"$f":"+BS137","v":-3.0551868686724082},1.8209207338962865,-1.2342661347761217]
[null,null,null,0.70000000000000007,{"$f":"+E136","v":1.3996921455614726},{"$f":"+E142+4*E143+E144","v":9.0862424561250261},null,{"$f":"+H136","v":-1.1869023265769971},null,-1.1869023265769971,{"$f":"+J142+4*J143+J144","v":-7.7048959267335144},{"$f":"+IF(K144>0,$F144,\"\")","v":""},{"$f":"+IF(K144<0,$F144,\"\")","v":9.0862424561250261},null,{"$f":"+O136","v":-1.7355469052311914},null,-1.7355469052311914,{"$f":"+Q142+4*Q143+Q144","v":-11.266477435709428},{"$f":"+IF(R144>0,$F144,\"\")","v":""},{"$f":"+IF(R144<0,$F144,\"\")","v":9.0862424561250261},null,{"$f":"+V136","v":-1.9857692688302711},null,-1.9857692688302711,{"$f":"+X142+4*X143+X144","v":-12.890821096431969},{"$f":"+IF(Y144>0,$F144,\"\")","v":""},{"$f":"+IF(Y144<0,$F144,\"\")","v":9.0862424561250261},null,{"$f":"+AC136","v":-2.0925594666292398},null,-2.0925594666292398,{"$f":"+AE142+4*AE143+AE144","v":-13.58406041496065},{"$f":"+IF(AF144>0,$F144,\"\")","v":""},{"$f":"+IF(AF144<0,$F144,\"\")","v":9.0862424561250261},null,{"$f":"+AJ136","v":-2.1220643360999798},null,-2.1220643360999798,{"$f":"+AL142+4*AL143+AL144","v":-13.775594245094364},{"$f":"+IF(AM144>0,$F144,\"\")","v":""},{"$f":"+IF(AM144<0,$F144,\"\")","v":9.0862424561250261},null,{"$f":"+AQ136","v":-2.302366046620985},8.2219939343038248E-4,-2.3015438472275545,{"$f":"+AS142+4*AS143+AS144","v":-14.932987401570863},{"$f":"+IF(AT144>0,$F144,\"\")","v":""},{"$f":"+IF(AT144<0,$F144,\"\")","v":9.0862424561250261},null,{"$f":"+AX136","v":-2.7211778398264381},4.669473792903645E-3,-2.7165083660335343,{"$f":"+AZ142+4*AZ143+AZ144","v":-17.590665540581718},{"$f":"+IF(BA144>0,$F144,\"\")","v":""},{"$f":"+IF(BA144<0,$F144,\"\")","v":9.0862424561250261},null,{"$f":"+BE136","v":-2.7973475938371748},2.5696897649007577E-2,-2.7716506961881673,{"$f":"+BG142+4*BG143+BG144","v":-17.751289882395017},{"$f":"+IF(BH144>0,$F144,\"\")","v":""},{"$f":"+IF(BH144<0,$F144,\"\")","v":9.0862424561250261},null,{"$f":"+BL136","v":-2.8111226804166809},0.14126956616471725,-2.6698531142519637,{"$f":"+BN142+4*BN143+BN144","v":-16.005837123982978},{"$f":"+IF(BO144>0,$F144,\"\")","v":""},{"$f":"+IF(BO144<0,$F144,\"\")","v":9.0862424561250261},null,{"$f":"+BS136","v":-2.8131850514752683},0.77660792306948301,-2.0365771284057854,{"$f":"+BU142+4*BU143+BU144","v":-5.9323546880443523},{"$f":"+IF(BV144>0,$F144,\"\")","v":""},{"$f":"+IF(BV144<0,$F144,\"\")","v":9.0862424561250261}]
[null,null,null,0.75000000000000011,{"$f":"+E135","v":1.2450565283210433},null,null,{"$f":"+H135","v":-1.0557753680837698},null,-1.0557753680837698,null,null,null,null,{"$f":"+O135","v":-1.5438066230618683},null,-1.5438066230618683,null,null,null,null,{"$f":"+V135","v":-1.7663848437933878},null,-1.7663848437933878,null,null,null,null,{"$f":"+AC135","v":-1.8613770414362247},null,-1.8613770414362247,null,null,null,null,{"$f":"+AJ135","v":-1.887622262907457},null,-1.887622262907457,null,null,null,null,{"$f":"+AQ135","v":-2.0480045458712426},3.5061462432785348E-4,-2.0476539312469146,null,null,null,null,{"$f":"+AX135","v":-2.4205467216074079},1.9912272044825983E-3,-2.4185554944029253,null,null,null,null,{"$f":"+BE135","v":-2.4883013702223953},1.0958057361253656E-2,-2.4773433128611417,null,null,null,null,{"$f":"+BL135","v":-2.5005546085708334},6.0242291913093104E-2,-2.4403123166577405,null,null,null,null,{"$f":"+BS135","v":-2.5023891323684109},0.33117282422332117,-2.1712163081450897]
[null,null,null,0.80000000000000016,{"$f":"+E134","v":1.0564885687850705},{"$f":"+E144+4*E145+E146","v":7.4364068276307158},null,{"$f":"+H134","v":-0.89587467091914907},null,-0.89587467091914907,{"$f":"+J144+4*J145+J146","v":-6.3058784698312254},{"$f":"+IF(K146>0,$F146,\"\")","v":""},{"$f":"+IF(K146<0,$F146,\"\")","v":7.4364068276307158},null,{"$f":"+O134","v":-1.3099919662916557},null,-1.3099919662916557,{"$f":"+Q144+4*Q145+Q146","v":-9.2207653637703206},{"$f":"+IF(R146>0,$F146,\"\")","v":""},{"$f":"+IF(R146<0,$F146,\"\")","v":7.4364068276307158},null,{"$f":"+V134","v":-1.4988599738996893},null,-1.4988599738996893,{"$f":"+X144+4*X145+X146","v":-10.550168617903511},{"$f":"+IF(Y146>0,$F146,\"\")","v":""},{"$f":"+IF(Y146<0,$F146,\"\")","v":7.4364068276307158},null,{"$f":"+AC134","v":-1.5794652867112786},null,-1.5794652867112786,{"$f":"+AE144+4*AE145+AE146","v":-11.117532919085416},{"$f":"+IF(AF146>0,$F146,\"\")","v":""},{"$f":"+IF(AF146<0,$F146,\"\")","v":7.4364068276307158},null,{"$f":"+AJ134","v":-1.6017355819459698},null,-1.6017355819459698,{"$f":"+AL144+4*AL145+AL146","v":-11.274288969675778},{"$f":"+IF(AM146>0,$F146,\"\")","v":""},{"$f":"+IF(AM146<0,$F146,\"\")","v":7.4364068276307158},null,{"$f":"+AQ134","v":-1.7378274337877369},1.4940474809855937E-4,-1.7376780290396383,{"$f":"+AS144+4*AS145+AS146","v":-12.229837601254852},{"$f":"+IF(AT146>0,$F146,\"\")","v":""},{"$f":"+IF(AT146<0,$F146,\"\")","v":7.4364068276307158},null,{"$f":"+AX134","v":-2.053946855759949},8.4850653181692552E-4,-2.0530983492281321,{"$f":"+AZ144+4*AZ145+AZ146","v":-14.443828692873367},{"$f":"+IF(BA146>0,$F146,\"\")","v":""},{"$f":"+IF(BA146<0,$F146,\"\")","v":7.4364068276307158},null,{"$f":"+BE134","v":-2.1114398370949505},4.669473792903639E-3,-2.1067703633020467,{"$f":"+BG144+4*BG145+BG146","v":-14.787794310934782},{"$f":"+IF(BH146>0,$F146,\"\")","v":""},{"$f":"+IF(BH146<0,$F146,\"\")","v":7.4364068276307158},null,{"$f":"+BL134","v":-2.121837281669761},2.5670590510621035E-2,-2.0961666911591399,{"$f":"+BN144+4*BN145+BN146","v":-14.527269072042067},{"$f":"+IF(BO146>0,$F146,\"\")","v":""},{"$f":"+IF(BO146<0,$F146,\"\")","v":7.4364068276307158},null,{"$f":"+BS134","v":-2.1233939607258661},0.14112016141661862,-1.9822737993092474,{"$f":"+BU144+4*BU145+BU146","v":-12.703716160295391},{"$f":"+IF(BV146>0,$F146,\"\")","v":""},{"$f":"+IF(BV146<0,$F146,\"\")","v":7.4364068276307158}]
[null,null,null,0.8500000000000002,{"$f":"+E133","v":0.83468246526164092},null,null,{"$f":"+H133","v":-0.70778889708969617},null,-0.70778889708969617,null,null,null,null,{"$f":"+O133","v":-1.0349637054328675},null,-1.0349637054328675,null,null,null,null,{"$f":"+V133","v":-1.1841795311948202},null,-1.1841795311948202,null,null,null,null,{"$f":"+AC133","v":-1.2478620386999728},null,-1.2478620386999728,null,null,null,null,{"$f":"+AJ133","v":-1.2654567628435318},null,-1.2654567628435318,null,null,null,null,{"$f":"+AQ133","v":-1.372976603335452},6.3407672360233066E-5,-1.3729131956630918,null,null,null,null,{"$f":"+AX133","v":-1.6227278512380026},3.6010786035711045E-4,-1.6223677433776456,null,null,null,null,{"$f":"+BE133","v":-1.6681503809404543},1.9817339684533339E-3,-1.666168646972001,null,null,null,null,{"$f":"+BL133","v":-1.6763649181598246},1.08946496888934E-2,-1.6654702684709313,null,null,null,null,{"$f":"+BS133","v":-1.6775947778578477},5.9891677288765086E-2,-1.6177031005690827]
[null,null,null,0.90000000000000024,{"$f":"+E132","v":0.58126597667622737},{"$f":"+E146+4*E147+E148","v":4.9764844065078613},null,{"$f":"+H132","v":-0.4928983435856289},null,-0.4928983435856289,{"$f":"+J146+4*J147+J148","v":-4.219928602863563},{"$f":"+IF(K148>0,$F148,\"\")","v":""},{"$f":"+IF(K148<0,$F148,\"\")","v":4.9764844065078613},null,{"$f":"+O132","v":-0.72074017857115036},null,-0.72074017857115036,{"$f":"+Q146+4*Q147+Q148","v":-6.1705869665942759},{"$f":"+IF(R148>0,$F148,\"\")","v":""},{"$f":"+IF(R148<0,$F148,\"\")","v":4.9764844065078613},null,{"$f":"+V132","v":-0.82465284752830081},null,-0.82465284752830081,{"$f":"+X146+4*X147+X148","v":-7.0602309462072714},{"$f":"+IF(Y148>0,$F148,\"\")","v":""},{"$f":"+IF(Y148<0,$F148,\"\")","v":4.9764844065078613},null,{"$f":"+AC132","v":-0.86900081991630407},null,-0.86900081991630407,{"$f":"+AE146+4*AE147+AE148","v":-7.4399142614274743},{"$f":"+IF(AF148>0,$F148,\"\")","v":""},{"$f":"+IF(AF148<0,$F148,\"\")","v":4.9764844065078613},null,{"$f":"+AJ132","v":-0.88125364052689248},null,-0.88125364052689248,{"$f":"+AL146+4*AL147+AL148","v":-7.5448162738469904},{"$f":"+IF(AM148>0,$F148,\"\")","v":""},{"$f":"+IF(AM148<0,$F148,\"\")","v":4.9764844065078613},null,{"$f":"+AQ132","v":-0.95612956963367879},2.6307138386543477E-5,-0.95610326249529221,{"$f":"+AS146+4*AS147+AS148","v":-8.1854340741872971},{"$f":"+IF(AT148>0,$F148,\"\")","v":""},{"$f":"+IF(AT148<0,$F148,\"\")","v":4.9764844065078613},null,{"$f":"+AX132","v":-1.1300542764294264},1.4940474809855894E-4,-1.1299048716813278,{"$f":"+AZ146+4*AZ147+AZ148","v":-9.6724741944200421},{"$f":"+IF(BA148>0,$F148,\"\")","v":""},{"$f":"+IF(BA148<0,$F148,\"\")","v":4.9764844065078613},null,{"$f":"+BE132","v":-1.1616861510517407},8.2219939343037901E-4,-1.1608639516583104,{"$f":"+BG146+4*BG147+BG148","v":-9.9323089028483604},{"$f":"+IF(BH148>0,$F148,\"\")","v":""},{"$f":"+IF(BH148<0,$F148,\"\")","v":4.9764844065078613},null,{"$f":"+BL132","v":-1.1674066869423128},4.5200690448050701E-3,-1.1628866178975077,{"$f":"+BN146+4*BN147+BN148","v":-9.9209343829403718},{"$f":"+IF(BO148>0,$F148,\"\")","v":""},{"$f":"+IF(BO148<0,$F148,\"\")","v":4.9764844065078613},null,{"$f":"+BS132","v":-1.1682631510808308},2.4848391117190581E-2,-1.1434147599636402,{"$f":"+BU146+4*BU147+BU148","v":-9.5965009615492178},{"$f":"+IF(BV148>0,$F148,\"\")","v":""},{"$f":"+IF(BV148<0,$F148,\"\")","v":4.9764844065078613}]
[null,null,null,0.95000000000000029,{"$f":"+E131","v":0.30005566155649238},null,null,{"$f":"+H131","v":-0.25443935220565245},null,-0.25443935220565245,null,null,null,null,{"$f":"+O131","v":-0.372053723715489},null,-0.372053723715489,null,null,null,null,{"$f":"+V131","v":-0.42569454543763502},null,-0.42569454543763502,null,null,null,null,{"$f":"+AC131","v":-0.44858743909995141},null,-0.44858743909995141,null,null,null,null,{"$f":"+AJ131","v":-0.45491247504178667},null,-0.45491247504178667,null,null,null,null,{"$f":"+AQ131","v":-0.49356422371502473},9.4932360292579335E-6,-0.49355473047899545,null,null,null,null,{"$f":"+AX131","v":-0.58334600185561225},5.3914436330974951E-5,-0.58329208741928129,null,null,null,null,{"$f":"+BE131","v":-0.59967471099552017},2.9670018799687637E-4,-0.59937801080752329,null,null,null,null,{"$f":"+BL131","v":-0.60262771228921086},1.6311193441254782E-3,-0.60099659294508534,null,null,null,null,{"$f":"+BS131","v":-0.60306982816041987},8.9668301567710149E-3,-0.59410299800364885]
[null,null,null,1.0000000000000002,{"$f":"+E130","v":0},{"$f":"+E148+4*E149+E150","v":1.7814886229021969},null,{"$f":"+H130","v":0},null,0,{"$f":"+J148+4*J149+J150","v":-1.5106557524082387},{"$f":"+IF(K150>0,$F150,\"\")","v":""},{"$f":"+IF(K150<0,$F150,\"\")","v":1.7814886229021969},null,{"$f":"+O130","v":0},null,0,{"$f":"+Q148+4*Q149+Q150","v":-2.2089550734331063},{"$f":"+IF(R150>0,$F150,\"\")","v":""},{"$f":"+IF(R150<0,$F150,\"\")","v":1.7814886229021969},null,{"$f":"+V130","v":0},null,0,{"$f":"+X148+4*X149+X150","v":-2.5274310292788407},{"$f":"+IF(Y150>0,$F150,\"\")","v":""},{"$f":"+IF(Y150<0,$F150,\"\")","v":1.7814886229021969},null,{"$f":"+AC130","v":0},null,0,{"$f":"+AE148+4*AE149+AE150","v":-2.6633505763161098},{"$f":"+IF(AF150>0,$F150,\"\")","v":""},{"$f":"+IF(AF150<0,$F150,\"\")","v":1.7814886229021969},null,{"$f":"+AJ130","v":0},null,0,{"$f":"+AL148+4*AL149+AL150","v":-2.7009035406940392},{"$f":"+IF(AM150>0,$F150,\"\")","v":""},{"$f":"+IF(AM150<0,$F150,\"\")","v":1.7814886229021969},null,{"$f":"+AQ130","v":0},-3.5166163014378138E-20,-3.5166163014378138E-20,{"$f":"+AS148+4*AS149+AS150","v":-2.9303221844112741},{"$f":"+IF(AT150>0,$F150,\"\")","v":""},{"$f":"+IF(AT150<0,$F150,\"\")","v":1.7814886229021969},null,{"$f":"+AX130","v":0},-1.997173409572942E-19,-1.997173409572942E-19,{"$f":"+AZ148+4*AZ149+AZ150","v":-3.463073221358453},{"$f":"+IF(BA150>0,$F150,\"\")","v":""},{"$f":"+IF(BA150<0,$F150,\"\")","v":1.7814886229021969},null,{"$f":"+BE130","v":0},-1.0990780325421218E-18,-1.0990780325421218E-18,{"$f":"+BG148+4*BG149+BG150","v":-3.5583759948884035},{"$f":"+IF(BH150>0,$F150,\"\")","v":""},{"$f":"+IF(BH150<0,$F150,\"\")","v":1.7814886229021969},null,{"$f":"+BL130","v":0},-6.0422187518185877E-18,-6.0422187518185877E-18,{"$f":"+BN148+4*BN149+BN150","v":-3.566872989677849},{"$f":"+IF(BO150>0,$F150,\"\")","v":""},{"$f":"+IF(BO150<0,$F150,\"\")","v":1.7814886229021969},null,{"$f":"+BS130","v":0},-3.321617729122237E-17,-3.321617729122237E-17,{"$f":"+BU148+4*BU149+BU150","v":-3.5198267519782354},{"$f":"+IF(BV150>0,$F150,\"\")","v":""},{"$f":"+IF(BV150<0,$F150,\"\")","v":1.7814886229021969}]
[null,null,null,null,null,null,null,null,null,null,{"$f":"+SUMIF(K130:K150,\">0\")","v":0},{"$f":"+SUM(L130:L150)","v":0},{"$f":"+SUM(M130:M150)","v":66.385965301037913},null,null,null,null,{"$f":"+SUMIF(R130:R150,\">0\")","v":0},{"$f":"+SUM(S130:S150)","v":0},{"$f":"+SUM(T130:T150)","v":66.385965301037913},null,null,null,null,{"$f":"+SUMIF(Y130:Y150,\">0\")","v":0},{"$f":"+SUM(Z130:Z150)","v":0},{"$f":"+SUM(AA130:AA150)","v":66.385965301037913},null,null,null,null,{"$f":"+SUMIF(AF130:AF150,\">0\")","v":0},{"$f":"+SUM(AG130:AG150)","v":0},{"$f":"+SUM(AH130:AH150)","v":66.385965301037913},null,null,null,null,{"$f":"+SUMIF(AM130:AM150,\">0\")","v":0},{"$f":"+SUM(AN130:AN150)","v":0},{"$f":"+SUM(AO130:AO150)","v":66.385965301037913},null,null,null,null,{"$f":"+SUMIF(AT130:AT150,\">0\")","v":109.87333184471899},{"$f":"+SUM(AU130:AU150)","v":6.7579730294100582},{"$f":"+SUM(AV130:AV150)","v":59.627992271627839},null,null,null,null,{"$f":"+SUMIF(BA130:BA150,\">0\")","v":117.57131417627329},{"$f":"+SUM(BB130:BB150)","v":14.194379857040774},{"$f":"+SUM(BC130:BC150)","v":52.19158544399712},null,null,null,null,{"$f":"+SUMIF(BH130:BH150,\">0\")","v":104.83489376524869},{"$f":"+SUM(BI130:BI150)","v":21.499133690263605},{"$f":"+SUM(BJ130:BJ150)","v":44.886831610774301},null,null,null,null,{"$f":"+SUMIF(BO130:BO150,\">0\")","v":97.405184736700747},{"$f":"+SUM(BP130:BP150)","v":18.998602793478174},{"$f":"+SUM(BQ130:BQ150)","v":47.387362507559722},null,null,null,null,{"$f":"+SUMIF(BV130:BV150,\">0\")","v":95.71730377622228},{"$f":"+SUM(BW130:BW150)","v":19.824720674706295},{"$f":"+SUM(BX130:BX150)","v":46.561244626331607}]
[null,null,null,null,null,null,null,null,null,null,{"$f":"+SUMIF(K130:K150,\"<0\")","v":-56.293562064859906},null,null,null,null,null,null,{"$f":"+SUMIF(R130:R150,\"<0\")","v":-82.315212666127977},null,null,null,null,null,null,{"$f":"+SUMIF(Y130:Y150,\"<0\")","v":-94.183003165708683},null,null,null,null,null,null,{"$f":"+SUMIF(AF130:AF150,\"<0\")","v":-99.24795290344511},null,null,null,null,null,null,{"$f":"+SUMIF(AM130:AM150,\"<0\")","v":-100.64733865202378},null,null,null,null,null,null,{"$f":"+SUMIF(AT130:AT150,\"<0\")","v":-83.509982034260872},null,null,null,null,null,null,{"$f":"+SUMIF(BA130:BA150,\"<0\")","v":-86.412340392283781},null,null,null,null,null,null,{"$f":"+SUMIF(BH130:BH150,\"<0\")","v":-72.8037346600305},null,null,null,null,null,null,{"$f":"+SUMIF(BO130:BO150,\"<0\")","v":-65.216293360080982},null,null,null,null,null,null,{"$f":"+SUMIF(BV130:BV150,\"<0\")","v":-63.504797123734399}]
[]
[null,null,null,0,{"$f":"+F73","v":0},null,null,{"$f":"+H$87*$E154","v":0},null,{"$f":"+H154+I154","v":0},null,null,null,null,{"$f":"+O$87*$E154","v":0},null,{"$f":"+O154+P154","v":0},null,null,null,null,{"$f":"+V$87*$E154","v":0},null,{"$f":"+V154+W154","v":0},null,null,null,null,{"$f":"+AC$87*$E154","v":0},null,{"$f":"+AC154+AD154","v":0},null,null,null,null,{"$f":"+AJ$87*$E154","v":0},null,{"$f":"+AJ154+AK154","v":0},null,null,null,null,{"$f":"+AQ$87*$E154","v":0},null,{"$f":"+AQ154+AR154","v":0},null,null,null,null,{"$f":"+AX$87*$E154","v":0},null,{"$f":"+AX154+AY154","v":0},null,null,null,null,{"$f":"+BE$87*$E154","v":0},null,{"$f":"+BE154+BF154","v":0},null,null,null,null,{"$f":"+BL$87*$E154","v":0},null,{"$f":"+BL154+BM154","v":0},null,null,null,null,{"$f":"+BS$87*$E154","v":0},null,{"$f":"+BS154+BT154","v":0}]
[null,null,null,{"$f":"+D154+0.05","v":0.05},{"$f":"+F74","v":4.0456810903684283E-2},null,null,{"$f":"+H$87*$E155","v":-3.4306317385389376E-2},null,-3.4306317385389376E-2,null,null,null,null,{"$f":"+O$87*$E155","v":-5.0164383062424669E-2},null,-5.0164383062424669E-2,null,null,null,null,{"$f":"+V$87*$E155","v":-5.7396829768725267E-2},null,-5.7396829768725267E-2,null,null,null,null,{"$f":"+AC$87*$E155","v":-6.048350197190952E-2},null,-6.048350197190952E-2,null,null,null,null,{"$f":"+AJ$87*$E155","v":-6.1336313019467972E-2},null,-6.1336313019467972E-2,null,null,null,null,-6.6547767717767395E-2,null,-6.6547767717767395E-2,null,null,null,null,-7.8653136441651395E-2,null,-7.8653136441651395E-2,null,null,null,null,-8.0854752950227551E-2,null,-8.0854752950227551E-2,null,null,null,null,-8.125290912670978E-2,null,-8.125290912670978E-2,null,null,null,null,-8.1312520060581969E-2,null,-8.1312520060581969E-2]
[null,null,null,0.1,7.9204449703107471E-2,{"$f":"+E154+4*E155+E156","v":0.2410316933178446},null,-6.7163301534537548E-2,null,-6.7163301534537548E-2,{"$f":"+J154+4*J155+J156","v":-0.20438857107609504},{"$f":"+IF(K156>0,$F156,\"\")","v":""},{"$f":"+IF(K156<0,$F156,\"\")","v":0.2410316933178446},null,-9.8209479847888845E-2,null,-9.8209479847888845E-2,{"$f":"+Q154+4*Q155+Q156","v":-0.29886701209758754},{"$f":"+IF(R156>0,$F156,\"\")","v":""},{"$f":"+IF(R156<0,$F156,\"\")","v":0.2410316933178446},null,-0.11236882529761691,null,-0.11236882529761691,{"$f":"+X154+4*X155+X156","v":-0.34195614437251798},{"$f":"+IF(Y156>0,$F156,\"\")","v":""},{"$f":"+IF(Y156<0,$F156,\"\")","v":0.2410316933178446},null,-0.11841176758115768,null,-0.11841176758115768,{"$f":"+AE154+4*AE155+AE156","v":-0.36034577546879576},{"$f":"+IF(AF156>0,$F156,\"\")","v":""},{"$f":"+IF(AF156<0,$F156,\"\")","v":0.2410316933178446},null,-0.12008136111099388,null,-0.12008136111099388,{"$f":"+AL154+4*AL155+AL156","v":-0.36542661318886577},{"$f":"+IF(AM156>0,$F156,\"\")","v":""},{"$f":"+IF(AM156<0,$F156,\"\")","v":0.2410316933178446},null,-0.13028410305509233,null,-0.13028410305509233,{"$f":"+AS154+4*AS155+AS156","v":-0.39647517392616194},{"$f":"+IF(AT156>0,$F156,\"\")","v":""},{"$f":"+IF(AT156<0,$F156,\"\")","v":0.2410316933178446},null,-0.15398342702086557,null,-0.15398342702086557,{"$f":"+AZ154+4*AZ155+AZ156","v":-0.46859597278747112},{"$f":"+IF(BA156>0,$F156,\"\")","v":""},{"$f":"+IF(BA156<0,$F156,\"\")","v":0.2410316933178446},null,-0.15829364871466622,null,-0.15829364871466622,{"$f":"+BG154+4*BG155+BG156","v":-0.48171266051557643},{"$f":"+IF(BH156>0,$F156,\"\")","v":""},{"$f":"+IF(BH156<0,$F156,\"\")","v":0.2410316933178446},null,-0.15907314023042721,null,-0.15907314023042721,{"$f":"+BN154+4*BN155+BN156","v":-0.48408477673726635},{"$f":"+IF(BO156>0,$F156,\"\")","v":""},{"$f":"+IF(BO156<0,$F156,\"\")","v":0.2410316933178446},null,-0.15918984372504708,null,-0.15918984372504708,{"$f":"+BU154+4*BU155+BU156","v":-0.48443992396737495},{"$f":"+IF(BV156>0,$F156,\"\")","v":""},{"$f":"+IF(BV156<0,$F156,\"\")","v":0.2410316933178446}]
[null,null,null,0.15000000000000002,0.11503334029218562,null,null,-9.7545263549328229E-2,null,-9.7545263549328229E-2,null,null,null,null,-0.14263547764813908,null,-0.14263547764813908,null,null,null,null,-0.16319993847753206,null,-0.16319993847753206,null,null,null,null,-0.17197646351715129,null,-0.17197646351715129,null,null,null,null,-0.17440131365356656,null,-0.17440131365356656,null,null,null,null,-0.18921936352788804,null,-0.18921936352788804,null,null,null,null,-0.22363930342607008,null,-0.22363930342607008,null,null,null,null,-0.22989929513987248,null,-0.22989929513987248,null,null,null,null,-0.23103139710034967,null,-0.23103139710034967,null,null,null,null,-0.23120089253728809,null,-0.23120089253728809]
[null,null,null,0.2,0.14712100042061604,{"$f":"+E156+4*E157+E158","v":0.686458811292466},null,-0.12475475999582621,null,-0.12475475999582621,{"$f":"+J156+4*J157+J158","v":-0.5820991157276767},{"$f":"+IF(K158>0,$F158,\"\")","v":""},{"$f":"+IF(K158<0,$F158,\"\")","v":0.686458811292466},null,-0.18242254040233377,null,-0.18242254040233377,{"$f":"+Q156+4*Q157+Q158","v":-0.85117393084277893},{"$f":"+IF(R158>0,$F158,\"\")","v":""},{"$f":"+IF(R158<0,$F158,\"\")","v":0.686458811292466},null,-0.20872329844905452,null,-0.20872329844905452,{"$f":"+X156+4*X157+X158","v":-0.97389187765679974},{"$f":"+IF(Y158>0,$F158,\"\")","v":""},{"$f":"+IF(Y158<0,$F158,\"\")","v":0.686458811292466},null,-0.21994796723434476,null,-0.21994796723434476,{"$f":"+AE156+4*AE157+AE158","v":-1.0262655888841077},{"$f":"+IF(AF158>0,$F158,\"\")","v":""},{"$f":"+IF(AF158<0,$F158,\"\")","v":0.686458811292466},null,-0.22304921055244145,null,-0.22304921055244145,{"$f":"+AL156+4*AL157+AL158","v":-1.0407358262777016},{"$f":"+IF(AM158>0,$F158,\"\")","v":""},{"$f":"+IF(AM158<0,$F158,\"\")","v":0.686458811292466},null,-0.24200064077480501,null,-0.24200064077480501,{"$f":"+AS156+4*AS157+AS158","v":-1.1291621979414495},{"$f":"+IF(AT158>0,$F158,\"\")","v":""},{"$f":"+IF(AT158<0,$F158,\"\")","v":0.686458811292466},null,-0.28602175656067791,null,-0.28602175656067791,{"$f":"+AZ156+4*AZ157+AZ158","v":-1.3345623972858238},{"$f":"+IF(BA158>0,$F158,\"\")","v":""},{"$f":"+IF(BA158<0,$F158,\"\")","v":0.686458811292466},null,-0.2940279245222453,null,-0.2940279245222453,{"$f":"+BG156+4*BG157+BG158","v":-1.3719187537964013},{"$f":"+IF(BH158>0,$F158,\"\")","v":""},{"$f":"+IF(BH158<0,$F158,\"\")","v":0.686458811292466},null,-0.29547581756421459,null,-0.29547581756421459,{"$f":"+BN156+4*BN157+BN158","v":-1.3786745461960406},{"$f":"+IF(BO158>0,$F158,\"\")","v":""},{"$f":"+IF(BO158<0,$F158,\"\")","v":0.686458811292466},null,-0.29569259244170465,null,-0.29569259244170465,{"$f":"+BU156+4*BU157+BU158","v":-1.379686006315904},{"$f":"+IF(BV158>0,$F158,\"\")","v":""},{"$f":"+IF(BV158<0,$F158,\"\")","v":0.686458811292466}]
[null,null,null,0.25,0.17490926063615897,null,null,-0.14831847777901383,null,-0.14831847777901383,null,null,null,null,-0.21687856644475931,null,-0.21687856644475931,null,null,null,null,-0.24814701983326551,null,-0.24814701983326551,null,null,null,null,-0.26149180754207563,null,-0.26149180754207563,null,null,null,null,-0.26517881466050408,null,-0.26517881466050408,null,null,null,null,-0.28770979690446974,null,-0.28770979690446974,null,null,null,null,-0.34004563470106219,null,-0.34004563470106219,null,null,null,null,-0.34956401015176658,null,-0.34956401015176658,null,null,null,null,-0.35128538168082807,null,-0.35128538168082807,null,null,null,null,-0.35154310106445025,null,-0.35154310106445025]
[null,null,null,0.3,0.19802094013301513,{"$f":"+E158+4*E159+E160","v":1.044778983098267},null,-0.16791657744179123,null,-0.16791657744179123,{"$f":"+J158+4*J159+J160","v":-0.88594524855367274},{"$f":"+IF(K160>0,$F160,\"\")","v":""},{"$f":"+IF(K160<0,$F160,\"\")","v":1.044778983098267},null,-0.24553587080462166,null,-0.24553587080462166,{"$f":"+Q158+4*Q159+Q160","v":-1.2954726769859926},{"$f":"+IF(R160>0,$F160,\"\")","v":""},{"$f":"+IF(R160<0,$F160,\"\")","v":1.044778983098267},null,-0.28093598920874308,null,-0.28093598920874308,{"$f":"+X158+4*X159+X160","v":-1.4822473669908596},{"$f":"+IF(Y160>0,$F160,\"\")","v":""},{"$f":"+IF(Y160<0,$F160,\"\")","v":1.044778983098267},null,-0.29604409382460467,null,-0.29604409382460467,{"$f":"+AE158+4*AE159+AE160","v":-1.561959291227252},{"$f":"+IF(AF160>0,$F160,\"\")","v":""},{"$f":"+IF(AF160<0,$F160,\"\")","v":1.044778983098267},null,-0.30021828456335037,null,-0.30021828456335037,{"$f":"+AL158+4*AL159+AL160","v":-1.5839827537578082},{"$f":"+IF(AM160>0,$F160,\"\")","v":""},{"$f":"+IF(AM160<0,$F160,\"\")","v":1.044778983098267},null,-0.32572640385813867,null,-0.32572640385813867,{"$f":"+AS158+4*AS159+AS160","v":-1.7185662322508226},{"$f":"+IF(AT160>0,$F160,\"\")","v":""},{"$f":"+IF(AT160<0,$F160,\"\")","v":1.044778983098267},null,-0.38497765085007613,null,-0.38497765085007613,{"$f":"+AZ158+4*AZ159+AZ160","v":-2.0311819462150029},{"$f":"+IF(BA160>0,$F160,\"\")","v":""},{"$f":"+IF(BA160<0,$F160,\"\")","v":1.044778983098267},null,-0.39575373925404161,null,-0.39575373925404161,{"$f":"+BG158+4*BG159+BG160","v":-2.0880377043833533},{"$f":"+IF(BH160>0,$F160,\"\")","v":""},{"$f":"+IF(BH160<0,$F160,\"\")","v":1.044778983098267},null,-0.39770256464649484,null,-0.39770256464649484,{"$f":"+BN158+4*BN159+BN160","v":-2.0983199089340214},{"$f":"+IF(BO160>0,$F160,\"\")","v":""},{"$f":"+IF(BO160<0,$F160,\"\")","v":1.044778983098267},null,-0.39799433784620852,null,-0.39799433784620852,{"$f":"+BU158+4*BU159+BU160","v":-2.0998593345457142},{"$f":"+IF(BV160>0,$F160,\"\")","v":""},{"$f":"+IF(BV160<0,$F160,\"\")","v":1.044778983098267}]
[null,null,null,0.35,0.2162035407850155,null,null,-0.18333494717796109,null,-0.18333494717796109,null,null,null,null,-0.26808136867763804,null,-0.26808136867763804,null,null,null,null,-0.3067319827896543,null,-0.3067319827896543,null,null,null,null,-0.32322733782789204,null,-0.32322733782789204,null,null,null,null,-0.32778480946206684,null,-0.32778480946206684,null,null,null,null,-0.35563512522460833,null,-0.35563512522460833,null,null,null,null,-0.42032691684512785,null,-0.42032691684512785,null,null,null,null,-0.43209248298770186,null,-0.43209248298770186,null,null,null,null,-0.43422025265659198,null,-0.43422025265659198,null,null,null,null,-0.43453881693995461,null,-0.43453881693995461]
[null,null,null,0.39999999999999997,0.22929155394678219,{"$f":"+E160+4*E161+E162","v":1.2921266572198593},null,-0.19443323998558404,null,-0.19443323998558404,{"$f":"+J160+4*J161+J162","v":-1.0956896061392196},{"$f":"+IF(K162>0,$F162,\"\")","v":""},{"$f":"+IF(K162<0,$F162,\"\")","v":1.2921266572198593},null,-0.28430983778104751,null,-0.28430983778104751,{"$f":"+Q160+4*Q161+Q162","v":-1.6021711832962213},{"$f":"+IF(R162>0,$F162,\"\")","v":""},{"$f":"+IF(R162<0,$F162,\"\")","v":1.2921266572198593},null,-0.32530019038380126,null,-0.32530019038380126,{"$f":"+X160+4*X161+X162","v":-1.8331641107511616},{"$f":"+IF(Y162>0,$F162,\"\")","v":""},{"$f":"+IF(Y162<0,$F162,\"\")","v":1.2921266572198593},null,-0.3427941017965766,null,-0.3427941017965766,{"$f":"+AE160+4*AE161+AE162","v":-1.9317475469327494},{"$f":"+IF(AF162>0,$F162,\"\")","v":""},{"$f":"+IF(AF162<0,$F162,\"\")","v":1.2921266572198593},null,-0.34762746275483869,null,-0.34762746275483869,{"$f":"+AL160+4*AL161+AL162","v":-1.9589849851664565},{"$f":"+IF(AM162>0,$F162,\"\")","v":""},{"$f":"+IF(AM162<0,$F162,\"\")","v":1.2921266572198593},null,-0.37716371436253804,null,-0.37716371436253804,{"$f":"+AS160+4*AS161+AS162","v":-2.1254306191191099},{"$f":"+IF(AT162>0,$F162,\"\")","v":""},{"$f":"+IF(AT162<0,$F162,\"\")","v":1.2921266572198593},null,-0.44577166303170429,null,-0.44577166303170429,{"$f":"+AZ160+4*AZ161+AZ162","v":-2.5120569812622917},{"$f":"+IF(BA162>0,$F162,\"\")","v":""},{"$f":"+IF(BA162<0,$F162,\"\")","v":1.2921266572198593},null,-0.45824946489424168,null,-0.45824946489424168,{"$f":"+BG160+4*BG161+BG162","v":-2.5823731360990907},{"$f":"+IF(BH162>0,$F162,\"\")","v":""},{"$f":"+IF(BH162<0,$F162,\"\")","v":1.2921266572198593},null,-0.46050604039734955,null,-0.46050604039734955,{"$f":"+BN160+4*BN161+BN162","v":-2.5950896156702123},{"$f":"+IF(BO162>0,$F162,\"\")","v":""},{"$f":"+IF(BO162<0,$F162,\"\")","v":1.2921266572198593},null,-0.46084388916383573,null,-0.46084388916383573,{"$f":"+BU160+4*BU161+BU162","v":-2.5969934947698627},{"$f":"+IF(BV162>0,$F162,\"\")","v":""},{"$f":"+IF(BV162<0,$F162,\"\")","v":1.2921266572198593}]
[null,null,null,0.44999999999999996,0.23718175314055062,null,null,-0.20112392251169273,null,-0.20112392251169273,null,null,null,null,-0.29409328254483114,null,-0.29409328254483114,null,null,null,null,-0.3364941626680778,null,-0.3364941626680778,null,null,null,null,-0.35459006069287191,null,-0.35459006069287191,null,null,null,null,-0.35958974343699851,null,-0.35958974343699851,null,null,null,null,-0.39014237312147643,null,-0.39014237312147643,null,null,null,null,-0.46111120413435608,null,-0.46111120413435608,null,null,null,null,-0.47401838222336645,null,-0.47401838222336645,null,null,null,null,-0.47635260921388772,null,-0.47635260921388772,null,null,null,null,-0.47670208376431167,null,-0.47670208376431167]
[null,null,null,0.49999999999999994,0.23981778429368636,{"$f":"+E162+4*E163+E164","v":1.417836350802671},null,-0.20335920797679133,null,-0.20335920797679133,{"$f":"+J162+4*J163+J164","v":-1.2022881380091464},{"$f":"+IF(K164>0,$F164,\"\")","v":""},{"$f":"+IF(K164<0,$F164,\"\")","v":1.417836350802671},null,-0.29736182679181089,null,-0.29736182679181089,{"$f":"+Q162+4*Q163+Q164","v":-1.7580447947521831},{"$f":"+IF(R164>0,$F164,\"\")","v":""},{"$f":"+IF(R164<0,$F164,\"\")","v":1.417836350802671},null,-0.34023394907194909,null,-0.34023394907194909,{"$f":"+X162+4*X163+X164","v":-2.0115107901280616},{"$f":"+IF(Y164>0,$F164,\"\")","v":""},{"$f":"+IF(Y164<0,$F164,\"\")","v":1.417836350802671},null,-0.3585309643846698,null,-0.3585309643846698,{"$f":"+AE162+4*AE163+AE164","v":-2.1196853089527341},{"$f":"+IF(AF164>0,$F164,\"\")","v":""},{"$f":"+IF(AF164<0,$F164,\"\")","v":1.417836350802671},null,-0.36358621345839304,null,-0.36358621345839304,{"$f":"+AL162+4*AL163+AL164","v":-2.1495726499612258},{"$f":"+IF(AM164>0,$F164,\"\")","v":""},{"$f":"+IF(AM164<0,$F164,\"\")","v":1.417836350802671},null,-0.39447840418663632,null,-0.39447840418663632,{"$f":"+AS162+4*AS163+AS164","v":-2.3322116110350803},{"$f":"+IF(AT164>0,$F164,\"\")","v":""},{"$f":"+IF(AT164<0,$F164,\"\")","v":1.417836350802671},null,-0.46623598073737665,null,-0.46623598073737665,{"$f":"+AZ162+4*AZ163+AZ164","v":-2.7564524603065053},{"$f":"+IF(BA164>0,$F164,\"\")","v":""},{"$f":"+IF(BA164<0,$F164,\"\")","v":1.417836350802671},null,-0.47928660883082957,null,-0.47928660883082957,{"$f":"+BG162+4*BG163+BG164","v":-2.8336096026185369},{"$f":"+IF(BH164>0,$F164,\"\")","v":""},{"$f":"+IF(BH164<0,$F164,\"\")","v":1.417836350802671},null,-0.48164677835269665,null,-0.48164677835269665,{"$f":"+BN162+4*BN163+BN164","v":-2.8475632556055972},{"$f":"+IF(BO164>0,$F164,\"\")","v":""},{"$f":"+IF(BO164<0,$F164,\"\")","v":1.417836350802671},null,-0.48200013695317906,null,-0.48200013695317906,{"$f":"+BU162+4*BU163+BU164","v":-2.8496523611742615},{"$f":"+IF(BV164>0,$F164,\"\")","v":""},{"$f":"+IF(BV164<0,$F164,\"\")","v":1.417836350802671}]
[null,null,null,0.54999999999999993,{"$f":"+E163","v":0.23718175314055062},null,null,{"$f":"+H163","v":-0.20112392251169273},null,-0.20112392251169273,null,null,null,null,{"$f":"+O163","v":-0.29409328254483114},null,-0.29409328254483114,null,null,null,null,{"$f":"+V163","v":-0.3364941626680778},null,-0.3364941626680778,null,null,null,null,{"$f":"+AC163","v":-0.35459006069287191},null,-0.35459006069287191,null,null,null,null,{"$f":"+AJ163","v":-0.35958974343699851},null,-0.35958974343699851,null,null,null,null,{"$f":"+AQ163","v":-0.39014237312147643},null,-0.39014237312147643,null,null,null,null,{"$f":"+AX163","v":-0.46111120413435608},null,-0.46111120413435608,null,null,null,null,{"$f":"+BE163","v":-0.47401838222336645},null,-0.47401838222336645,null,null,null,null,{"$f":"+BL163","v":-0.47635260921388772},null,-0.47635260921388772,null,null,null,null,{"$f":"+BS163","v":-0.47670208376431167},null,-0.47670208376431167]
[null,null,null,0.6,{"$f":"+E162","v":0.22929155394678219},{"$f":"+E164+4*E165+E166","v":1.417836350802671},null,{"$f":"+H162","v":-0.19443323998558404},null,-0.19443323998558404,{"$f":"+J164+4*J165+J166","v":-1.2022881380091461},{"$f":"+IF(K166>0,$F166,\"\")","v":""},{"$f":"+IF(K166<0,$F166,\"\")","v":1.417836350802671},null,{"$f":"+O162","v":-0.28430983778104751},null,-0.28430983778104751,{"$f":"+Q164+4*Q165+Q166","v":-1.7580447947521831},{"$f":"+IF(R166>0,$F166,\"\")","v":""},{"$f":"+IF(R166<0,$F166,\"\")","v":1.417836350802671},null,{"$f":"+V162","v":-0.32530019038380126},null,-0.32530019038380126,{"$f":"+X164+4*X165+X166","v":-2.0115107901280616},{"$f":"+IF(Y166>0,$F166,\"\")","v":""},{"$f":"+IF(Y166<0,$F166,\"\")","v":1.417836350802671},null,{"$f":"+AC162","v":-0.3427941017965766},null,-0.3427941017965766,{"$f":"+AE164+4*AE165+AE166","v":-2.1196853089527341},{"$f":"+IF(AF166>0,$F166,\"\")","v":""},{"$f":"+IF(AF166<0,$F166,\"\")","v":1.417836350802671},null,{"$f":"+AJ162","v":-0.34762746275483869},null,-0.34762746275483869,{"$f":"+AL164+4*AL165+AL166","v":-2.1495726499612258},{"$f":"+IF(AM166>0,$F166,\"\")","v":""},{"$f":"+IF(AM166<0,$F166,\"\")","v":1.417836350802671},null,{"$f":"+AQ162","v":-0.37716371436253804},null,-0.37716371436253804,{"$f":"+AS164+4*AS165+AS166","v":-2.3322116110350799},{"$f":"+IF(AT166>0,$F166,\"\")","v":""},{"$f":"+IF(AT166<0,$F166,\"\")","v":1.417836350802671},null,{"$f":"+AX162","v":-0.44577166303170429},null,-0.44577166303170429,{"$f":"+AZ164+4*AZ165+AZ166","v":-2.7564524603065053},{"$f":"+IF(BA166>0,$F166,\"\")","v":""},{"$f":"+IF(BA166<0,$F166,\"\")","v":1.417836350802671},null,{"$f":"+BE162","v":-0.45824946489424168},null,-0.45824946489424168,{"$f":"+BG164+4*BG165+BG166","v":-2.8336096026185369},{"$f":"+IF(BH166>0,$F166,\"\")","v":""},{"$f":"+IF(BH166<0,$F166,\"\")","v":1.417836350802671},null,{"$f":"+BL162","v":-0.46050604039734955},null,-0.46050604039734955,{"$f":"+BN164+4*BN165+BN166","v":-2.8475632556055972},{"$f":"+IF(BO166>0,$F166,\"\")","v":""},{"$f":"+IF(BO166<0,$F166,\"\")","v":1.417836350802671},null,{"$f":"+BS162","v":-0.46084388916383573},null,-0.46084388916383573,{"$f":"+BU164+4*BU165+BU166","v":-2.8496523611742615},{"$f":"+IF(BV166>0,$F166,\"\")","v":""},{"$f":"+IF(BV166<0,$F166,\"\")","v":1.417836350802671}]
[null,null,null,0.65,{"$f":"+E161","v":0.2162035407850155},null,null,{"$f":"+H161","v":-0.18333494717796109},null,-0.18333494717796109,null,null,null,null,{"$f":"+O161","v":-0.26808136867763804},null,-0.26808136867763804,null,null,null,null,{"$f":"+V161","v":-0.3067319827896543},null,-0.3067319827896543,null,null,null,null,{"$f":"+AC161","v":-0.32322733782789204},null,-0.32322733782789204,null,null,null,null,{"$f":"+AJ161","v":-0.32778480946206684},null,-0.32778480946206684,null,null,null,null,{"$f":"+AQ161","v":-0.35563512522460833},null,-0.35563512522460833,null,null,null,null,{"$f":"+AX161","v":-0.42032691684512785},null,-0.42032691684512785,null,null,null,null,{"$f":"+BE161","v":-0.43209248298770186},null,-0.43209248298770186,null,null,null,null,{"$f":"+BL161","v":-0.43422025265659198},null,-0.43422025265659198,null,null,null,null,{"$f":"+BS161","v":-0.43453881693995461},null,-0.43453881693995461]
[null,null,null,0.70000000000000007,{"$f":"+E160","v":0.19802094013301513},{"$f":"+E166+4*E167+E168","v":1.2921266572198593},null,{"$f":"+H160","v":-0.16791657744179123},null,-0.16791657744179123,{"$f":"+J166+4*J167+J168","v":-1.0956896061392196},{"$f":"+IF(K168>0,$F168,\"\")","v":""},{"$f":"+IF(K168<0,$F168,\"\")","v":1.2921266572198593},null,{"$f":"+O160","v":-0.24553587080462166},null,-0.24553587080462166,{"$f":"+Q166+4*Q167+Q168","v":-1.6021711832962213},{"$f":"+IF(R168>0,$F168,\"\")","v":""},{"$f":"+IF(R168<0,$F168,\"\")","v":1.2921266572198593},null,{"$f":"+V160","v":-0.28093598920874308},null,-0.28093598920874308,{"$f":"+X166+4*X167+X168","v":-1.8331641107511616},{"$f":"+IF(Y168>0,$F168,\"\")","v":""},{"$f":"+IF(Y168<0,$F168,\"\")","v":1.2921266572198593},null,{"$f":"+AC160","v":-0.29604409382460467},null,-0.29604409382460467,{"$f":"+AE166+4*AE167+AE168","v":-1.9317475469327494},{"$f":"+IF(AF168>0,$F168,\"\")","v":""},{"$f":"+IF(AF168<0,$F168,\"\")","v":1.2921266572198593},null,{"$f":"+AJ160","v":-0.30021828456335037},null,-0.30021828456335037,{"$f":"+AL166+4*AL167+AL168","v":-1.9589849851664565},{"$f":"+IF(AM168>0,$F168,\"\")","v":""},{"$f":"+IF(AM168<0,$F168,\"\")","v":1.2921266572198593},null,{"$f":"+AQ160","v":-0.32572640385813867},null,-0.32572640385813867,{"$f":"+AS166+4*AS167+AS168","v":-2.1254306191191104},{"$f":"+IF(AT168>0,$F168,\"\")","v":""},{"$f":"+IF(AT168<0,$F168,\"\")","v":1.2921266572198593},null,{"$f":"+AX160","v":-0.38497765085007613},null,-0.38497765085007613,{"$f":"+AZ166+4*AZ167+AZ168","v":-2.5120569812622917},{"$f":"+IF(BA168>0,$F168,\"\")","v":""},{"$f":"+IF(BA168<0,$F168,\"\")","v":1.2921266572198593},null,{"$f":"+BE160","v":-0.39575373925404161},null,-0.39575373925404161,{"$f":"+BG166+4*BG167+BG168","v":-2.5823731360990907},{"$f":"+IF(BH168>0,$F168,\"\")","v":""},{"$f":"+IF(BH168<0,$F168,\"\")","v":1.2921266572198593},null,{"$f":"+BL160","v":-0.39770256464649484},null,-0.39770256464649484,{"$f":"+BN166+4*BN167+BN168","v":-2.5950896156702123},{"$f":"+IF(BO168>0,$F168,\"\")","v":""},{"$f":"+IF(BO168<0,$F168,\"\")","v":1.2921266572198593},null,{"$f":"+BS160","v":-0.39799433784620852},null,-0.39799433784620852,{"$f":"+BU166+4*BU167+BU168","v":-2.5969934947698627},{"$f":"+IF(BV168>0,$F168,\"\")","v":""},{"$f":"+IF(BV168<0,$F168,\"\")","v":1.2921266572198593}]
[null,null,null,0.75000000000000011,{"$f":"+E159","v":0.17490926063615897},null,null,{"$f":"+H159","v":-0.14831847777901383},null,-0.14831847777901383,null,null,null,null,{"$f":"+O159","v":-0.21687856644475931},null,-0.21687856644475931,null,null,null,null,{"$f":"+V159","v":-0.24814701983326551},null,-0.24814701983326551,null,null,null,null,{"$f":"+AC159","v":-0.26149180754207563},null,-0.26149180754207563,null,null,null,null,{"$f":"+AJ159","v":-0.26517881466050408},null,-0.26517881466050408,null,null,null,null,{"$f":"+AQ159","v":-0.28770979690446974},null,-0.28770979690446974,null,null,null,null,{"$f":"+AX159","v":-0.34004563470106219},null,-0.34004563470106219,null,null,null,null,{"$f":"+BE159","v":-0.34956401015176658},null,-0.34956401015176658,null,null,null,null,{"$f":"+BL159","v":-0.35128538168082807},null,-0.35128538168082807,null,null,null,null,{"$f":"+BS159","v":-0.35154310106445025},null,-0.35154310106445025]
[null,null,null,0.80000000000000016,{"$f":"+E158","v":0.14712100042061604},{"$f":"+E168+4*E169+E170","v":1.044778983098267},null,{"$f":"+H158","v":-0.12475475999582621},null,-0.12475475999582621,{"$f":"+J168+4*J169+J170","v":-0.88594524855367274},{"$f":"+IF(K170>0,$F170,\"\")","v":""},{"$f":"+IF(K170<0,$F170,\"\")","v":1.044778983098267},null,{"$f":"+O158","v":-0.18242254040233377},null,-0.18242254040233377,{"$f":"+Q168+4*Q169+Q170","v":-1.2954726769859928},{"$f":"+IF(R170>0,$F170,\"\")","v":""},{"$f":"+IF(R170<0,$F170,\"\")","v":1.044778983098267},null,{"$f":"+V158","v":-0.20872329844905452},null,-0.20872329844905452,{"$f":"+X168+4*X169+X170","v":-1.4822473669908598},{"$f":"+IF(Y170>0,$F170,\"\")","v":""},{"$f":"+IF(Y170<0,$F170,\"\")","v":1.044778983098267},null,{"$f":"+AC158","v":-0.21994796723434476},null,-0.21994796723434476,{"$f":"+AE168+4*AE169+AE170","v":-1.561959291227252},{"$f":"+IF(AF170>0,$F170,\"\")","v":""},{"$f":"+IF(AF170<0,$F170,\"\")","v":1.044778983098267},null,{"$f":"+AJ158","v":-0.22304921055244145},null,-0.22304921055244145,{"$f":"+AL168+4*AL169+AL170","v":-1.5839827537578082},{"$f":"+IF(AM170>0,$F170,\"\")","v":""},{"$f":"+IF(AM170<0,$F170,\"\")","v":1.044778983098267},null,{"$f":"+AQ158","v":-0.24200064077480501},null,-0.24200064077480501,{"$f":"+AS168+4*AS169+AS170","v":-1.7185662322508226},{"$f":"+IF(AT170>0,$F170,\"\")","v":""},{"$f":"+IF(AT170<0,$F170,\"\")","v":1.044778983098267},null,{"$f":"+AX158","v":-0.28602175656067791},null,-0.28602175656067791,{"$f":"+AZ168+4*AZ169+AZ170","v":-2.0311819462150029},{"$f":"+IF(BA170>0,$F170,\"\")","v":""},{"$f":"+IF(BA170<0,$F170,\"\")","v":1.044778983098267},null,{"$f":"+BE158","v":-0.2940279245222453},null,-0.2940279245222453,{"$f":"+BG168+4*BG169+BG170","v":-2.0880377043833533},{"$f":"+IF(BH170>0,$F170,\"\")","v":""},{"$f":"+IF(BH170<0,$F170,\"\")","v":1.044778983098267},null,{"$f":"+BL158","v":-0.29547581756421459},null,-0.29547581756421459,{"$f":"+BN168+4*BN169+BN170","v":-2.0983199089340219},{"$f":"+IF(BO170>0,$F170,\"\")","v":""},{"$f":"+IF(BO170<0,$F170,\"\")","v":1.044778983098267},null,{"$f":"+BS158","v":-0.29569259244170465},null,-0.29569259244170465,{"$f":"+BU168+4*BU169+BU170","v":-2.0998593345457142},{"$f":"+IF(BV170>0,$F170,\"\")","v":""},{"$f":"+IF(BV170<0,$F170,\"\")","v":1.044778983098267}]
[null,null,null,0.8500000000000002,{"$f":"+E157","v":0.11503334029218562},null,null,{"$f":"+H157","v":-9.7545263549328229E-2},null,-9.7545263549328229E-2,null,null,null,null,{"$f":"+O157","v":-0.14263547764813908},null,-0.14263547764813908,null,null,null,null,{"$f":"+V157","v":-0.16319993847753206},null,-0.16319993847753206,null,null,null,null,{"$f":"+AC157","v":-0.17197646351715129},null,-0.17197646351715129,null,null,null,null,{"$f":"+AJ157","v":-0.17440131365356656},null,-0.17440131365356656,null,null,null,null,{"$f":"+AQ157","v":-0.18921936352788804},null,-0.18921936352788804,null,null,null,null,{"$f":"+AX157","v":-0.22363930342607008},null,-0.22363930342607008,null,null,null,null,{"$f":"+BE157","v":-0.22989929513987248},null,-0.22989929513987248,null,null,null,null,{"$f":"+BL157","v":-0.23103139710034967},null,-0.23103139710034967,null,null,null,null,{"$f":"+BS157","v":-0.23120089253728809},null,-0.23120089253728809]
[null,null,null,0.90000000000000024,{"$f":"+E156","v":7.9204449703107471E-2},{"$f":"+E170+4*E171+E172","v":0.686458811292466},null,{"$f":"+H156","v":-6.7163301534537548E-2},null,-6.7163301534537548E-2,{"$f":"+J170+4*J171+J172","v":-0.5820991157276767},{"$f":"+IF(K172>0,$F172,\"\")","v":""},{"$f":"+IF(K172<0,$F172,\"\")","v":0.686458811292466},null,{"$f":"+O156","v":-9.8209479847888845E-2},null,-9.8209479847888845E-2,{"$f":"+Q170+4*Q171+Q172","v":-0.85117393084277893},{"$f":"+IF(R172>0,$F172,\"\")","v":""},{"$f":"+IF(R172<0,$F172,\"\")","v":0.686458811292466},null,{"$f":"+V156","v":-0.11236882529761691},null,-0.11236882529761691,{"$f":"+X170+4*X171+X172","v":-0.97389187765679974},{"$f":"+IF(Y172>0,$F172,\"\")","v":""},{"$f":"+IF(Y172<0,$F172,\"\")","v":0.686458811292466},null,{"$f":"+AC156","v":-0.11841176758115768},null,-0.11841176758115768,{"$f":"+AE170+4*AE171+AE172","v":-1.0262655888841077},{"$f":"+IF(AF172>0,$F172,\"\")","v":""},{"$f":"+IF(AF172<0,$F172,\"\")","v":0.686458811292466},null,{"$f":"+AJ156","v":-0.12008136111099388},null,-0.12008136111099388,{"$f":"+AL170+4*AL171+AL172","v":-1.0407358262777016},{"$f":"+IF(AM172>0,$F172,\"\")","v":""},{"$f":"+IF(AM172<0,$F172,\"\")","v":0.686458811292466},null,{"$f":"+AQ156","v":-0.13028410305509233},null,-0.13028410305509233,{"$f":"+AS170+4*AS171+AS172","v":-1.1291621979414495},{"$f":"+IF(AT172>0,$F172,\"\")","v":""},{"$f":"+IF(AT172<0,$F172,\"\")","v":0.686458811292466},null,{"$f":"+AX156","v":-0.15398342702086557},null,-0.15398342702086557,{"$f":"+AZ170+4*AZ171+AZ172","v":-1.3345623972858238},{"$f":"+IF(BA172>0,$F172,\"\")","v":""},{"$f":"+IF(BA172<0,$F172,\"\")","v":0.686458811292466},null,{"$f":"+BE156","v":-0.15829364871466622},null,-0.15829364871466622,{"$f":"+BG170+4*BG171+BG172","v":-1.3719187537964015},{"$f":"+IF(BH172>0,$F172,\"\")","v":""},{"$f":"+IF(BH172<0,$F172,\"\")","v":0.686458811292466},null,{"$f":"+BL156","v":-0.15907314023042721},null,-0.15907314023042721,{"$f":"+BN170+4*BN171+BN172","v":-1.3786745461960406},{"$f":"+IF(BO172>0,$F172,\"\")","v":""},{"$f":"+IF(BO172<0,$F172,\"\")","v":0.686458811292466},null,{"$f":"+BS156","v":-0.15918984372504708},null,-0.15918984372504708,{"$f":"+BU170+4*BU171+BU172","v":-1.3796860063159042},{"$f":"+IF(BV172>0,$F172,\"\")","v":""},{"$f":"+IF(BV172<0,$F172,\"\")","v":0.686458811292466}]
[null,null,null,0.95000000000000029,{"$f":"+E155","v":4.0456810903684283E-2},null,null,{"$f":"+H155","v":-3.4306317385389376E-2},null,-3.4306317385389376E-2,null,null,null,null,{"$f":"+O155","v":-5.0164383062424669E-2},null,-5.0164383062424669E-2,null,null,null,null,{"$f":"+V155","v":-5.7396829768725267E-2},null,-5.7396829768725267E-2,null,null,null,null,{"$f":"+AC155","v":-6.048350197190952E-2},null,-6.048350197190952E-2,null,null,null,null,{"$f":"+AJ155","v":-6.1336313019467972E-2},null,-6.1336313019467972E-2,null,null,null,null,{"$f":"+AQ155","v":-6.6547767717767395E-2},null,-6.6547767717767395E-2,null,null,null,null,{"$f":"+AX155","v":-7.8653136441651395E-2},null,-7.8653136441651395E-2,null,null,null,null,{"$f":"+BE155","v":-8.0854752950227551E-2},null,-8.0854752950227551E-2,null,null,null,null,{"$f":"+BL155","v":-8.125290912670978E-2},null,-8.125290912670978E-2,null,null,null,null,{"$f":"+BS155","v":-8.1312520060581969E-2},null,-8.1312520060581969E-2]
[null,null,null,1.0000000000000002,{"$f":"+E154","v":0},{"$f":"+E172+4*E173+E174","v":0.2410316933178446},null,{"$f":"+H154","v":0},null,0,{"$f":"+J172+4*J173+J174","v":-0.20438857107609504},{"$f":"+IF(K174>0,$F174,\"\")","v":""},{"$f":"+IF(K174<0,$F174,\"\")","v":0.2410316933178446},null,{"$f":"+O154","v":0},null,0,{"$f":"+Q172+4*Q173+Q174","v":-0.29886701209758754},{"$f":"+IF(R174>0,$F174,\"\")","v":""},{"$f":"+IF(R174<0,$F174,\"\")","v":0.2410316933178446},null,{"$f":"+V154","v":0},null,0,{"$f":"+X172+4*X173+X174","v":-0.34195614437251798},{"$f":"+IF(Y174>0,$F174,\"\")","v":""},{"$f":"+IF(Y174<0,$F174,\"\")","v":0.2410316933178446},null,{"$f":"+AC154","v":0},null,0,{"$f":"+AE172+4*AE173+AE174","v":-0.36034577546879576},{"$f":"+IF(AF174>0,$F174,\"\")","v":""},{"$f":"+IF(AF174<0,$F174,\"\")","v":0.2410316933178446},null,{"$f":"+AJ154","v":0},null,0,{"$f":"+AL172+4*AL173+AL174","v":-0.36542661318886577},{"$f":"+IF(AM174>0,$F174,\"\")","v":""},{"$f":"+IF(AM174<0,$F174,\"\")","v":0.2410316933178446},null,{"$f":"+AQ154","v":0},null,0,{"$f":"+AS172+4*AS173+AS174","v":-0.39647517392616194},{"$f":"+IF(AT174>0,$F174,\"\")","v":""},{"$f":"+IF(AT174<0,$F174,\"\")","v":0.2410316933178446},null,{"$f":"+AX154","v":0},null,0,{"$f":"+AZ172+4*AZ173+AZ174","v":-0.46859597278747112},{"$f":"+IF(BA174>0,$F174,\"\")","v":""},{"$f":"+IF(BA174<0,$F174,\"\")","v":0.2410316933178446},null,{"$f":"+BE154","v":0},null,0,{"$f":"+BG172+4*BG173+BG174","v":-0.48171266051557643},{"$f":"+IF(BH174>0,$F174,\"\")","v":""},{"$f":"+IF(BH174<0,$F174,\"\")","v":0.2410316933178446},null,{"$f":"+BL154","v":0},null,0,{"$f":"+BN172+4*BN173+BN174","v":-0.48408477673726635},{"$f":"+IF(BO174>0,$F174,\"\")","v":""},{"$f":"+IF(BO174<0,$F174,\"\")","v":0.2410316933178446},null,{"$f":"+BS154","v":0},null,0,{"$f":"+BU172+4*BU173+BU174","v":-0.48443992396737495},{"$f":"+IF(BV174>0,$F174,\"\")","v":""},{"$f":"+IF(BV174<0,$F174,\"\")","v":0.2410316933178446}]
[null,null,null,null,null,null,null,null,null,null,{"$f":"+SUMIF(K154:K174,\">0\")","v":0},{"$f":"+SUM(L154:L174)","v":0},{"$f":"+SUM(M154:M174)","v":9.3644649914622171},null,null,null,null,{"$f":"+SUMIF(R154:R174,\">0\")","v":0},{"$f":"+SUM(S154:S174)","v":0},{"$f":"+SUM(T154:T174)","v":9.3644649914622171},null,null,null,null,{"$f":"+SUMIF(Y154:Y174,\">0\")","v":0},{"$f":"+SUM(Z154:Z174)","v":0},{"$f":"+SUM(AA154:AA174)","v":9.3644649914622171},null,null,null,null,{"$f":"+SUMIF(AF154:AF174,\">0\")","v":0},{"$f":"+SUM(AG154:AG174)","v":0},{"$f":"+SUM(AH154:AH174)","v":9.3644649914622171},null,null,null,null,{"$f":"+SUMIF(AM154:AM174,\">0\")","v":0},{"$f":"+SUM(AN154:AN174)","v":0},{"$f":"+SUM(AO154:AO174)","v":9.3644649914622171},null,null,null,null,{"$f":"+SUMIF(AT154:AT174,\">0\")","v":0},{"$f":"+SUM(AU154:AU174)","v":0},{"$f":"+SUM(AV154:AV174)","v":9.3644649914622171},null,null,null,null,{"$f":"+SUMIF(BA154:BA174,\">0\")","v":0},{"$f":"+SUM(BB154:BB174)","v":0},{"$f":"+SUM(BC154:BC174)","v":9.3644649914622171},null,null,null,null,{"$f":"+SUMIF(BH154:BH174,\">0\")","v":0},{"$f":"+SUM(BI154:BI174)","v":0},{"$f":"+SUM(BJ154:BJ174)","v":9.3644649914622171},null,null,null,null,{"$f":"+SUMIF(BO154:BO174,\">0\")","v":0},{"$f":"+SUM(BP154:BP174)","v":0},{"$f":"+SUM(BQ154:BQ174)","v":9.3644649914622171},null,null,null,null,{"$f":"+SUMIF(BV154:BV174,\">0\")","v":0},{"$f":"+SUM(BW154:BW174)","v":0},{"$f":"+SUM(BX154:BX174)","v":9.3644649914622171}]
[null,null,null,null,null,null,null,null,null,null,{"$f":"+SUMIF(K154:K174,\"<0\")","v":-7.940821359011621},null,null,null,null,null,null,{"$f":"+SUMIF(R154:R174,\"<0\")","v":-11.611459195949527},null,null,null,null,null,null,{"$f":"+SUMIF(Y154:Y174,\"<0\")","v":-13.285540579798802},null,null,null,null,null,null,{"$f":"+SUMIF(AF154:AF174,\"<0\")","v":-14.000007022931278},null,null,null,null,null,null,{"$f":"+SUMIF(AM154:AM174,\"<0\")","v":-14.197405656704115},null,null,null,null,null,null,{"$f":"+SUMIF(AT154:AT174,\"<0\")","v":-15.403691668545246},null,null,null,null,null,null,{"$f":"+SUMIF(BA154:BA174,\"<0\")","v":-18.205699515714191},null,null,null,null,null,null,{"$f":"+SUMIF(BH154:BH174,\"<0\")","v":-18.715303714825918},null,null,null,null,null,null,{"$f":"+SUMIF(BO154:BO174,\"<0\")","v":-18.807464206286276},null,null,null,null,null,null,{"$f":"+SUMIF(BV154:BV174,\"<0\")","v":-18.821262241546236}]